BEGIN:VCALENDAR
VERSION:2.0
PRODID:-//León Cultural - ECPv5.16.4.1//NONSGML v1.0//EN
CALSCALE:GREGORIAN
METHOD:PUBLISH
X-WR-CALNAME:León Cultural
X-ORIGINAL-URL:https://leoncultural.com
X-WR-CALDESC:Eventos para León Cultural
BEGIN:VTIMEZONE
TZID:Europe/Paris
BEGIN:DAYLIGHT
TZOFFSETFROM:+0100
TZOFFSETTO:+0200
TZNAME:CEST
DTSTART:20230326T010000
END:DAYLIGHT
BEGIN:STANDARD
TZOFFSETFROM:+0200
TZOFFSETTO:+0100
TZNAME:CET
DTSTART:20231029T010000
END:STANDARD
BEGIN:DAYLIGHT
TZOFFSETFROM:+0100
TZOFFSETTO:+0200
TZNAME:CEST
DTSTART:20240331T010000
END:DAYLIGHT
BEGIN:STANDARD
TZOFFSETFROM:+0200
TZOFFSETTO:+0100
TZNAME:CET
DTSTART:20241027T010000
END:STANDARD
END:VTIMEZONE
BEGIN:VEVENT
DTSTART;TZID=Europe/Paris:20231116T193000
DTEND;TZID=Europe/Paris:20240131T170000
DTSTAMP:20260425T134707
CREATED:20231105T152338Z
LAST-MODIFIED:20231118T150505Z
UID:49176-1700163000-1706720400@leoncultural.com
SUMMARY:Los Reyes Leoneses. Exposición de acuarela de Carlos Saldaña. Galería Cinabrio
DESCRIPTION:Los Reyes Leoneses.\nExposición de acuarela de Carlos Saldaña.\nGalería Cinabrio\n16 noviembre 2023\, 19:30 h\nHasta el 31 de enero de 2024\nHorario:\nLunes – viernes: 17 a 20 h\nSábados: 11 a 13 h
URL:https://leoncultural.com/evento/los-reyes-leoneses-exposicion-de-acuarela-de-carlos-saldana-galeria-cinabrio/
LOCATION:Galería de arte Cinabrio\, Gran Capitán\, 11\, bajo\, León\, León\, 24010\, España
CATEGORIES:Exposiciones,Pintura,Presentaciones
ATTACH;FMTTYPE=image/jpeg:https://leoncultural.com/wp-content/uploads/2023/11/Los-Reyes-Leoneses.-Exposicion-de-acuarela-de-Carlos-Saldana.-Galeria-Cinabrio.jpg
END:VEVENT
END:VCALENDAR