BEGIN:VCALENDAR
VERSION:2.0
PRODID:-//León Cultural - ECPv5.16.4.1//NONSGML v1.0//EN
CALSCALE:GREGORIAN
METHOD:PUBLISH
X-WR-CALNAME:León Cultural
X-ORIGINAL-URL:https://leoncultural.com
X-WR-CALDESC:Eventos para León Cultural
BEGIN:VTIMEZONE
TZID:Europe/Paris
BEGIN:DAYLIGHT
TZOFFSETFROM:+0100
TZOFFSETTO:+0200
TZNAME:CEST
DTSTART:20260329T010000
END:DAYLIGHT
BEGIN:STANDARD
TZOFFSETFROM:+0200
TZOFFSETTO:+0100
TZNAME:CET
DTSTART:20261025T010000
END:STANDARD
END:VTIMEZONE
BEGIN:VEVENT
DTSTART;TZID=Europe/Paris:20260423T220000
DTEND;TZID=Europe/Paris:20260423T233000
DTSTAMP:20260422T135436
CREATED:20240925T051350Z
LAST-MODIFIED:20260421T171706Z
UID:53668-1776981600-1776987000@leoncultural.com
SUMMARY:Jam Session. Black Bourbon
DESCRIPTION:Jam Session.\nBlack Bourbon\nTodos los jueves a las 22 h\nApertura 21:00h\nInicio 22:00h\nEntrada Gratuita\nConsumición mínima obligatoria \nDesde 2017 cada jueves uno de los planes favoritos en la ciudad de León son las Jam Session de la sala Black Bourbon. \nPonemos a disposición de quien quiera participar: batería\, bajo\, guitarra\, teclado y dos micros para cantar (y las letras de las canciones de nuestra lista).\nPuedes participar con quien quieras o subir y compartir escenario con nuestra banda residente\, ¡te aseguramos que quien prueba repite! \nTambién\, los melómanos amantes de la música en directo podrán disfrutar de un evento con entrada gratuita donde se juntan los estilos blues\, soul\, pop\, rock\, funky e incluso metal\, y la improvisación es el hilo conductor del evento unidos a la diversión y el buen rollo. \nComo se suele decir… ¡Que no te lo cuenten! 🎶
URL:https://leoncultural.com/evento/jam-session-black-bourbon-3/
LOCATION:Black Bourbon\, Puerta del sol 8\, León\, León\, 24003\, Spain
CATEGORIES:Conciertos,Música
ATTACH;FMTTYPE=image/jpeg:https://leoncultural.com/wp-content/uploads/2024/09/Jam-Session.-Black-Bourbon.jpg
END:VEVENT
END:VCALENDAR