BEGIN:VCALENDAR
VERSION:2.0
PRODID:-//León Cultural - ECPv5.16.4.1//NONSGML v1.0//EN
CALSCALE:GREGORIAN
METHOD:PUBLISH
X-WR-CALNAME:León Cultural
X-ORIGINAL-URL:https://leoncultural.com
X-WR-CALDESC:Eventos para León Cultural
BEGIN:VTIMEZONE
TZID:Europe/Paris
BEGIN:DAYLIGHT
TZOFFSETFROM:+0100
TZOFFSETTO:+0200
TZNAME:CEST
DTSTART:20260329T010000
END:DAYLIGHT
BEGIN:STANDARD
TZOFFSETFROM:+0200
TZOFFSETTO:+0100
TZNAME:CET
DTSTART:20261025T010000
END:STANDARD
END:VTIMEZONE
BEGIN:VEVENT
DTSTART;TZID=Europe/Paris:20260305T213000
DTEND;TZID=Europe/Paris:20260305T230000
DTSTAMP:20260424T103158
CREATED:20260304T073633Z
LAST-MODIFIED:20260304T073633Z
UID:58671-1772746200-1772751600@leoncultural.com
SUMMARY:SANTIAGO & THE SOULMOVERS. El Gran Café
DESCRIPTION:SANTIAGO & THE SOULMOVERS.\nEl Gran Café\nJueves 5 de marzo\, 21:30 h\n \nPUERTAS 21:00H / CONCIERTO 21:30H\nENTRADA ANTICIPADA 10€ EN TAQUILLA 12€\nA la venta en Discos Lizard\, El Gran Café y en Entradium.com\nhttps://entradium.com/es/events/santiago-the-soulmovers\n\nSantiago & The Soulmovers desembarca en España con una gira de tres fechas en Marzo que promete ser una de las propuestas más electrizantes de la escena blues. Banda liderada por el guitarrista y cantante Santigo Periotti. Argentino afincado en Londres se suma a esa interminable lista de guitarristas que revitalizan el mejor blues contemporáneo. En Argentina alcanzó una notable popularidad con su primera banda\, con la que editó tres discos y recorrió innumerables escenarios del país. En 2014 dio un paso clave al unirse a Mo’Blues\, con quienes grabó y giró por Latinoamérica.\nTras tres años intensos\, Santiago emprendió su camino en solitario\, publicando dos álbumes de blues que lo llevaron a tocar en Australia\, Nueva Zelanda\, Italia\, México\, Ecuador y Brasil. Esa proyección internacional lo terminó asentando en Londres\, donde comenzó a moldear un sonido propio\, más ambicioso y sofisticado. Desde su debut discográfico en 2006\, la trayectoria en diferentes proyectos no ha dejado de crecer\, sumando ocho discos hasta 2019 y preparando lo que será su próxima entrega. \nEn 2021 inició una nueva etapa creativa dando como resultado es un material aún inédito bajo el nombre de “Santiago & The Soulmovers”\, donde el blues rock eléctrico se fusiona con el soul y sutiles vibras de Nashville\, aportando frescura sin perder la crudeza de las raíces. Lejos de quedarse en la nostalgia\, la banda ha logrado convertir las influencias de bandas legendarias en combustible para un directo vibrante y actual. Junto a Santiago les acompañan Juan Gasco a la batería y Robin Thunders al bajo. La gira española será una oportunidad perfecta para comprobar en las distancias cortas incendiarios riffs de guitarra\, solos con alma y el balanceo rítmico desde las primeras notas. Apunta bien las fechas!!! \nSANTIAGO & THE SOULMOVERS ESPAÑA 2026
URL:https://leoncultural.com/evento/santiago-the-soulmovers-el-gran-cafe/
LOCATION:El Gran Café\, Calle Cervantes\, 7\, León\, León\, 24003\, España
CATEGORIES:Conciertos,Música
ATTACH;FMTTYPE=image/webp:https://leoncultural.com/wp-content/uploads/2026/03/SANTIAGO-THE-SOULMOVERS.0AEl-Gran-Cafe.webp
END:VEVENT
END:VCALENDAR