BEGIN:VCALENDAR
VERSION:2.0
PRODID:-//León Cultural - ECPv5.16.4.1//NONSGML v1.0//EN
CALSCALE:GREGORIAN
METHOD:PUBLISH
X-WR-CALNAME:León Cultural
X-ORIGINAL-URL:https://leoncultural.com
X-WR-CALDESC:Eventos para León Cultural
BEGIN:VTIMEZONE
TZID:Europe/Paris
BEGIN:DAYLIGHT
TZOFFSETFROM:+0100
TZOFFSETTO:+0200
TZNAME:CEST
DTSTART:20250330T010000
END:DAYLIGHT
BEGIN:STANDARD
TZOFFSETFROM:+0200
TZOFFSETTO:+0100
TZNAME:CET
DTSTART:20251026T010000
END:STANDARD
END:VTIMEZONE
BEGIN:VEVENT
DTSTART;TZID=Europe/Paris:20250720T100000
DTEND;TZID=Europe/Paris:20250720T233000
DTSTAMP:20260422T134741
CREATED:20250614T090816Z
LAST-MODIFIED:20250720T074944Z
UID:56763-1753005600-1753054200@leoncultural.com
SUMMARY:Planeta Sound 2025. Ponferrada
DESCRIPTION:Planeta Sound 2025.\nPonferrada\n18\, 19 y 20 de junio de 2025\nMIKEL IZAL\nSHINOVA\nDUNCAN DHU\nZAHARA\nNIL MOLINER\nBESMAYA\nBARRY B\nCARLOS ARES\nMELIFLUO\nANABEL LEE\nNEVERLAND BARI\nVANCOURA\nCOMETA\nGARA DURAN\nTHE SIRIUS\nDRIDRI DJ\nMEDIOCRE DJ\nMR:KITOS\nDJ HAWKINS\nDJS
URL:https://leoncultural.com/evento/planeta-sound-2025-ponferrada/
LOCATION:Ponferrada\, Ponferrada\, León\, España
CATEGORIES:Conciertos,Música
ATTACH;FMTTYPE=image/webp:https://leoncultural.com/wp-content/uploads/2025/06/Planeta-Sound-2025.0APonferrada.webp
END:VEVENT
END:VCALENDAR