BEGIN:VCALENDAR
VERSION:2.0
PRODID:-//León Cultural - ECPv5.16.4.1//NONSGML v1.0//EN
CALSCALE:GREGORIAN
METHOD:PUBLISH
X-WR-CALNAME:León Cultural
X-ORIGINAL-URL:https://leoncultural.com
X-WR-CALDESC:Eventos para León Cultural
BEGIN:VTIMEZONE
TZID:Europe/Paris
BEGIN:DAYLIGHT
TZOFFSETFROM:+0100
TZOFFSETTO:+0200
TZNAME:CEST
DTSTART:20190331T010000
END:DAYLIGHT
BEGIN:STANDARD
TZOFFSETFROM:+0200
TZOFFSETTO:+0100
TZNAME:CET
DTSTART:20191027T010000
END:STANDARD
END:VTIMEZONE
BEGIN:VEVENT
DTSTART;TZID=Europe/Paris:20190201T220000
DTEND;TZID=Europe/Paris:20190201T233000
DTSTAMP:20260424T103304
CREATED:20181223T173233Z
LAST-MODIFIED:20181223T173233Z
UID:24747-1549058400-1549063800@leoncultural.com
SUMMARY:Carmen Boza en concierto. El Gran Café León
DESCRIPTION:Carmen Boza en concierto. El Gran Café León\nViernes\, 1 de febrero de 2019 a las  22:00h \nCarmen Boza vuelve a El Gran Cafe a presentar su nuevo disco «La Caja Negra» el Viernes 1 de Febrero. \nDescubre “La caja negra”\, el nuevo trabajo de larga duración de Carmen Boza. La compositora\, guitarrista y cantante también es la responsable de la producción de este segundo disco compuesto por 9 canciones inéditas que no dejan indiferente a nadie.\nLa andaluza se recorrerá toda España desgranando sus dos discos y haciendo sonar su guitarra en cada rincón del país. \nApertura puertas 21:30h.\nConcierto 22:00h. \nEntradas anticipada 15€ en Taquilla 18€\, ya a la venta en Wegow.
URL:https://leoncultural.com/evento/carmen-boza-en-concierto-el-gran-cafe-leon/
LOCATION:El Gran Café\, Calle Cervantes\, 7\, León\, León\, 24003\, España
CATEGORIES:Conciertos,Música
ATTACH;FMTTYPE=image/jpeg:https://leoncultural.com/wp-content/uploads/2018/12/carmen-boza-el-gran-cafe.jpg
END:VEVENT
END:VCALENDAR