BEGIN:VCALENDAR
VERSION:2.0
PRODID:-//León Cultural - ECPv5.16.4.1//NONSGML v1.0//EN
CALSCALE:GREGORIAN
METHOD:PUBLISH
X-WR-CALNAME:León Cultural
X-ORIGINAL-URL:https://leoncultural.com
X-WR-CALDESC:Eventos para León Cultural
BEGIN:VTIMEZONE
TZID:Europe/Paris
BEGIN:DAYLIGHT
TZOFFSETFROM:+0100
TZOFFSETTO:+0200
TZNAME:CEST
DTSTART:20190331T010000
END:DAYLIGHT
BEGIN:STANDARD
TZOFFSETFROM:+0200
TZOFFSETTO:+0100
TZNAME:CET
DTSTART:20191027T010000
END:STANDARD
END:VTIMEZONE
BEGIN:VEVENT
DTSTART;TZID=Europe/Paris:20190120T200000
DTEND;TZID=Europe/Paris:20190120T213000
DTSTAMP:20260422T164145
CREATED:20190120T055658Z
LAST-MODIFIED:20190120T055658Z
UID:25280-1548014400-1548019800@leoncultural.com
SUMMARY:Pablo Gavilanes Almeida\, piano. Sala Eutherpe
DESCRIPTION:Pablo Gavilanes Almeida\, piano. Sala Eutherpe\n20 de enero de 2019 a las 20:00 horas \nPROGRAMA\nC.Debussy: Nueve Preludios:\nBrouillards/ Voiles: Modéré/ Ondine/\nLa sérénade interrompue : Modérément animé /\nGénéral Lavine – excentrique/\nLa fille aux cheveux de lin: Très calme et doucement expressif /\nCe qu´a vu le vent d´ouest : Animé et tumultueux /\nLa cathédrale engloutie : Profondément calme/\n—– SEGUNDA PARTE —–\nF.Chopin: Mazurka op. 67\, n. 4\nScherzo n.1 en si menor\, op. 20\nLuis María Gavilanes del Castillo: «Tríptico Ecuatoriano»:\nPasilleando\nFlauta Indiana (Yaraví)\nPasillo Caprichoso \n\nPianista concertista-pedagogo y uno de los máximos referentes pianísticos latinoamericanos de su generación\, destacándose por su amplio repertorio que le ha posibilitado ejecutar en público obras capitales de la literatura para teclado y música de cámara\, como la Integral de los Preludios de C. Debussy\, Distinguido por la crítica especializada por su expresividad y talento\, Gavilanes es reconocido por la profundidad de sus interpretaciones..\nJuan Pablo desarrolla su carrera musical entre Europa y América en importantes escenarios como la «Salle d´honneur du Maire de París»; Fundación Eutherpe\, España; Festival Internacional Musical «Concerti il Tempietto»\, Roma; Musikschule Muri-Gumligen\, Suiza; «Palacio de Linares»\, Madrid; «Palacio Foz»\, Lisboa; Teatro del «Ateneo Mercantil de Valencia»\, España; Auditorio «Casa de la Música»\, Quito; Auditorio del Centro Sefarad-Israel\, Madrid; Auditorio de «Musikeon» (Centro de Especialización Pianística)\, Valencia\, España; «Conciertos de la Encina»\, Madrid; Auditorios del Conservatorio «Moreno Torroba» y «Amaniel» de Madrid\, entre otros. El pianista se encuentra\, además\, en medio de una gira que incluye recitales por España\, Italia\, Austria\, Rusia y Reino Unido.\nGavilanes Almeida proviene de una familia de músicos\, compositores y escritores ecuatorianos que se extiende a cuatro generaciones\, iniciándose en la música de la mano de su padre. Promoviendo las composiciones de su abuelo Luis María Gavilanes Díaz y de su padre Luis María Gavilanes del Castillo con su «Tríptico Ecuatoriano»\, ha difundido su música en el exterior. Mantiene una intensa actividad como solista\, músico de cámara y director musical de teatro con orquestas sinfónicas y en importantes festivales internacionales de música. Laureado en concursos de piano y música de cámara\, residió durante doce años en Argentina.\, donde se presentó en importantes salas como el Auditorio «El Aleph»\, «Salón de los Pasos Perdidos» del Congreso de la Nación\, Auditorio de la Cancillería de la Nación\, Auditorio de la Universidad Nacional de las Artes\, Auditorio «Aguaribay» y «Espacio Cultural Universitario» de Rosario\, entre otros. Realizó sus estudios en la Universidad Nacional de la Artes (UNA) y Universidad Nacional de Lanús (Unla)\, Buenos Aires. Fueron algunos de sus maestros\, Celia Zaldumbide\, Aliona Dziouba\, Aldo Antognazzi\, Alfredo Corral y Rafael Gintoli\, culminando sus estudios con especialización en Música de Cámara y consagrando su vida al concertismo y a la pedagogía\, siendo esta última una actividad que desempeña con suma responsabilidad y vocación por lo que es frecuentemente requerido por jóvenes pianistas e invitado a brindar clases magistrales en diversas instituciones educativas de su país y del exterior. Juan Pablo Gavilanes Almeida ha sido condecorado con el título honorífico de «Representante Cultural del Estado» por el Ministerio de Cultura y Patrimonio del Ecuador. \nFundación Eutherpe-León (España) \n\n 
URL:https://leoncultural.com/evento/pablo-gavilanes-almeida-piano-sala-eutherpe/
LOCATION:Sala EUTHERPE\, Alfonso V\, 10\, León\, León\, 24001\, España
CATEGORIES:Conciertos,Música
ATTACH;FMTTYPE=image/jpeg:https://leoncultural.com/wp-content/uploads/2019/01/Pablo-gavilanes-eutherpe.jpg
END:VEVENT
END:VCALENDAR