BEGIN:VCALENDAR
VERSION:2.0
PRODID:-//León Cultural - ECPv5.16.4.1//NONSGML v1.0//EN
CALSCALE:GREGORIAN
METHOD:PUBLISH
X-WR-CALNAME:León Cultural
X-ORIGINAL-URL:https://leoncultural.com
X-WR-CALDESC:Eventos para León Cultural
BEGIN:VTIMEZONE
TZID:Europe/Paris
BEGIN:DAYLIGHT
TZOFFSETFROM:+0100
TZOFFSETTO:+0200
TZNAME:CEST
DTSTART:20190331T010000
END:DAYLIGHT
BEGIN:STANDARD
TZOFFSETFROM:+0200
TZOFFSETTO:+0100
TZNAME:CET
DTSTART:20191027T010000
END:STANDARD
END:VTIMEZONE
BEGIN:VEVENT
DTSTART;TZID=Europe/Paris:20190112T203000
DTEND;TZID=Europe/Paris:20190112T220000
DTSTAMP:20260424T191051
CREATED:20190107T063107Z
LAST-MODIFIED:20190107T063107Z
UID:25018-1547325000-1547330400@leoncultural.com
SUMMARY:Francisco\, Concierto Íntimo Grandes Éxitos en el Auditorio
DESCRIPTION:Francisco\, Concierto Íntimo Grandes Éxitos en el Auditorio\n12 de enero de 2019 a las 20:30 horas \n‘FRANCISCO. CONCIERTO ÍNTIMO GRANDES ÉXITOS’\nAuditorio Ciudad de León\nFECHA: 12 de enero de 2019\nHORA: 20.30h\nPRECIO: 25\,00 € Platea y 20\,00 € Anfiteatro\nPUNTOS DE VENTA:\n–       Taquillas del Auditorio de L a V de 16:00 a 20:30h\n–       www.auditorioleon.es/ venta de localidades\n–       www.aytoleon.es\n\nTEXTO:\nConciertos ‘Francisco’ el día 12 de enero de 2019\, a las 20.30h. 25\,00 € Platea y 20\,00 € Anfiteatro.\nFrancisco presenta sus grandes éxitos en un concierto íntimo. Un recorrido de 35 años de canciones. El ganador del festival de la OTI en dos ocasiones\, llega a León con un repertorio de éxitos\, como ‘Latino’ o ‘A dónde voy sin ti’\, y con grandes obras como ‘O sole mío’\, ‘Granada’ o ‘A mi manera’. Sin duda es una de las grandes voces de la música de nuestro país\, que durante 5 años recorrió\, junto a Montserrat Caballé\, los más importantes teatros de todo el mundo participando en Galas de operísticas.
URL:https://leoncultural.com/evento/francisco-concierto-intimo-grandes-exitos-en-el-auditorio/
LOCATION:Auditorio Ciudad de León\, Av. de los Reyes Leoneses\, 4\, 24008 León\, León\, León\, 24008\, España
CATEGORIES:Conciertos,Música
ATTACH;FMTTYPE=image/jpeg:https://leoncultural.com/wp-content/uploads/2019/01/FRANCISCO-auditorio-ciudad-de-leon.jpg
END:VEVENT
END:VCALENDAR