BEGIN:VCALENDAR
VERSION:2.0
PRODID:-//León Cultural - ECPv5.16.4.1//NONSGML v1.0//EN
CALSCALE:GREGORIAN
METHOD:PUBLISH
X-WR-CALNAME:León Cultural
X-ORIGINAL-URL:https://leoncultural.com
X-WR-CALDESC:Eventos para León Cultural
BEGIN:VTIMEZONE
TZID:Europe/Paris
BEGIN:DAYLIGHT
TZOFFSETFROM:+0100
TZOFFSETTO:+0200
TZNAME:CEST
DTSTART:20190331T010000
END:DAYLIGHT
BEGIN:STANDARD
TZOFFSETFROM:+0200
TZOFFSETTO:+0100
TZNAME:CET
DTSTART:20191027T010000
END:STANDARD
END:VTIMEZONE
BEGIN:VEVENT
DTSTART;TZID=Europe/Paris:20190111T200000
DTEND;TZID=Europe/Paris:20190111T213000
DTSTAMP:20260422T134745
CREATED:20190111T083808Z
LAST-MODIFIED:20190111T083808Z
UID:25081-1547236800-1547242200@leoncultural.com
SUMMARY:Concierto Mateo Barbagelata Alonso (piano). Sala Eutherpe
DESCRIPTION:Concierto Mateo Barbagelata Alonso (piano). Sala Eutherpe\nC/ Alfonso V nº 10\n11 de enero de 2019 a las 20:00 horas \nPROGRAMA\n1ª PARTE\nMozart: Fantasía en Do m Kv 475\nJanaceck: Sonata para piano 1.X.1905: Předtucha «Presentimiento» – Con moto Smrt «Muerte» – Adagio\nF. Chopin: Sonata nº2 en Si bemol menor opus 35: Grave – I.Doppio movimento. II.Scherzo. III.Marcha fúnebre. Lento. IV.Finale. Presto.\nI.Albéniz :El Albaicín \n\nMateo Barbagelata Alonso\, pianista nacido en Madrid en 1990. Comienza su carrera musical en el conservatorio musical Katarina Gurska de Madrid.\nRealiza sus estudios musicales superiores en Musikene bajo la tutela de Gustavo Díaz Jerez. Ha realizado un master en interpretación solista con el maestro Yuri Ananiev y actualmente se encuentra en Holanda finalizando su segundo master en ArteZ Conservatorium con Frank van der Laar.\nHa recibido masterclases de maestros como Claudio Martínez-Menher\, Alexander Kandelaki\, Marta Zabaleta\, Andrey Yaroshinsky\, Eldar Nebolsin y Naum Grubert entre otros. Ha formado parte activa en cursos internacionales como «Curso Internacional de Torrelodones» y «Nueva Generación Musical Katarina Gurska». En música de cámara estudió dos años con la pianista Benedicte Palko y ha recibido master clases de Maria Milstein\, Gideon den Herder (miembros del trio Baerler) Sarah Kapustin y Karlien Bartels. Ha actuado en el Circulo Catalán de Madrid\, en el centro cultural San Juan Bautista\, ha participado en el festival Música-Musika celebrado en el teatro Euskalduna de Bilbao y en el XIV Festival de Mujeres en la Música en Getxo. En Holanda ha actuado en múltiples salas de diferentes ciudades como Hengelo\, Enschede\, Zwolle y Doesburg entre otras. Como solista debutó con el Concierto Nº2 de Chopin con la orquesta CSKG bajo la dirección de Borja Quintas en el teatro Galileo de Madrid.
URL:https://leoncultural.com/evento/concierto-mateo-barbagelata-alonso-piano-sala-eutherpe/
LOCATION:Sala EUTHERPE\, Alfonso V\, 10\, León\, León\, 24001\, España
CATEGORIES:Conciertos,Música
ATTACH;FMTTYPE=image/jpeg:https://leoncultural.com/wp-content/uploads/2019/01/Mateo-Barbagelata-Alonso-eutherpe.jpg
END:VEVENT
BEGIN:VEVENT
DTSTART;TZID=Europe/Paris:20190111T210000
DTEND;TZID=Europe/Paris:20190111T223000
DTSTAMP:20260422T134745
CREATED:20190103T220009Z
LAST-MODIFIED:20190110T061409Z
UID:24968-1547240400-1547245800@leoncultural.com
SUMMARY:Cosmopolitan Café. Desvariétés Orquestina (EEUU-Hungría) en el teatro San Francisco
DESCRIPTION:Cosmopolitan Café. Desvariétés Orquestina (EEUU-Hungría) en el teatro San Francisco\nViernes 11 de enero a las 21:00 horas\nDesvariétés Orquestina lleva más de una década interpretando música que evoca toda la alegría\, el glamour\, la ternura y la excentricidad de la Belle Époque y los primeros años del siglo XX. Su repertorio abarca desde el klezmer del cabaret alemán y el music hall americano hasta el café-concert francés y el cuplé español\, incluyendo muchos de los principales estilos del período: foxtrot\, charleston\, vals\, ragtime\, dixie y pasodoble. Está formada por una inusual combinación de instrumentos y un dúo internacional de artistas que recrean una auténtica estética de época: Scott A. Singer (Acordeón; California\, EEUU) y Andrea Szamek (Violín clásico\, violín-trompeta; Pécs\, Hungría). \nPRECIO 12 EUROS\nVENTA DE ENTRADAS: DOS HORAS ANTES DE LA FUNCIÓN EN EL TEATRO.\nVENTA ANTICIPADA. BETTY POP (C/ JUAN MADRAZO\, 14; BAJO. LEÓN)\, MACI 3 (C/ AZABACHERÍA\, 16. LEÓN) Y EN WWW.VAYAENTRADAS.COM
URL:https://leoncultural.com/evento/cosmopolitan-cafe-desvarietes-orquestina-eeuu-hungria-en-el-teatro-san-francisco/
LOCATION:Teatro San Francisco\, Calle Corredera\, 1  \,  León\, León\, 24003\, España
CATEGORIES:Conciertos,Música
ATTACH;FMTTYPE=image/jpeg:https://leoncultural.com/wp-content/uploads/2019/01/Desvarietes-Orquestina.jpg
END:VEVENT
END:VCALENDAR