BEGIN:VCALENDAR
VERSION:2.0
PRODID:-//León Cultural - ECPv5.16.4.1//NONSGML v1.0//EN
CALSCALE:GREGORIAN
METHOD:PUBLISH
X-WR-CALNAME:León Cultural
X-ORIGINAL-URL:https://leoncultural.com
X-WR-CALDESC:Eventos para León Cultural
BEGIN:VTIMEZONE
TZID:Europe/Paris
BEGIN:DAYLIGHT
TZOFFSETFROM:+0100
TZOFFSETTO:+0200
TZNAME:CEST
DTSTART:20180325T010000
END:DAYLIGHT
BEGIN:STANDARD
TZOFFSETFROM:+0200
TZOFFSETTO:+0100
TZNAME:CET
DTSTART:20181028T010000
END:STANDARD
END:VTIMEZONE
BEGIN:VEVENT
DTSTART;TZID=Europe/Paris:20181215T200000
DTEND;TZID=Europe/Paris:20181215T213000
DTSTAMP:20260420T105028
CREATED:20181211T104748Z
LAST-MODIFIED:20181211T104748Z
UID:24388-1544904000-1544909400@leoncultural.com
SUMMARY:Quinteto de viento: Eria Ensemble. Sala Eutherpe. León
DESCRIPTION:Quinteto de viento: Eria Ensemble. Sala Eutherpe. León\n15 de diciembre de 2018 a las 20:00 horas \n\nPROGRAMA\n1ª PARTE\nJerónimo Giménez:\nBoda de Luis Alonso\nGeorges Bizet:\nCarmen\nSotullo y Vert:\nLeyenda del Beso \n2ª PARTE\nPaquito de Rivera:\nAires tropicales\nJerónimo Giménez:\nBaile de Luis Alonso \nQuinteto de Viento: ERIA ENSEMBLE \nSara Pérez Aparici-flauta travesera\nAlicia Bris Moreno-oboe\nJorge Galán Corral-fagot\nVerónica Nieto Rodriguez-trompa\nEulogio Sanchís Ayelo-clarinete \nEsta agrupación está formada por jóvenes intérpretes con una amplia experiencia como instrumentistas. Por ello\, el resultado sonoro de la formación se caracteriza por su frescura y energía\, así como por su gran calidad artística. \nSu objetivo es acercar la música clásica a todo tipo de públicos de una forma entrañable y ligera realizando conciertos atractivos para el oyente. Del mismo modo\, la participación en diferentes acontecimientos musicales para poder dar a conocer su proyecto y adquirir nuevos conocimientos de los músicos y agrupaciones con los que compartan experiencias y escenario. \nLa agrupación nace con la ilusión y las ganas de estos cinco músicos de hacer música de calidad y de tocar dentro de una sonoridad diferente a la de la orquesta. Los cinco pertenecen a la Orquesta 1770\, donde surge la idea de seguir tocando juntos en un formato más reducido. \nSu repertorio está conformado por obras que\, a pesar de entrar en el marco de lo que se conoce como música clásica\, se corresponden con diferentes estilos y periodos musicales. La mayoría de éste es música escrita originalmente para esta agrupación\, sin embargo también interpretan arreglos y adaptaciones de otras obras compuestas para otro tipo de formaciones. \nTienen como objetivo la interpretación de música de calidad de manera exigente y crítica\, respetando cada lenguaje\, época y compositor\, así como contribuir a la difusión de la cultura musical\, en toda su variedad y estilos\, y por supuesto disfrutar de las múltiples posibilidades que ofrece esta formación.
URL:https://leoncultural.com/evento/quinteto-de-viento-eria-ensemble-sala-eutherpe-leon/
LOCATION:Sala EUTHERPE\, Alfonso V\, 10\, León\, León\, 24001\, España
CATEGORIES:Conciertos,Música
ATTACH;FMTTYPE=image/jpeg:https://leoncultural.com/wp-content/uploads/2018/12/Quinteto-de-viento-Eria-Ensemble.-Sala-Eutherpe.jpg
END:VEVENT
BEGIN:VEVENT
DTSTART;TZID=Europe/Paris:20181215T214500
DTEND;TZID=Europe/Paris:20181215T233000
DTSTAMP:20260420T105028
CREATED:20181204T103903Z
LAST-MODIFIED:20181204T103903Z
UID:24172-1544910300-1544916600@leoncultural.com
SUMMARY:Vinila Von Bismark: concierto en Espacio Vías. León
DESCRIPTION:Vinila Von Bismark: concierto en Espacio Vías. León\nSábado 15 de diciembre a las 21:45 horas. \nEntradas a la venta en La Mona\, Virado studio\, El Gran Café y Eventbrite.\nAnticipada 12€ Taquilla 15€.\n\n\n\n\n\nEn 2018\, tras culminar su etapa en The Hole y pasar un tiempo alejada de los escenarios\, la polifacética Vinila Von Bismark irrumpe con fuerza para presentarnos su tercer trabajo\, «Motel Llamado Mentira»\, editado a través de su propio sello\, Cachucha Records\, y que supone una ruptura con su faceta años 50 para volver a sus raíces y dejarnos ver su Yo más profundo. \nEn este nuevo álbum conviven sonidos que nacen de su raíz andaluza como el flamenco o de su pasado más rockero\, a los que suma ritmos urbanos e influencias de músicas latinoamericanas como la cumbia o la chicha. Diez cortes llenos de actitud en los que descubrir a la Vinila más auténtica\, acompañada de grandes voces como Lamari (Chambao)\, Juanito Makandé\, El Canijo de Jerez\, Dellafuente\, Ms. Nina\, Alex O’Dogherty\, Víctor Massán o el maestro guitarrista Víctor Iniesta. \nTras su exitosa presentación en México\, Vinila ha recorrido algunos de los principales festivales patrios durante la primavera y el verano. Recientemente ha presentado su espectáculo en el Festival Ciudad Emergente de Buenos Aires\, y muy pronto lo hará en el Circulart de Medellín.
URL:https://leoncultural.com/evento/vinila-von-bismark-concierto-en-espacio-vias-leon/
LOCATION:Espacio VIAS\, Av del Padre Isla\, 48\, León\, León\, 24008 \, España
CATEGORIES:Conciertos,Música
ATTACH;FMTTYPE=image/jpeg:https://leoncultural.com/wp-content/uploads/2018/12/Vinila-Von-Bismark-espacio-vias-leon.jpg
END:VEVENT
END:VCALENDAR