BEGIN:VCALENDAR
VERSION:2.0
PRODID:-//León Cultural - ECPv5.16.4.1//NONSGML v1.0//EN
CALSCALE:GREGORIAN
METHOD:PUBLISH
X-WR-CALNAME:León Cultural
X-ORIGINAL-URL:https://leoncultural.com
X-WR-CALDESC:Eventos para León Cultural
BEGIN:VTIMEZONE
TZID:Europe/Paris
BEGIN:DAYLIGHT
TZOFFSETFROM:+0100
TZOFFSETTO:+0200
TZNAME:CEST
DTSTART:20180325T010000
END:DAYLIGHT
BEGIN:STANDARD
TZOFFSETFROM:+0200
TZOFFSETTO:+0100
TZNAME:CET
DTSTART:20181028T010000
END:STANDARD
END:VTIMEZONE
BEGIN:VEVENT
DTSTART;TZID=Europe/Paris:20181210T190000
DTEND;TZID=Europe/Paris:20181210T203000
DTSTAMP:20260422T162523
CREATED:20181122T152400Z
LAST-MODIFIED:20181209T140015Z
UID:23801-1544468400-1544473800@leoncultural.com
SUMMARY:Encuentro literario-musical. Escritor@s por Ciudad Juárez. Salón de actos. Ayuntamiento de León
DESCRIPTION:Encuentro literario-musical. Escritor@s por Ciudad Juárez.\nSalón de actos. Ayuntamiento de León\n10 de diciembre de 2018 a las 19:00 horas \nCon los escritores:  Aarón A. Alonso\, Marcos Castro\, Marina Díez\, Cristina Flantains\, Marta García Gª\, Mercedes G. Rojo\, Delfín Nava\, Fernando C\, Pérez Álvarez\, Felicitas Rebaque\, Néstor Rojas\, José Antonio Vallejo\, Nuria Viuda. \nCantautora: Isamil9\nCoordinan: Mercedes G. Rojo y Nuria Viuda\n\n\nSEGUNDO ENCUENTRO DE ESCRITORES POR CIUDAD JUÁREZ EN LEÓN.  \nVoces literarias para denunciar la violación sistemática de los Derechos Humanos en las diferentes partes del mundo.  \nHoy\, 10 de diciembre\, se conmemora a nivel internacional el Día Mundial de los Derechos Humanos\, un día que -tristemente y a la vista de los distintos acontecimientos que se vienen produciendo en todas las partes del mundo- sigue siendo más necesario que nunca. \nY es precisamente esta fecha la que definitivamente escogió hace ya un tiempo el movimiento conocido por Escritores por Ciudad Juárez para alzar la voz de este colectivo\, simultáneamente\, en distintas ciudades del mundo\, contra la barbarie y la injusticia social; un movimiento que comenzó  en dicha ciudad como denuncia de los feminicidios que de manera sistemática venían produciéndose en la misma (y a la que se unieron de forma solidaria otros colectivos por todo el mundo) y que acabó instaurándose como un grito de denuncia contra cualquier tipo de violación de los Derechos Humanos en cualquier parte de nuestra geografía. \nA este movimiento se unió la ciudad de León el año pasado\, de la mano de las escritoras y animadoras culturales Mercedes G. Rojo y Nuria Viuda\, que congregaron para el acto a un nutrido grupo de autores en una velada en que los mismos ofrecieron textos propios y de otros tantos literatos internacionales escogidos para la ocasión.  Este año repiten fórmula en un acto que volverá a reunir a una docena de escritores que compartirán con el público asistente textos adecuados a la ocasión así como otras lecturas seleccionadas para el momento. La actividad\, en esta ocasión\, está amparada por la Bibliotecas Municipales de la ciudad y contará también con la presencia musical de la cantautora Isamil_9. \nLa nomina de escritores participantes en esta edición:  \nAarón A. Alonso\nMarcos Castro\nMarina Díez\nCristina Flantains\nMarta García García\nMercedes G. Rojo\nDelfín Nava\nFernando C. Pérez Álvarez\nFelicitas Rebaque\nNéstor Rojas\nJosé Antonio Vallejo\nNuria Viuda \nOtros textos que serán leídos. De:  \nMiguel Ángel Arenas\nMario Benedetti\nEmily Brönte\nRafael Cadenas\nPaul Celan\nÁngela Figuera\nAlbert Cohen\nJuan Gelman\nMartin Luther King\nRita Segato\nCésar Vallejo\nFrancisco Zamora Loboch \nEl encuentro\, abierto a todo el público\, será  este lunes 10\, a las 19’00 horas en el Salón de Actos del Consistorio Municipal\, con entrada por la c/ Alfonso V. (Se ruega puntualidad)
URL:https://leoncultural.com/evento/encuentro-literario-musical-escritors-por-ciudad-juarez-salon-de-actos-ayuntamiento-de-leon/
LOCATION:Salón de actos. Ayuntamiento de León\, Calle Alfonso V 3\, León\, León\, 24003\, España
CATEGORIES:Conciertos,Música,POESIA
ATTACH;FMTTYPE=image/jpeg:https://leoncultural.com/wp-content/uploads/2018/11/escritores-por-ciudad-juarez.jpg
END:VEVENT
END:VCALENDAR