BEGIN:VCALENDAR
VERSION:2.0
PRODID:-//León Cultural - ECPv5.16.4.1//NONSGML v1.0//EN
CALSCALE:GREGORIAN
METHOD:PUBLISH
X-WR-CALNAME:León Cultural
X-ORIGINAL-URL:https://leoncultural.com
X-WR-CALDESC:Eventos para León Cultural
BEGIN:VTIMEZONE
TZID:Europe/Paris
BEGIN:DAYLIGHT
TZOFFSETFROM:+0100
TZOFFSETTO:+0200
TZNAME:CEST
DTSTART:20180325T010000
END:DAYLIGHT
BEGIN:STANDARD
TZOFFSETFROM:+0200
TZOFFSETTO:+0100
TZNAME:CET
DTSTART:20181028T010000
END:STANDARD
END:VTIMEZONE
BEGIN:VEVENT
DTSTART;TZID=Europe/Paris:20181208T230000
DTEND;TZID=Europe/Paris:20181209T010000
DTSTAMP:20260422T180429
CREATED:20181208T061707Z
LAST-MODIFIED:20181208T062218Z
UID:24264-1544310000-1544317200@leoncultural.com
SUMMARY:Polo Nandez en concierto. Sala Glam Theatre. León
DESCRIPTION:Polo Nandez en concierto. Sala Glam Theatre. León\n8 de diciembre de 2018 a las 23:00 horas\nPolo Nadez actúa hoy 8 de diciembre de 2018 en la Sala Glam Theatre de León dentro de su Gira ANIMAL.  El concierto se celebrará a las 23:00 horas. \n \nSus inicios comenzaron a una edad temprana en la que destacó cantando para eventos familiares. Pronto se dio cuenta de que eso era lo que realmente quería hacer en su vida. Se preparó instrumental y vocalmente para presentarse a varios concursos de TV\, donde destacó su posición en operación Triunfo\, año 2005. De entre los 22.000 participantes consiguió quedar entre los 40 primeros. Gracias a ello consiguió varias entrevistas entre las cuales destaca su participación en el programa Crónicas Marcianas\, allá por el año 2006. Actualmente se encuentra trabajando en varios proyectos junto a Yaser González\, (músico y productor en las áreas de música y audiovisuales entre otras).\nDe voz dulce y melódica\, composiciones pegadizas y una gran fuerza en sus directos y videoclips\, este artista quiere abrirse un hueco en el gran mundo de la música.
URL:https://leoncultural.com/evento/polo-nandez-en-concierto-sala-glam-theatre-leon/
LOCATION:Glam Theatre\, Calle Platerias\, 10\, León\, León\, 24003 \, España
CATEGORIES:Conciertos,Música
ATTACH;FMTTYPE=image/jpeg:https://leoncultural.com/wp-content/uploads/2018/12/PoloNandezLeon.jpg
END:VEVENT
BEGIN:VEVENT
DTSTART;TZID=Europe/Paris:20181209T193000
DTEND;TZID=Europe/Paris:20181209T210000
DTSTAMP:20260422T180429
CREATED:20181127T090018Z
LAST-MODIFIED:20181209T070710Z
UID:23960-1544383800-1544389200@leoncultural.com
SUMMARY:IX Festival Internacional de música de Cámara. Fundación Monteleón. Auditorio Municipal
DESCRIPTION:IX Festival Internacional de música de Cámara. Fundación Monteleón. Auditorio Municipal\nDel 5 al 9 de diciembre de 2018.\n\n\nDomingo 9 de diciembre´18\, 19:30 horas\n\nTRIO SORA\nMagdalena Geka (violín)\, Angèle Legasa (cello) y Pauline Chenais (piano).\n\n\n\n\nJueves 6 de diciembre´18\, 19:30 horas\n\nJUBILEE STRING QUARTET (U.K.)\nTereza Privratska (violin I)\, Julia Loucks (violin II)\, Lorena Cantó Woltèche (viola) y Toby White (cello).\n\n\n\n\nViernes 7 de diciembre´18\, 19:30 horas\nBettina Aust (clarinete) y Robert Aust (piano).\n\n\n\n\nSábado 8 de diciembre´18\, 19:30 horas\nDUO CROISÉ – SHEVCHENKO\n\n\nChristoph Croisé (violoncello) y Oxana Shevchenko (piano).\n\n\n\nPUNTOCOMA / El próximo miércoles 5 de diciembre´18 comenzará la programación del IX Festival Internacional de Música de Cámara «Fundación Monteleón»\, con el concierto a las 19:30h en el Auditorio Ciudad de León del grupo invitado\, el Trío di Parma\, formado por Alberto Miodini\, piano\, Ivan Rabaglia\, violín\, y Enrico Bronzi\, violoncello\, con un programa de obras de Liszt\, Schumann y Brahms. \n\n\nLas entradas se pueden adquirir en las taquillas del auditorio y en ESTE ENLACE.\n\nAntes del concierto\, tendrá lugar a las 18:30h en el Auditorio Ciudad de León  una charla-coloquio con el Trio di Parma\, con entrada gratuita\, hasta completar aforo.\n\nToda la información sobre el programa del concierto y los intérpretes en ESTE ENLACE\nP R O G R A M A\n\nF. LISZT (1811-1886)\nTristia. La vallée d’Obermann (versión original)\n\nR. SCHUMANN (1810-1856)\nTrio nº 3 en Sol menor Op.110\nI. Bewegt\, doch nicht zu rasch\nII. Ziemlich langsam\nIII. Rasch\nIV. Kräftig\, mit Humor\n\n– Pausa –\n\nJ. BRAHMS (1833-1897)\nTrio nº 1 en Si mayor Op. 8\nI. Allegro con brio\nII. Scherzo (Allegro molto)\nIII. Adagio\nIV. Finale. Allegro\n \n\nTRIO DI PARMA\nAlberto Miodini\, piano\nIvan Rabaglia violín\nEnrico Bronzi\, violoncello\n\nEl Trio di Parmase formó en 1990 en la clase de música de cámara de Pierpaolo Maurizzi en el Conservatorio «A. Boito «de parma. Posteriormente\, el Trío profundizó su formación con el legendario Trío di Trieste en la Scuola di Musica de Fièsole y la Accademia Chigiana de Siena. En 2000\, fue elegido para asistir al “Isaac Stern Chamber Music Workshop” en el Carnegie Hall de New York.\n\nEl Trio di Parma ha ganado premios en los más prestigiosos concursos como: el Concurso Internacional «Vittorio Gui» en Florencia\, el Concurso Internacional de Música de Cámara en Melbourne\, el Concurso Internacional de ARD en Mónaco y el Concurso Internacional de Música de Cámara en Lyon. En 1994\, la Asociación Nacional de Críticos de Música le asignó el «Premio Abbiati» como mejor conjunto de cámara. El Trio di Parma ha sido invitado por las instituciones musicales más importantes de Italia (Academia de Santa Cecilia de Roma\, Società del Quartetto de Milán\, Amici della Musica de Florencia\, Gran Teatro La Fenice de Venecia\, Unione Musicale di Torino\, GOG de Génova \, Amigos de la Música de Palermo\, Accademia Filarmonica Romana …) y en el extranjero (Berlin Philharmonic\, Carnegie Hall y Lincoln Center en Nueva York\, Wigmore Hall en Londres\, Konzerthaus en Viena\, Sala Moliere en Lyon\, Filarmónica de San Petersburgo\, Teatro Colón y Coliseo de Buenos Aires\, Los Ángeles\, Washington\, Hamburgo\, Múnich\, Dublín\, Varsovia\, Río de Janeiro\, Sao Paulo\, Lockenhaus Festival\, Barossa y Melbourne Festival\, Orta Festival …).\n\nHa colaborado con importantes músicos como Vladimir Delman\, Carl Melles\, Anton Nanut\, Bruno Giuranna\, Simonide Braconi\, Alessandro Carbonare\, Eduard Brunner y Guglielmo Pellarin. Ha realizado grabaciones de radio y televisión para la RAI y para numerosas emisoras extranjeras (Bayerischer Rundfunk\, NDR\, WDR\, MDR\, Radio Bremen\, ORT\, BBC Londres\, ABC-Classic Australia). También ha grabado las obras completas de Brahms para UNICEF\, obras de Beethoven y Ravel para la revista Amadeus\, Schostakovich para Stradivarius (galardonado como el mejor registro del año 2008 por la revista Classic Voice) Pizzetti\, Liszt\, Schumann y Dvorak para la etiqueta Concierto y Schubert para la Decca.\n\nLos miembros del Trio di Parma tienen un compromiso constante con la enseñanza en los Conservatorios de Novara\, en el Mozarteum de Salzburgo y en el Conservatorio de Parma\, donde el Trío imparte un Master de Alta Especialización en música de cámara. Ivan Rabaglia toca un violín “Santo Serafino”construido en Venecia en 1740 (cortesía de la Fundación Pro Canale onlus) y Enrico Bronzi un cello “Vincenzo Panormo”construido en Londres en 1775.\n\n 
URL:https://leoncultural.com/evento/ix-festival-internacional-de-musica-de-camara-fundacion-monteleon-auditorio-municipal/
LOCATION:Auditorio Ciudad de León\, Av. de los Reyes Leoneses\, 4\, 24008 León\, León\, León\, 24008\, España
CATEGORIES:Conciertos,Música
ATTACH;FMTTYPE=image/jpeg:https://leoncultural.com/wp-content/uploads/2018/11/IX-musica-de-camara-monteleon.jpg
END:VEVENT
BEGIN:VEVENT
DTSTART;TZID=Europe/Paris:20181209T200000
DTEND;TZID=Europe/Paris:20181209T220000
DTSTAMP:20260422T180429
CREATED:20181204T102622Z
LAST-MODIFIED:20181204T102622Z
UID:24168-1544385600-1544392800@leoncultural.com
SUMMARY:El Sevilla: 'Esto es rocanró' Teatro San Francisco. León
DESCRIPTION:El Sevilla: ‘Esto es rocanró’\nTeatro San Francisco. León\nDomingo 9 de diciembre de 2018 a las 20:00 horas\nMiguel Ángel Rodríguez\, “El Sevilla”\, nace el 10 de Junio del año 1970 en la ciudad hispalense\, aunque siempre residió en San Juan de Aznalfarache\, donde pasó su infancia y adolescencia. En 1992 se traslada a Barcelona\, a la localidad de Mollet del Vallés\, y allí forma la banda Mojinos Escozíos\, con la que graban su primer disco en 1996. Cantante\, locutor de radio\, actor de cine\, teatro escritor y showman televisivo. En el año 2016 cumpliendo 20 años encima de los escenarios. \nEn 1996\, Mojinos Escozios graban su primer trabajo de nombre homónimo\, con el que consiguen vender casi 100.000 copias. 20 años después\, tienen en el mercado un total de 16 discos con los que han obtenido casi 20 discos entre oro y platino\, con más de 1.000.000 de copias vendidas y más de 1.300 conciertos a sus espaldas\, siempre con la misma formación\, los Mojinos Escozíos\, sin duda alguna\, forman parte de la historia de la música de este país\, sobre todo por la contundencia de su música\, compuesta siempre por la banda\, y por la originalidad de sus casi 300 letras\, escritas por el Sevilla. \nESTO ES ROCKANRÓ: \nUna vez mas Miguel Ángel Rodríguez “El Sevilla” nos sorprende con un nuevo espectáculo. En “Esto es Rocanró” tendremos un monólogo lleno de humor\, con un Sevilla en estado puro\, Hablando de sus mas de 20 años en de gira con Mojinos Escozíos y siendo el personaje público que es hoy en día.\nEn “Esto es Rocanró” conoceremos secretos de gira\, divertidas anéctodas y todo lo que se te pueda ocurrir en mas de 20 años de carrera artística!
URL:https://leoncultural.com/evento/el-sevilla-esto-es-rocanro-teatro-san-francisco-leon/
LOCATION:Teatro San Francisco\, Calle Corredera\, 1  \,  León\, León\, 24003\, España
CATEGORIES:Conciertos,Humor,Música
ATTACH;FMTTYPE=image/jpeg:https://leoncultural.com/wp-content/uploads/2018/12/el-sevilla-esto-es-rocanro.jpg
END:VEVENT
BEGIN:VEVENT
DTSTART;TZID=Europe/Paris:20181209T200000
DTEND;TZID=Europe/Paris:20181209T213000
DTSTAMP:20260422T180429
CREATED:20181209T145536Z
LAST-MODIFIED:20181209T145646Z
UID:24287-1544385600-1544391000@leoncultural.com
SUMMARY:Concierto de piano: Michele Fazio. Sala Eutherpe. León
DESCRIPTION:Concierto de piano: Michele Fazio. Sala Eutherpe. León\nDomingo 9 de diciembre a las 20.00 horas. \n\nPROGRAMA\n1ª PARTE\nL.van Beethoven::\nSonata op 22 n 11\nSzymanowsky:\nVariations op 3\nChopin:\nPrelude op 45\nChopin:\nRondò op 16\nScriabin:\nSonata n 3 \nMichele Fazio. Pianista \nNacido en Bari en 1995\, muestra desde corta edad grandes habilidades para la música. \nInicia sus estudios en el  Conservatorio “N. Piccinni” de Bari\, siguiéndolos con la Maestra Cinzia Falco\, con la que actualmente cursa el decimo año como graduado. Prosigue paralelamente sus estudios con el M° Alfonso Soldano (Director Artísticodel la ‘European Arts Academy “Aldo Ciccolini” y profesor de Piano en el Conservatorio Santa Cecilia de Roma) y el Maestro Pierluigi Camicia. \nPese a su juventud\, Michele es un reconocido pianista que combina hábilmente su formación técnica con una refinada vena artística\, que le han llevado a ganar numerosos premios tanto nacionales (“I.Stravinski” (Bari)\,  “Città de San Gemini”  (TN)\,  “Rosa Ponselle” de Matera) como internacionales (Festival I. Città delle Ceramiche de Taranto\, Taranto International Piano Competition ( vencedor absoluto) y Concurso Eurorchestra de Bari\, (vencedor absoluto con la borsa di studio “Lions Bari” e suonando presso la sala grande dello Sheraton in Bari\, e il concorso Premio Terenzio Concorso Musicale Internzionale Città di Cerignola\, esibendosi come finalista nel Teatro Mercadante di Cerignola. \n. \nSiempre con pasión y talento\, ha asistidoa clases magistrales con ilustres pianistas del panorama internacional\, como los maestros Michele Marvulli\, Riccardo Risaliti\, David Fung\, Alfonso Soldano\, Marian Sobula \, Markus Kreul\, Aquiles Delle Vigne\, Daniel Rivera\, Vincenzo Maltempo\, Fiorenzo Pascalucci\, M Pierluigi Camicia al tiempo que participa en al Festival Pianístico Internacional Bimf en Bari\, siendo escuchado por varios maestros de fama mundial. Actualmente\, asiste a los cursosde Alto Rendimiento de la Academia Europea de las Artes “Aldo Ciccolini” de Trani\, en la clase del maestro Pierluigi Camicia\, donde resultó seleccionado entre los mejores estudiantes\, ganando una beca de estudios come joven promesa del panorama musical italiano. Esto le  permitió participar en la interpretación de parte de la integral de scherzos y baladas de Chopin\, ejecutando la primera balada op.23 en Sol menor en la sede de la propia Academia\, de Trani. Anualmente sigue varios cursos de alto perfeccionamiento pianístico en Norcia. \nHa actuado en numerosas ocasiones como solista en recitales\, escenarios y temporadas de concierto de ámbito nacional\, (Roma (Palazzo Barberini)\, Bari (Teatro Kismet\, Circulo Barion\, Auditórium la Vallisa\, Teatro de Corato y en el prestigioso  Palazzo Fizzarotti)\, Trani (Palazzo Discanno\, Museo Diocesano\, Biblioteca Delle Arti\, Palazzo Beltrani)\, Molfetta (auditorium San Domenico)\, Mola di Bari (Palazzo Pese)\, Irsina\, Taranto (Museo Diocesano)\, e internacional\, debutando recientemente en el extranjero con un recital en la Academia Nacional Tchaikovski de Kiev\, con el patrocinio de la misma en un evento internacional sobre Sergej Bortkiewicz\, durante su estreno mundial\, y en un concierto de piano y orquesta interpretando el tercer Concierto de Tchaikovski dentro de la integral de sus tres concierto para piano y orquesta dirigidos por Ovidiu Balan con la  “M\, Jora” Balcanic Philarmonic\, en la sala Enescu de Bacau (Rumania)\, programa incluído en la propia temporada de la citada Filarmónica . \nJunto a la actividad como solista destaca su intervención en grupos de camera\, actuando de forma estable en dúo con el violinista Domenico Masiello\, con quien ofreció un recital en la Biblioteca Comunitaria Giovanni Bovio\, de Trani\, en el círculo de las fuerzas armadas en el hermoso entorno del Palazzo Barberini de Roma\, y otros. En formaciones de trío con piano y dos violines con Domenico Masiello y Eliana de Candia\, en el Palazzo Pesce di Mola\,  de Bari\, en el auditorio San Domenico\, o en el  Palazzo de las Artes Beltrani en Trani \, entre otros. \nEn varias ocasiones ha prestado su talento para TELETHON\, un concierto benéfico en la sede central del Banco BNL\, en la ciudad de Plugia. \nA pesar de su extremadamente variado repertorio\, Michele Fazio es un artista apasionado y profundamente comprometido con su admiración por la música rusa\, especialmente la obra de  Sergei Prokofiev\, Aleksander Scriabin o Nikolaj Medtner\, sobre los cuales trabaja en grandes proyectos de grabación futura y también editorial.
URL:https://leoncultural.com/evento/concierto-de-piano-michele-fazio-sala-eutherpe-leon/
LOCATION:Sala EUTHERPE\, Alfonso V\, 10\, León\, León\, 24001\, España
CATEGORIES:Conciertos,Música
ATTACH;FMTTYPE=image/jpeg:https://leoncultural.com/wp-content/uploads/2018/12/Michele-Fazio-sala-eutherpe-leon.jpg
END:VEVENT
BEGIN:VEVENT
DTSTART;TZID=Europe/Paris:20181209T203000
DTEND;TZID=Europe/Paris:20181209T220000
DTSTAMP:20260422T180430
CREATED:20181205T164416Z
LAST-MODIFIED:20181205T164416Z
UID:24231-1544387400-1544392800@leoncultural.com
SUMMARY:John Bramley Trío. Concierto en el Molly Malones León
DESCRIPTION:John Bramley Trío. Concierto en el Molly Malones León\nDomingo 9 de diciembre de 2018 a las 20:30 horas\nJohn Bramley es un pianista italiano que establece su radio de acción en el inédito triángulo geográfico Madrid\, León\, Milán. Su grado en Jazz (Milán 2013) y le ha posibilitado actuar en toda Europa\, principalmente España\, Reino Unido e Italia\, con diferentes formaciones de Jazz y Swing. En 2015 gano los premios de mejor pianista y mejor compositor del “Nuoro Jazz”. En trio está formado también por Javi Baillo (Contrabajo) y Pepe López (Batería) alternan este proyecto con otros como DOCTOR BOGARDE y su proyecto propio\, GOODMAN COLLECTIVE que recientemente presentó su 2º disco. Baillo\, además coodirige la recientemente creada AulaTaller de Jazz e Improvisación de León\, y dirige el Taller de Armonía e Improvisación que este año celebró su quinta edición. Esta formación presenta principalmente composiciones propias. Jazz contemporáneo
URL:https://leoncultural.com/evento/john-bramley-trio-concierto-en-el-molly-malones-leon/
LOCATION:Molly Malone´s
CATEGORIES:Conciertos,Música
ATTACH;FMTTYPE=image/jpeg:https://leoncultural.com/wp-content/uploads/2018/12/John-Bramley-Trio.jpg
END:VEVENT
BEGIN:VEVENT
DTSTART;TZID=Europe/Paris:20181209T213000
DTEND;TZID=Europe/Paris:20181209T230000
DTSTAMP:20260422T180430
CREATED:20181209T065932Z
LAST-MODIFIED:20181209T065932Z
UID:24273-1544391000-1544396400@leoncultural.com
SUMMARY:Fabián Legide en concierto. Taberna Bar El Cuervo. León
DESCRIPTION:Fabián Legide en concierto. Taberna Bar El Cuervo. León\n9 de diciembre de 2018 a las 21:30 horas \nFabián Legide cantautor nacido en Buenos Aires y afincado en Málaga\, forma parte de distintos grupos de rock y tango hasta que comienza su aventura en solitario. Después de unos años alejado de la música\, vuelve con un puñado de canciones\, con una propuesta musical\, con su particular manera de contar las cosas. En Fabián Legide encontramos rock\, tango\, copla\, rumba\,…letras cuidadas y títulos tan sugerentes como “la boutique del té y de las especias o una canción para kukicha”… \n 
URL:https://leoncultural.com/evento/fabian-legide-en-concierto-taberna-bar-el-cuervo-leon/
LOCATION:Taberna Bar Cuervo\, Calle Sal\, 6\,  León\,  León\,  24003\, España
CATEGORIES:Conciertos,Música
ATTACH;FMTTYPE=image/jpeg:https://leoncultural.com/wp-content/uploads/2018/12/Fabian-Legide-el-cuervo.jpg
END:VEVENT
END:VCALENDAR