BEGIN:VCALENDAR
VERSION:2.0
PRODID:-//León Cultural - ECPv5.16.4.1//NONSGML v1.0//EN
CALSCALE:GREGORIAN
METHOD:PUBLISH
X-WR-CALNAME:León Cultural
X-ORIGINAL-URL:https://leoncultural.com
X-WR-CALDESC:Eventos para León Cultural
BEGIN:VTIMEZONE
TZID:Europe/Paris
BEGIN:DAYLIGHT
TZOFFSETFROM:+0100
TZOFFSETTO:+0200
TZNAME:CEST
DTSTART:20180325T010000
END:DAYLIGHT
BEGIN:STANDARD
TZOFFSETFROM:+0200
TZOFFSETTO:+0100
TZNAME:CET
DTSTART:20181028T010000
END:STANDARD
END:VTIMEZONE
BEGIN:VEVENT
DTSTART;TZID=Europe/Paris:20181208T120000
DTEND;TZID=Europe/Paris:20181208T233000
DTSTAMP:20260424T120347
CREATED:20181110T223555Z
LAST-MODIFIED:20181208T054545Z
UID:23494-1544270400-1544311800@leoncultural.com
SUMMARY:Purple weekend 2018. León.
DESCRIPTION:Purple weekend 2018. León.\n5\, 6\, 7 y 8 de diciembre de 2018\nSÁBADO 8: \n– 12:00 Concentración y SCOOTER RUN. Plaza de Botines\, salida a la 13:00.\n– 12:30 Cuentacuentos con música en directo «Little Niño». Espacio Vías\, entrada gratuita.\n– 13:30 Los Modernos ( España). Espacio Vías\, entrada gratuita.\n– 13:30 Paul Collins (USA). El Albeitar\, concierto fuera de abono\, 5€.\n– 15:00 The Gentlemen’s Agreement (Francia)\, Glam Theatre\, concierto fuera de abono\, 5€.\n– 16:30 Alldayer Purple DJ Glam.\n– 17:00 Wesley Fuller (Australia) / The Hentchmen (USA). Espacio Vías\, 15€/18€.\n– 21:00 KURT BAKER COMBO & PAUL COLLINS (España/USA) / The Model Rockets (USA) / Mathew sweet (USA). SON Estrella Galicia CHF\, 28/32€.\n01:30 Allnighter\, 10€ sin abono o entrada. \nEXPOSICIONES: \n– «EL RUGIDO DEL BEAT. FESTIVALES EN LEÓN\, 1966-1967». Con Javier Ochagavía Kinkman.\n– «BIFF BANG POP!» dR. HOFMANN 27\n– «PURPLEPHENIA (I’ve had enough)». Con Cristina Pedreira.\nAteneo Cultural El Albéitar ULE. 20 de noviembre a 20 de diciembre\, de lunes a viernes no festivos\, de 12:00 a 14:00 y de 18:30 a 20:30. Comisariadas por Eva Lopez Campesino (Eva Galáctica). \n– “LA ERA POP EN IMÁGENES: CULTURA\, MODA Y ACTUALIDAD EN LA PRENSA ILUSTRADA DE LOS 60”.\nHall de entrada de la Biblioteca Pública de León.\nDel 1 al 15 de diciembre\, de lunes a viernes de 8:30 a 21:20\, sábados de 8:30 a 14:00 h. \nCICLO DE CINE\, Ateneo Cultural El Albéitar ULE: \n“FRANCIA\, AÑO CERO: 60 AÑOS DE NOUVELLE VAGUE”\n– PIERROT LE FOU (J.L. Godard\, 1965). Presentación de Miguel Marías\, 30 de noviembre (20:00).\n– JULES ET JIM (F. Truffaut\, 1961)\, 4 de diciembre (20:00)\n– PARIS NOUS APPARTIENT (J.Rivette\, 1961). Presentación de César García\, 5 diciembre (20:00)\n– LE MÉPRIS (J.L. Godard\, 1963)\, 11 de diciembre (20:00) \nMIÉRCOLES 5: \nMUSAC. Entrada gratuita.\n– 20:00 Inauguración y visita guiada expo «Purple weekend\, 30 años».\n– 21:00 Sesión Pinchadiscos. Alex Asenjo\, Sundaywheeling.\n– 22:00 Triptides (USA) \nJUEVES 6: \n– 12:00 Inauguración Mercadillo.\n– 13:00 Desfile de Moda. Covent Garden y La Pelu de Eva. Espacio Vías León\, entrada gratuita.\n– 13:30 Ken Stringfellow (USA). El Albéitar\, concierto fuera de abono\, 5 €.\n– 15:00 Gorilla (Japón). Glam Theatre\, concierto fuera de abono\, 5€.\n– 16:00 Alldayer Purple DJ Glam. Guateque de tarde con Mas Music.\n– 17:00 Los imposibles (España) / Sick Rose & KEN STRINGFELLOW (Italia\, Usa). Espacio Vias\, 15/18€.\n– 20:00 Presentación del libro «Gene Clark. Vuela hacia el sol» por su autor Alvaro Alonso + Allrighters semi-acústico. ELEKTRA COMICS. Entrada Gratuita\n– 21:30 Hannah Williams & the Affirmations (UK) / Bart Davenport & BEDAZZLED (USA). Studio 54 Leon\, 15/18€.\n– 00:45 Allnighter. Studio 54 Leon\, 10€ sin abono o entrada. \nVIERNES 7: \n– 12:00 Apertura Mercadillo.\n– 12:30 Pilandón. Pila (Profesionales ilustración y diseño de León). Espacio Vías\, entrada gratuita.\n– 13:30 The Trip Takers (Italia). El Albéitar\, concierto fuera de abono\, 5€.\n– 15:00 The Woolly Bushmen (USA). Glam Theatre\, concierto fuera de abono\, 5€.\n– 16:00 Alldayer Purple DJ Glam.\n– 17:00 The Max Meser Group (Holanda) / LA GRANJA (España). Espacio Vías\, 15/ 18€.\n– 21:00 Stone Foundation (UK) / The Kinetics (USA) / The Resonars(USA). SON Estrella Galicia CHF\, 28/32€.\n– 01:30 Allnighter. Studio 54 Leon\, 10€ sin abono o entrada.
URL:https://leoncultural.com/evento/purple-weekend-2018-leon/
LOCATION:LEÓN\, LEON\, 24007\, España
CATEGORIES:Conciertos,Fotografía,Música
ATTACH;FMTTYPE=image/jpeg:https://leoncultural.com/wp-content/uploads/2018/11/PURPLE-WEEKEND-2018.jpg
END:VEVENT
BEGIN:VEVENT
DTSTART;TZID=Europe/Paris:20181208T150000
DTEND;TZID=Europe/Paris:20181208T235500
DTSTAMP:20260424T120347
CREATED:20181126T115139Z
LAST-MODIFIED:20181208T054757Z
UID:23928-1544281200-1544313300@leoncultural.com
SUMMARY:León se Mueve. Puente de la Constitución. El Gran Café León
DESCRIPTION:León se Mueve. Puente de la Constitución. El Gran Café León\n6\, 7 y 8 de diciembre de 2018 \n#LeonSeMueve\n«Todo ello con entrada Gratuita»\n \nDesde El Gran Café presentan su actividad cultural para el puente de la constitución\, uno de los mas importantes musicalmente hablando de León desde hace 30 años\, este año su programación esta fuera de el Festival que se va a desarrollar esos días\, desean que sea un atractivo mas a el movimiento.\n\n\n\n\n\n\n\nViernes 7 Diciembre\n\n15:00h concierto Wavy Gravies\nhttps://www.youtube.com/watch?v=eQlTaFz4VEU\n\nAlldayer 1ª Planta\n\n16:30 – 19:30h Absolute Begginers\n19:30 – 22:30h Ger City Lights\n\nSabado 8 Diciembre\n\nAlldayer 1ª Planta\n\n15:00h concierto Gary Johnstone Band\nhttps://www.youtube.com/watch?v=O2KI9jxlxkE\n\nAlldayer 1ª Planta\n\n16:30 – 19:30h Igu Allnighter & Isb Lester\n19:30 – 22:30h Conrado Martin\n\n\n\nJueves 6 Diciembre\n\n15:00h Concierto  Los Retumbes\nhttps://www.youtube.com/watch?v=OAvaiToitnI\n\nAlldayer 1ª Planta\n\n16:30 – 19:30h Rudy Mental Dj\n19:30 – 22:30h Fuzzpills
URL:https://leoncultural.com/evento/leon-se-mueve-puente-de-la-constitucion-el-gran-cafe-leon/
LOCATION:El Gran Café\, Calle Cervantes\, 7\, León\, León\, 24003\, España
CATEGORIES:Conciertos,Música
ATTACH;FMTTYPE=image/jpeg:https://leoncultural.com/wp-content/uploads/2018/11/leon-se-mueve-el-gran-cafe.jpg
END:VEVENT
BEGIN:VEVENT
DTSTART;TZID=Europe/Paris:20181208T230000
DTEND;TZID=Europe/Paris:20181209T010000
DTSTAMP:20260424T120347
CREATED:20181208T061707Z
LAST-MODIFIED:20181208T062218Z
UID:24264-1544310000-1544317200@leoncultural.com
SUMMARY:Polo Nandez en concierto. Sala Glam Theatre. León
DESCRIPTION:Polo Nandez en concierto. Sala Glam Theatre. León\n8 de diciembre de 2018 a las 23:00 horas\nPolo Nadez actúa hoy 8 de diciembre de 2018 en la Sala Glam Theatre de León dentro de su Gira ANIMAL.  El concierto se celebrará a las 23:00 horas. \n \nSus inicios comenzaron a una edad temprana en la que destacó cantando para eventos familiares. Pronto se dio cuenta de que eso era lo que realmente quería hacer en su vida. Se preparó instrumental y vocalmente para presentarse a varios concursos de TV\, donde destacó su posición en operación Triunfo\, año 2005. De entre los 22.000 participantes consiguió quedar entre los 40 primeros. Gracias a ello consiguió varias entrevistas entre las cuales destaca su participación en el programa Crónicas Marcianas\, allá por el año 2006. Actualmente se encuentra trabajando en varios proyectos junto a Yaser González\, (músico y productor en las áreas de música y audiovisuales entre otras).\nDe voz dulce y melódica\, composiciones pegadizas y una gran fuerza en sus directos y videoclips\, este artista quiere abrirse un hueco en el gran mundo de la música.
URL:https://leoncultural.com/evento/polo-nandez-en-concierto-sala-glam-theatre-leon/
LOCATION:Glam Theatre\, Calle Platerias\, 10\, León\, León\, 24003 \, España
CATEGORIES:Conciertos,Música
ATTACH;FMTTYPE=image/jpeg:https://leoncultural.com/wp-content/uploads/2018/12/PoloNandezLeon.jpg
END:VEVENT
END:VCALENDAR