BEGIN:VCALENDAR
VERSION:2.0
PRODID:-//León Cultural - ECPv5.16.4.1//NONSGML v1.0//EN
CALSCALE:GREGORIAN
METHOD:PUBLISH
X-WR-CALNAME:León Cultural
X-ORIGINAL-URL:https://leoncultural.com
X-WR-CALDESC:Eventos para León Cultural
BEGIN:VTIMEZONE
TZID:Europe/Paris
BEGIN:DAYLIGHT
TZOFFSETFROM:+0100
TZOFFSETTO:+0200
TZNAME:CEST
DTSTART:20180325T010000
END:DAYLIGHT
BEGIN:STANDARD
TZOFFSETFROM:+0200
TZOFFSETTO:+0100
TZNAME:CET
DTSTART:20181028T010000
END:STANDARD
END:VTIMEZONE
BEGIN:VEVENT
DTSTART;TZID=Europe/Paris:20180405T220000
DTEND;TZID=Europe/Paris:20180405T235500
DTSTAMP:20260420T104946
CREATED:20180321T093519Z
LAST-MODIFIED:20180321T093519Z
UID:17677-1522965600-1522972500@leoncultural.com
SUMMARY:Mujeres de la Industria de la Música presenta la primera edición de Noches MIM con la banda Taiacore y Eva Galáctica en concierto. El Gran Café Léon
DESCRIPTION:Mujeres de la Industria de la Música presenta la primera edición de Noches MIM con la banda Taiacore y Eva Galáctica en concierto. El Gran Café Léon.\n5 de abril a las 22:00 horas. \nCon el objetivo de visibilizar a las mujeres profesionales\, Djs y bandas femeninas nace este ciclo de conciertos por toda España bajo el nombre de Noches MIM. \nLa Asociación MIM (Mujeres de la Industria de la Música) es una iniciativa que tiene por objetivo\nestablecer la igualdad entre hombres y mujeres sobre los escenarios. Por ello\, en el mes de abril la\nasociación ha programado una serie de actuaciones para visibilizar la presencia de la mujer en la música\ntanto en bandas\, solistas y djs como profesionales del mundo del espectáculo.\n2018 será recordado porque celebrará la primera edición de Noches MIM\, un primer evento que\nesperamos que se prolongue a lo largo del tiempo. Madrid\, Barcelona\, Murcia\, A Coruña y León acogerán\nlos conciertos\, siendo esta última ciudad la primera en recibir este ciclo de actuaciones a favor de la\nigualdad.\nEl próximo jueves 5 de abril \, la banda formada por Marta Tai y Vincenzo Tancorre\, Taiacore \, estará\nactuando en El Gran Café de León dentro del proyecto de Noches MIM. Un cartel que el dúo compartirá\njunto a la artista local Eva Galáctica\, a partir de las 22:00h y con una entrada de 8€ que pueden adquirir\npinchando aquí.\nTaiacore \, el grupo de indie-folk con matices electrónicos está inmerso en la presentación de su segundo\ntrabajo: un formato físico en vinilo de 7” que ha sido lanzado al mercado con dos singles: en la cara A\, “Not\nboring like you” y la cara B “All I need”\, consiguiendo así Sold Out en la Sala Siroco de Madrid en la\npresentación en directo del vinilo el pasado 16 de febrero.\nTras recorrer multitud de lugares con Innocent\, su primer LP: Berlín\, Roma\, Londres\, California\, New York…\ny estar presente en la programación de las principales salas de conciertos de la geografía nacional\,\nTaiacore regresará a la ciudad de los rascacielos para presentar su proyecto el próximo mes de mayo\, esta\nvez respaldados por nuestro sello discográfico independiente\, Paul Back Music. \n 
URL:https://leoncultural.com/evento/mujeres-de-la-industria-de-la-musica-presenta-la-primera-edicion-de-noches-mim-con-la-banda-taiacore-y-eva-galactica-en-concierto-el-gran-cafe-leon/
LOCATION:El Gran Café\, Calle Cervantes\, 7\, León\, León\, 24003\, España
CATEGORIES:Conciertos,Música
ATTACH;FMTTYPE=image/jpeg:https://leoncultural.com/wp-content/uploads/2018/03/Noches-MIM-eva-GALACTICA-TAICORE.jpg
END:VEVENT
END:VCALENDAR