BEGIN:VCALENDAR
VERSION:2.0
PRODID:-//León Cultural - ECPv5.16.4.1//NONSGML v1.0//EN
CALSCALE:GREGORIAN
METHOD:PUBLISH
X-WR-CALNAME:León Cultural
X-ORIGINAL-URL:https://leoncultural.com
X-WR-CALDESC:Eventos para León Cultural
BEGIN:VTIMEZONE
TZID:Europe/Paris
BEGIN:DAYLIGHT
TZOFFSETFROM:+0100
TZOFFSETTO:+0200
TZNAME:CEST
DTSTART:20180325T010000
END:DAYLIGHT
BEGIN:STANDARD
TZOFFSETFROM:+0200
TZOFFSETTO:+0100
TZNAME:CET
DTSTART:20181028T010000
END:STANDARD
END:VTIMEZONE
BEGIN:VEVENT
DTSTART;TZID=Europe/Paris:20180401T190000
DTEND;TZID=Europe/Paris:20180401T203000
DTSTAMP:20260424T103204
CREATED:20180330T084951Z
LAST-MODIFIED:20180330T084951Z
UID:17872-1522609200-1522614600@leoncultural.com
SUMMARY:Concierto: L’Animal Sonore. Sonidos de Primavera. Iglesia Parroquial Ambasaguas de Curueño
DESCRIPTION:Concierto: L’Animal Sonore. Sonidos de Primavera. Iglesia Parroquial Ambasaguas de Curueño\n1 de abril de 2018 a las 19:00 horas \nDúo de violas da gamba\, L’Animal Sonore\nPilar Almalé\nPablo Romero \nL’Animal Sonore nace en el 2015 con el objetivo de ofrecer una renovada y particular visión de la música barroca para viola da gamba tomando este instrumento como centro del proyecto.\nL’Animal Sonore da vida al emocionante repertorio hasta hace poco dormido de la viola da gamba\, combinando el rigor histórico con una experimentación que roza lo poético\, pero sin perder la principal finalidad de esta música: conmover y emocionar. \nPrograma:  \nA DEUX VIOLES ESGALES. \nLa Europa Barroca a vista de pájaro \nUn pájaro sobrevuela Europa\, Mueve sus alas recorriendo un mapa gigante y escucha atentamente lo que cree que son cantos de mujeres y hombres\, O eso cree\, (En realidad) Son violas da gamba tomando sus voces Llorando sus pérdidas\, celebrando sus amores\, silbando melodías que a uno se le ocurren caminando por la calle. \nEn este viaje Escucharemos algunos de los cantos de la viola da gamba de la Europa Barroca\, desde los llantos de Sainte Colombe por la pérdida de su mujer\nen París pasando por la música “alemana” y emocional de Schenck en Holanda llegando hasta las melodías “casi” populares de Hume\, un Soldado y violagambista inglés. \nSobrevolaremos nostalgia\, alegría\, \nTristeza\, ira\, llanto\, melancolía. \nTodo lo que nos contó y nos sigue queriendo contar \nla viola da gamba. \nJoseph Bodin de Boismortier (1689-1795) \nSonates a deux violes\, op. 10. \nCinquiéme Sonate \nDoucement\, Courante\, Gavotte\, Lentement\, Gigue \nJohannes Schenk (1660-1712) \nLe nymphe di Rheno op.8 \nSonata I \nAdagio-Allegro-Adagio\, Allemanda\, Corrente\, Saravanda-Variation\, Giga \nSainte-Colombe (1640-1700) \nConcerts a deux violes esgales \nConcert XLI- Le retour \nLe retour\, En Gigue\, En Menuet\, En Gigue\, En Courante\, Balet Tendre\, En Pianelle. \nConcert XLIV-Tombeau Les Regrets \nTombeau les Regrets\, Quarrillon\, Les pleurs\, Les Elizées \nFronçois Couperin (1668-1733) \nNouveaus Concerts ou Les Goûts réünis \nTreiziéme Concert \nVivement\, Air\, Sarabande\, Chaconne Légere
URL:https://leoncultural.com/evento/concierto-lanimal-sonore-sonidos-de-primavera-iglesia-parroquial-ambasaguas-de-curueno/
LOCATION:Ambasaguas de Curueño\, León\, España
CATEGORIES:Conciertos,Música
ATTACH;FMTTYPE=image/jpeg:https://leoncultural.com/wp-content/uploads/2018/03/LAnimal-Sonore.jpg
END:VEVENT
BEGIN:VEVENT
DTSTART;TZID=Europe/Paris:20180401T200000
DTEND;TZID=Europe/Paris:20180401T213000
DTSTAMP:20260424T103204
CREATED:20180328T092534Z
LAST-MODIFIED:20180328T092534Z
UID:17840-1522612800-1522618200@leoncultural.com
SUMMARY:Orquesta Cámara Ibérica\, David Mata (violín) y David Quiggle (viola) Auditorio Municipal Ciudad de Léon
DESCRIPTION:Orquesta Cámara Ibérica\, David Mata (violín) y David Quiggle (viola) Auditorio Municipal Ciudad de Léon\n1 de abril de 2018 a las 20:00 horas \n\n\n\nORQUESTA DE CÁMARA IBÉRICA\nSolistas: David Mata (violín) y David Quiggle (viola) \nPROGRAMA \nI parte \nW. A. MOZART: Sinfonía Concertante para violín\, viola y orquesta en mi bemol mayor\, K.364/320d \nSolistas: David Mata (violín) y David Quiggle (viola) \nII parte \nD. SHOSTAKOVICH: Sinfonía de cámara\, Op. 110a (Cuarteto no 8) E. GRIEG: Suite “Holberg” Op. 40 \nLa Orquesta de Cámara Ibérica presenta un gran programa de concierto\, que incluye en la primera parte la brillante y luminosa “Sinfonía Concertante” de Mozart con dos solistas de excepción: David Mata (violín solista de la Orquesta Sinfónica de RTVE) y David Quiggle (viola solista de la London Philharmonic Orchestra). \nEn la segunda parte podremos escuchar la sobrecogedora “Sinfonía de cámara” (Cuarteto no 8) de Shostakovich\, obra definida por el compositor como su propio Requiem y que fue escrita en 1960 en Dresde\, ciudad que quedó en escombros tras los bombardeos aliados durante la Segunda Guerra Mundial. \nY para terminar el concierto\, la bella y romántica “Suite en tiempos de Holberg”\, Op. 40\, «Suite al viejo estilo» basada en formas de la danza barroca\, compuesta por Edvard Grieg en 1884 para celebrar el 200 aniversario del nacimiento del escritor Ludvig Holberg. \nVenta de entradas: http://auditorio.aytoleon.es y en la taquilla del Auditorio (tardes) Precio= 12€ (descuento del 50% para estudiantes)\nHora: 20:00 h.\nDuración: 75 minutos (+ intermedio) \nMás información: www.orquestaiberica.com
URL:https://leoncultural.com/evento/orquesta-camara-iberica-david-mata-violin-y-david-quiggle-viola-auditorio-municipal-ciudad-de-leon/
LOCATION:Auditorio Ciudad de León\, Av. de los Reyes Leoneses\, 4\, 24008 León\, León\, León\, 24008\, España
CATEGORIES:Conciertos,Música
ATTACH;FMTTYPE=image/jpeg:https://leoncultural.com/wp-content/uploads/2018/03/27355937_247504575788438_3940762889330225701_o.jpg
END:VEVENT
BEGIN:VEVENT
DTSTART;TZID=Europe/Paris:20180401T200000
DTEND;TZID=Europe/Paris:20180401T213000
DTSTAMP:20260424T103204
CREATED:20180330T193107Z
LAST-MODIFIED:20180330T193107Z
UID:17912-1522612800-1522618200@leoncultural.com
SUMMARY:Dúo voz y piano: Olha Viytiv - soprano / Hilario Segovia - piano
DESCRIPTION:Dúo voz y piano: Olha Viytiv – soprano / Hilario Segovia – piano\nSala Eutherpe. 1 de abril de 2018 a las 20:00 horas \nPROGRAMA\n1ª PARTE\nRichard Strauss :\n“Mädchenblumen” (Felix Dahn)\, Op.22 / 1888: Kornblumen/ Mohnblumen / Epheu / Wasserrose\nAntón García Abril:\n“Siete Canciones de Amor” (Antonio Carvajal) / 2010: 1- Oigo fuera la lluvia 2-Al calor de tus manos. 3- Rumor de mar y viento 4-Si fueras un crisantemo 5- La luna carecía de luz propia. 6-Pero me quedé sin ti. 7-Cuando yo te busque por el alba \n2ª PARTE\nClaude Debussy:\nFantoches “Fêtes galantes“(Paul Verlaine) / 1892 y Apparition (S. Mallarmé) / 1884\nFelix Mendelssohn:\n1-Neue Liebe (Heinrich Heine) Op. 19 nº 4 / 1834 y 2- Andres Maienlied (“Hexenlied”) Op. 8\, nº 8 / 1827\nSergey Rachmaninov:\n«12 romances» Op. 21 / 1902: Ya ne prorok (A. Kruglov) / y 2-«14 romances” Op. 34 / 1912: Muza (A. Pushkin) / Burya (A. Pushkin) / Arion (A. Pushkin)\nRichard Strauss :\nKling op. 48 nº3 (O. J. Bierbaum y K. Henckell) / 1900; / Amor\, Op.68 nº5 (C. Brentano) / 1918; / Allerseelen Op 10 n°8 / 1885; / Zueignung Op.10 n° 1 / 1885 \nDÚO EVOCACIÓN \nEl dúo Evocación está formado por la soprano ucraniana Olha Viytiv y el pianista valenciano Hilario Segovia. Esta formación nace a mediados de septiembre de 2016 gracias a la inquietud de sus componentes por abordar un repertorio que fusiona la poesía y la música en un escenario íntimo\, donde la palabra es elevada gracias al hecho musical. Fruto de su trabajo por buscar un sonido sincero\, trabajado y siempre desde el respeto por la partitura\, los componentes de esta agrupación buscan dar a conocer un repertorio que abarca los escenarios sonoros más diversos\, posibilitando una puesta en escena dinámica y variada. Han actuado en diferentes auditorios a nivel estatal. Entre sus últimas actuaciones cabe destacar el recital llevado a cabo en la Lviv Philarmonic Hall (Lviv\, Ucrania). En 2017 se les otorgó el 1er premio y premio del público en el Concurso de Música de Cámara de Alzira así como el 2do premio en el Concurso de Música de Cámara “Ciutat de Borriana”. A su vez\, han sido finalistas en el Concurso Internacional de Música de Cámara “Antón Garcia Abril”. Próximamente tienen compromisos en diferentes auditorios a lo largo de la geografía nacional. Han recibido consejos de la soprano Ofelia Sala\, especializada en el género del lied\, de la prestigiosa repertorista Husan Park\, de Francisco Escoda (Trío Musicalis) y del compositor Antón García Abril\, con quien han trabajado su ciclo Siete canciones de amor. \nOLHA VIYTIV.- Soprano\nEmpieza a estudiar piano y canto a los 7 años en su ciudad natal Lviv (Ucrania). Para seguir sus estudios\, ya como cantante\, ingresa en La Academia Nacional de Música de Lviv M. Lýsenko.\nEn 2012 se traslada a España para estudiar en el Conservatorio Superior de Música “Joaquín Rodrigo” de Valencia en la especialidad de canto de la mano de Patricia Llorens Puig y Carlos López Galarza. Amplía su formación vocal e interpretativa en las clases magistrales de Montserrat Caballé y David Menéndez.\nHa formado parte de La Coral Catedralicia de Valencia y La Coral Santa María del Mar de la misma ciudad. En el campo de la ópera ha interpretado «Dido y Eneas” de H. Purcell en el Auditorio de Joaquín Rodrigo de Valencia y en el Gran Teatre de Xátiva con el papel de Bruja\, “Una cosa rara” de V. Martín y Soler en el Auditorio de Joaquin Rodrigo de Valencia con el papel de Ghita. Ha interpretado el papel de soprano solista en la cantata “Carmina Burana” de Carl Orff en el auditorio Molí de Vila de Quart de Poblet.\nParticipa en los conciertos solidarios organizados por la ONG España-Ucrania. En 2016 actuó en Argentina\, invitada por la embajada de Ucrania.\nEn 2017 finaliza sus estudios de postgrado máster de “Interpretación operística” en el Conservatorio Superior de Valencia bajo la tutela de la soprano Ofelia Sala\, interpretando los roles de Hada en “La reina de las hadas” de H. Purcell y Despina en “Così fan tutte” de W. A. Mozart. Ha actuado en los auditorios del Palau de la música y Palau de les Arts Reina Sofia de Valencia\, entre otros. \nHILARIO SEGOVIA BADÍA.-Piano\nInicia sus estudios musicales a los 8 años en la Escolanía de Ntra. Sra. de los Desamparados de Valencia\, donde compagina canto con piano y violín. Posteriormente accede al Conservatorio Profesional “Perfecto García Chornet” de Carlet en la especialidad de piano bajo la tutela de José Luís Nogues\, obteniendo las máximas calificaciones. Es allí donde se presenta por primera vez como solista interpretando el Concierto Nº.2 para piano y orquesta Op. 19 de Beethoven\, junto la orquesta de dicho conservatorio y bajo la dirección de Sergio Furió. Al finalizar sus estudios de grado profesional obtiene el Premio Extraordinario.\nCursa el Grado Superior de piano en el Conservatorio Superior de Música “Joaquín Rodrigo” de Valencia\, siendo su profesor Jesús Ángel Rodríguez. Durante el curso 2012-2013 interpreta junto a la orquesta de dicho conservatorio el concierto para piano y orquesta nº1 de Tchaikovsky\, bajo la dirección de Adolfo Ramírez\, a la vez que finaliza sus estudios con el Recital de Final de Carrera con el que obtiene matrícula de honor. En noviembre de 2013 se presenta como solista junto a la Orquesta Sinfónica Lira Saguntina bajo la batuta de David Gómez Ramírez\, donde interpreta el Concierto para piano y orquesta Nº2 Op.18 de Rachmaninoff.\nEn julio de 2014 se gradúa en el Máster Universitario en Interpretación e Investigación Musical impartido por la Universidad Internacional Valenciana (VIU)\, siendo allí su mentor el concertista Eugen Indjic\, y obteniendo un sobresaliente en el Recital Final. Ha recibido consejos del pianista valenciano Xavier Torres.\nActualmente desarrolla su faceta pedagógica en el Conservatorio Superior de Música de Castellón como repertorista.
URL:https://leoncultural.com/evento/duo-voz-y-piano-olha-viytiv-soprano-hilario-segovia-piano/
LOCATION:Sala EUTHERPE\, Alfonso V\, 10\, León\, León\, 24001\, España
CATEGORIES:Conciertos,Música
ATTACH;FMTTYPE=image/jpeg:https://leoncultural.com/wp-content/uploads/2018/03/Olha-Viytiv-Hilario-Segovia-.jpg
END:VEVENT
END:VCALENDAR