BEGIN:VCALENDAR
VERSION:2.0
PRODID:-//León Cultural - ECPv5.16.4.1//NONSGML v1.0//EN
CALSCALE:GREGORIAN
METHOD:PUBLISH
X-WR-CALNAME:León Cultural
X-ORIGINAL-URL:https://leoncultural.com
X-WR-CALDESC:Eventos para León Cultural
BEGIN:VTIMEZONE
TZID:Europe/Paris
BEGIN:DAYLIGHT
TZOFFSETFROM:+0100
TZOFFSETTO:+0200
TZNAME:CEST
DTSTART:20180325T010000
END:DAYLIGHT
BEGIN:STANDARD
TZOFFSETFROM:+0200
TZOFFSETTO:+0100
TZNAME:CET
DTSTART:20181028T010000
END:STANDARD
END:VTIMEZONE
BEGIN:VEVENT
DTSTART;TZID=Europe/Paris:20180318T123000
DTEND;TZID=Europe/Paris:20180318T140000
DTSTAMP:20260424T104355
CREATED:20180316T190025Z
LAST-MODIFIED:20180316T190025Z
UID:17562-1521376200-1521381600@leoncultural.com
SUMMARY:Concierto interactivo del artista Neønymus. MUSAC
DESCRIPTION:Concierto interactivo del artista Neønymus. MUSAC\n18 de marzo a las 12:30 horas \nEl 18 de marzo a las 12:30 horas música\, fantasía e instrumentos insólitos serán los protagonistas de ‘Historia inventada de la música inventada’\, una propuesta musical gratuita dirigida a niños y niñas a partir de 3 años y sus familias. \nLa programación familiar del MUSAC\, Museo de Arte Contemporáneo de Castilla y León\, continúa el domingo 18 de marzo a las 12:30 horas con ‘Historia inventada de la música inventada’\, un concierto didáctico e interactivo a cargo de Neønymus. Se trata de una actividad gratuita dirigida a niños y niñas a partir de 3 años y sus familias\, previa recogida de invitación en la taquilla del museo desde las 11:00 horas del domingo. \nA través de la música\, la fantasía y un montón de instrumentos insólitos y reciclados\, Neønymus relatará  una ‘Historia inventada de la música inventada’\, llena de sorprendentes píldoras culturales y de humor. Los asistentes participarán en la interpretación de algunas canciones y en la fabricación de instrumentos con objetos cotidianos. \nSilberius de Ura es el artista  detrás del proyecto neønymus\, marcado por la  fascinación por la mezcla de lo rural y lo primitivo con lo tecnológico.  Silberius se define a sí mismo como un artista integral (es decir\, sin refinar) y vive en un pequeño pueblo de la provincia de Burgos (España). \nInformación práctica \nConcierto didáctico ‘Historia inventada de la música inventada’ \nImpartido por: Neonýmus \nLugar: Salón de Actos MUSAC \nFecha y hora: Domingo 18 de marzo\, 12:30 h. \nDirigido a: Público familiar. Recomendado a partir de 3 años. \nPlazas: 100 plazas (los niños/as deben ir acompañados de adultos) \nPrecio: Actividad gratuita previa recogida de invitación desde las 11:00 h. del domingo 18 de marzo.
URL:https://leoncultural.com/evento/concierto-interactivo-del-artista-neonymus-musac/
LOCATION:MUSAC
CATEGORIES:Conciertos,Música
ATTACH;FMTTYPE=image/jpeg:https://leoncultural.com/wp-content/uploads/2018/03/neonymus-MUSAC.jpg
END:VEVENT
BEGIN:VEVENT
DTSTART;TZID=Europe/Paris:20180318T200000
DTEND;TZID=Europe/Paris:20180318T213000
DTSTAMP:20260424T104355
CREATED:20180314T203419Z
LAST-MODIFIED:20180314T203419Z
UID:17494-1521403200-1521408600@leoncultural.com
SUMMARY:Concierto de piano de Jose Antonio Tolosa. Sala Eutherpe
DESCRIPTION:Concierto de piano de Jose Antonio Tolosa. Sala Eutherpe\n18 de marzo de 2018 a las 20:00 horas \n1ª PARTE\nFrederic Chopin::\nPolonesa op 26 nº 1\nF.Chopin:\nMazurkas: – op 7 nº 1 – op 17 nº 4 – op 33 nº 4 – op 63 nº 3\nF.Chopin:\nEstudios op 10: – nº 5 en sol bemol Mayor – nº 6 en mi bemol menor – nº 12 en do menor\nF. Chopin:\nImpromtu nº 3 op 51\nF.Chopin:\nBalada nº 1 op 23 \n2ª PARTE\nFrederic Chopin/Franz liszt::\nCantos Polacos S. 480 – Wiosna (Primavera) – Pierócie ì (El anillo) – Hulanka (Bacanal)\nFranz Liszt::\nAprés une lecture du Dante \nJosé Antonio Tolosa nace en Xirivella (Valencia) en 1996. Comienza la práctica musical tocando la flauta travesera. Estudió piano 5 años en el Conservatorio Profesional de Música de Valencia con la profesora María Amparo Morell\, terminando sus estudios con las más altas calificaciones. En 2015 comienza sus estudios en la Escuela Superior de Música de Cataluña (ESMUC) donde aún continúa bajo la tutela del profesor Rafael Salinas. \nRecientemente ofreció un recital en el auditorio del museo Scriabin en Moscú\, así como también en el teatro de krasnogorsk. A lo largo de su trayectoria ha actuado también en el Palau de les Arts y el palau de la música de Valencia\, así como también en algunas salas de Barcelona\, Madrid\, Bruselas y Grecia. \nEn 2015 fue finalista del concurso nacional de piano de carlet\, y en 2016 participó en el festival «primavera pianística» (Bruselas). Asimismo\, ha sido premiado en otros certámenes nacionales de piano\, como el primer premio en el concurso para jóvenes pianistas “vila de Torredembarra”(2015)\, o el segundo premio en el concurso “ciutat de Mataró” (2017). En el presente año\, ha participado en el «poros piano festival» (Grecia)\, donde ofreció recitales e interpretó el concierto para piano y orquesta no 2 de Frederic Chopin\, y durante el mes de octubre tocó en Moscú en el marco del festival «musical Krasnogorsk» \, así como también en la Global Granados Marathon\, que tuvo lugar en lleida cumpliendo con el 150 aniversario del nacimiento del compositor español. En su formación ha recibido consejos y clases de personalidades tan importantes como Vladimir Tropp\, Stephen Kovacevich\, Aquiles delle Vigne\, Josu de Solaun\, Yuri Bogdanov\, kennedy moretti…que han destacado su gran sensibilidad e intuición. También lleva a cabo una pequeña actividad como compositor\, que comprende algunas miniaturas para piano\, un concierto y también obras orquestales.
URL:https://leoncultural.com/evento/concierto-de-piano-de-jose-antonio-tolosa-sala-eutherpe/
LOCATION:Sala EUTHERPE\, Alfonso V\, 10\, León\, León\, 24001\, España
CATEGORIES:Conciertos,Música
ATTACH;FMTTYPE=image/jpeg:https://leoncultural.com/wp-content/uploads/2018/03/jose-antonio-tolosa.jpg
END:VEVENT
BEGIN:VEVENT
DTSTART;TZID=Europe/Paris:20180318T203000
DTEND;TZID=Europe/Paris:20180318T220000
DTSTAMP:20260424T104355
CREATED:20180317T222336Z
LAST-MODIFIED:20180317T222336Z
UID:17590-1521405000-1521410400@leoncultural.com
SUMMARY:Moher en concierto. Molly Malones León
DESCRIPTION:Moher en concierto. Molly Malones León\n18 de marzo de 2018 a las 20:30 horas \nEl Domingo celebración\nST.PATRICK’S DAY 2018\nCon el mejor directo del grupo de folk\n“MOHER”\nConsigue tu gorro GUINESS con cada 2 pintas\n20:30h. Con acceso libre.
URL:https://leoncultural.com/evento/moher-en-concierto-molly-malones-leon/
LOCATION:Molly Malone´s
CATEGORIES:Conciertos,Música
ATTACH;FMTTYPE=image/jpeg:https://leoncultural.com/wp-content/uploads/2018/03/Moher-molly-malones.jpg
END:VEVENT
END:VCALENDAR