BEGIN:VCALENDAR
VERSION:2.0
PRODID:-//León Cultural - ECPv5.16.4.1//NONSGML v1.0//EN
CALSCALE:GREGORIAN
METHOD:PUBLISH
X-WR-CALNAME:León Cultural
X-ORIGINAL-URL:https://leoncultural.com
X-WR-CALDESC:Eventos para León Cultural
BEGIN:VTIMEZONE
TZID:Europe/Paris
BEGIN:DAYLIGHT
TZOFFSETFROM:+0100
TZOFFSETTO:+0200
TZNAME:CEST
DTSTART:20180325T010000
END:DAYLIGHT
BEGIN:STANDARD
TZOFFSETFROM:+0200
TZOFFSETTO:+0100
TZNAME:CET
DTSTART:20181028T010000
END:STANDARD
END:VTIMEZONE
BEGIN:VEVENT
DTSTART;TZID=Europe/Paris:20180309T234500
DTEND;TZID=Europe/Paris:20180310T010000
DTSTAMP:20260420T114754
CREATED:20180308T100320Z
LAST-MODIFIED:20180308T100320Z
UID:17323-1520639100-1520643600@leoncultural.com
SUMMARY:El Meji en concierto. Sala Nox León
DESCRIPTION:El Meji en concierto. Sala Nox León\nViernes 9 de marzo a las 23:45 horas \nMeji de Bonanza: En 2010\, grabé una maqueta solo con la guitarra\,”ffff resoplando” grabado con Pinchi Records; En 2011 un medio disco maketa con guitarra\, cajón y algo de percusión\, ”Perdido en el río” grabado en el estudio Don Pepito Music. \nFue en 2012 cuando decidí grabar algo con banda\, y junto a Victor Castro\, Gaston Zadoff y Raúl Redondo\, grabamos el disco “Perdido en la montaña” en Music Center. En diciembre de ese año\, con el disco ya en la mano\, empezamos a dar conciertos juntos. \nA mediados de 2012 Raúl Redondo\, por motivos de trabajo deja de tocar con nosotros y por él viene Carlos Carrera Mendez\, \nEn 2014 sacamos nuevo disco\, Tele club\, 15 temas\, variados\, pero predomina el rock. A finales de 2014 me metí a grabar un disco en directo con los chicos de Grupos de León que se llama «Perdido en el Alter Ego» un garito que recomiendo\, donde Pili y Jose os tratarán genial. El disco es un acústico en directo con muchas colaboraciones. En 2015 entra Pepe Amez como nuevo batería de la banda. A finales de 2015 comenzamos a grabar un uevo disco\, prisioneros\, mas rockero que los anteriores el cual presentamos en febrero de 2016. \nEn 2017 grabonuevo disco\, en los Estudios Dynamita (Asturias)\, a cargo de Dani G. La Rabia\, con Raúl Redondo\, Victor Castro\, GAstón y el propio Dani que mete gran parte del as guitarras\, algún bajo y más cosillas. Se incorpora a la banda como guitarra.\nEl formato de conciertos puede ser yo sólo en acústico\, con dos bombos\, uno electrónico con el que hago el tiempo de la caja\, y otro acústico\, también llevo una chufleta\,(hombre orquesta\, jiji) o con toda la banda al completo. Con la banda mas rock\, en solitario mas rumba..
URL:https://leoncultural.com/evento/el-meji-en-concierto-sala-nox-leon/
LOCATION:Sala Pub Nox\,  Calle Matasiete\,  León\,  León\, 24003\, España
CATEGORIES:Conciertos,Música
ATTACH;FMTTYPE=image/jpeg:https://leoncultural.com/wp-content/uploads/2018/03/El-Meji-sala-nox.jpg
END:VEVENT
BEGIN:VEVENT
DTSTART;TZID=Europe/Paris:20180310T190000
DTEND;TZID=Europe/Paris:20180310T233000
DTSTAMP:20260420T114754
CREATED:20180310T060253Z
LAST-MODIFIED:20180310T060253Z
UID:17342-1520708400-1520724600@leoncultural.com
SUMMARY:Concierto GHB + Rat-Zinger + Los Montañeros de Kentucky en Espacio Vías
DESCRIPTION:Concierto GHB + Rat-Zinger + Los Montañeros de Kentucky en Espacio Vías\n10 de marzo a las 19:00 horas \nEntradas: Anticipada 16 € (Plan B\, Roots\, Mongogo\, Misericordia\, La Revuelta\, Encuadernación Jesús Martín y Weegow) y en taquilla 20 €. Prohibida la entrada a menores de 18 años \nLeón Joven: Pocas veces el diablo se pone de nuestra parte\, pero lo hemos conseguido. Primera visita a León de GBH y Rat-Zinger\, y ambos presentando sus nuevos trabajos\, en el que podríamos denominar “MOMENTUM SANTA CALAVERA TOUR”.Los Británicos vendrán presentando su nuevo trabajo “Momentum”\, doce trallazos de punk rápido y mordaz\, mezclados y producidos por Lars Frederiksen(Rancid)\, Por su parte\, los bilbaínos lanzan el 2 de Febrero su quinto trabajo\, Santa Calavera; Una evolución más en su estilo que\, lejos de quedarse estancado y complaciente\, continua buscando nuevas formas de expresión. Y para abrir la noche\, el personal y contundente hardcore de una de las bandas locales con mas proyección\, Los Montañeros De Kentucky.
URL:https://leoncultural.com/evento/concierto-ghb-rat-zinger-los-montaneros-de-kentucky-en-espacio-vias/
LOCATION:Espacio VIAS\, Av del Padre Isla\, 48\, León\, León\, 24008 \, España
CATEGORIES:Conciertos,Música
ATTACH;FMTTYPE=image/jpeg:https://leoncultural.com/wp-content/uploads/2018/03/Espacio-Vias-GBH.jpg
END:VEVENT
BEGIN:VEVENT
DTSTART;TZID=Europe/Paris:20180310T200000
DTEND;TZID=Europe/Paris:20180310T210000
DTSTAMP:20260420T114754
CREATED:20180310T054542Z
LAST-MODIFIED:20180310T054542Z
UID:17333-1520712000-1520715600@leoncultural.com
SUMMARY:Concierto voz y piano: Romina Casucci - soprano / Beatrice Amato - mezzo / Luciano Ruotolo -piano en la Sala Eutherpe
DESCRIPTION:Concierto voz y piano: Romina Casucci – soprano / Beatrice Amato – mezzo / Luciano Ruotolo -piano en la Sala Eutherpe\n10 de marzo de 2018 a las 20:00 horas \nPROGRAMA\nV. Bellini «Ma rendi pur contento» Soprano Romina Casucci \nG. Donizetti » Me voglio fa ‘na casa» Soprano Romina Casucci \nS. Donaudy  «O del mio amato ben » Mezzosoprano Beatrice Amato \nC.W.Gluck  «O del mio dolce ardor» Mezzosoprano Beatrice Amato \nF. P. Tosti «Amour!Amour!» Soprano Romina Casucci \nF. P Tosti «‘A vucchella» Soprano Romina Casucci \nL. Delibes Lakme «Dome épais le jasmin» Mezzosoprano Beatrice Amato \nC. Saint Saens Samson et Dalila «Mon coeur s’ouvre a ta voix » Mezzosoprano Beatrice Amato \nG. Puccini La Bohème «Si\, mi chiamano Mimì» Soprano Romina Casucci \nG. Verdi Oberto conte di Bonifacio «Oh\, chi torna l’ardente pensiero» Mezzosoprano Beatrice Amato \nC. Gounod Romeo and Juliet «Dieu! quel frisson court dans mes veines» Soprano Romina Casucci \nMezzosoprano Beatrice Amato\nSoprano Romina Casucci\nPianoforte Luciano Ruotolo \nRomina Casucci.- Soprano \nNace en Nápoles. Diplomada en canto y piano en el Conservatorio San Pietro a Majella\, donde poco después\, en 2008\, consigue también el título de segundo grado en canto y música coral. Perfecciona sus estudios de canto con L. Serra\, L.Cuberli\, R. Scotto\, D. D’Annunzio Lombardi\, M. Devia. \nEs ganadora de importantes premisos en concursos internacionales\, como el “Concurso Europeo “Luigi Denza”; “Concurso Lirico “Città di Mercato San Severino”; Concurso Nacional “Francesco Paolo Tosti”; “Concurso Lírico Internacional “G.Papini” por la ópera La Bohème\, en el papel de Musetta; Concurso Internacional “Myricae”; o el internacional Città di S.Leucio”; el Illica Opera Stage”; el Augusto Zabaroni”; y el «Francesco PaoloTosti». \nHizo su debut muy joven en el papel de Gilda\, en la ópera Rigoletto de G.Verdi\, en el Teatro Gigli di Recanati\, rol que interpretará nuevamente en el Festival Pergine\, en el Auditorio Pedrotti de Pesaro acompañada de la orquesta Rossini de Pesaro\, bajo la dirección del Maestro Agiman\, en el Soka Performing Arts Center de Los Ángeles dentro del Festival de la Ópera de Italia; en el Teatro San Carlos de Lisboa\, bajo la dirección del Maestro Andrè y dirigida por F. Esposito\, en la Ópera Nacional de Bucarest  bajo la dirección de S. Barlow. \nLe acompañan una serie de éxitos en distintos roles e interpretaciones como la de Ascanio en Lo Frate‘Nnammorato\, de G.B.Pergolesi\,  Violeta de La Traviata\, de G.Verdi.Musetta de La Bohème deG.Puccini… \nHa participado como soprano solista en la Novena Sinfonía de L. van Beethoven dirigida por el Maestro D. Renzetti con la Orquesta Sinfónica de Abruzzese. \nColabora desde hace años con el Instituto Nacional Tosti realizando conciertos organizados en Japón para la Munetsugu Hall en Nagoya y Osaka\, en Viena\, Francia\, y de Ortona en colaboración con los Amigos de la Música de Foligno. \nCon motivo de la celebración del bicentenario del nacimiento de G. Verdi\, participó en el Concierto / Conferencia a él dedicado en el Salón de la Reina del Palazzo Montecitorio en Roma y en el Conservatorio de S. Pietro a Majella en Nápoles como soprano representante de la Institución Musical en su conjunto\,  con el Maestro Muti y la Synphony Orchestra de Chicago. \nInvitada al programa de la RAI dedicado a la lírica\, «Applausi La vita è scena»\, donde analizó  en profundidad el Rigoletto de Verdi. Ha grabado la Ópera integral de F.P. Tosti para Brilliant Classic. \nEn julio pasado realizó un Master en Bel Canto Italiano en el Forum Internacional Musikae\, en Madrid. \n  \nBEATRICE AMATO-mezzosoprano. \nNace en  Salerno. Es licenciada en Derecho y titulada en Canto con las máximas calificaciones en el Conservatorio Martucci de Salerno\, el 6 de octubre de 2011. En 2012 ganó la audición como mezzo-soprano en el Coro Teatro Verdi de dicha ciudad\, participando desde 2012 hasta 2015 en diversas producciones en Italia y China\, en la Casa de la Ópera de Guangzhou\, bajo la dirección de Daniel Oren. \nFinalista en el concurso lírico internacional ‘Mario Lanza’ de Filignano (IS) el 14 de agosto de 2017 y finalista en el concurso de la Academia Verdi organizado por el Teatro Regio de Parma\, el 5 de julio de 2017. \nHa dado numerosos conciertos por Italia\, colaborando con orquestas sinfónicas\, a la vez que participa en concursos de canto\, nacionales e internacionales y asiste constantemente a clases magistrales para el perfeccionamiento del canto lírico. \nDurante años también trabajó en el campo de la música de la ópera\,  opereta\, el góspel\, jazz\, música pop italiana e internacional\, y muy especialmente con la música y canción napolitana que con frecuencia interpreta en festivales locales\, y conciertos en general. \nGanadora del primer premio en el concurso lírico internacional «Umberto Giordano»\, de Foggia; Segundo premio en el concurso internacional «La música en el mundo»\, de Salerno 2015; tercer premio en el concurso internacional «Leopoldo Mugnone» de Caserta\, 2013. \nHa participado en varias clases magistrales de alta especialización en canto de ópera y representación teatral impartidas por los Maestros: Davide Dellisanti (2017)\, Fiorenza Cedolins (2016)\, Alida Berti (2015)\, Bruna Baglioni (2013)\, Luigi Petrozziello (2012) o Katia Ricciarelli (2008) Su debut operístico se produjo interpretando el papel de Flora en «La Traviata» de Verdi\, en el Teatro Garibaldi de Nápoles\, con la dirección artística de Nataliya Apolenskaya y la dirección musical del Maestro Schirone\, en marzo de 2013. \n  \nLuciano Ruotolo.-Piano \nGraduado con honores en piano en el Conservatorio ‘S. Pietro a Majella ‘ de Nápoles\, se inicia con Paolo Spagnolo y concluye con María Luisa Carretta. Más tarde se perfecciona con Bruno Mezzena en la Academia Internacional de Pescara y con Vincenzo Balzani. \nEn 2012-2013 asistió al Curso de Actividad Musical Autónoma y Autoemprendedores (AMA) en la Academia del Teatro La Scala de Milán. Ha tocado para varias organizaciones como: La Camerata Instrumental Campana\, Il Tempietto di Roma\, Zonta International\, Fundación ‘W. Walton’ de Ischia\, Napolinova\, Euterpe\, Círculo Darwin\, Palazzo Venezia de Nápoles\, Asociación Mousike\, Academia Teatro Scala etc. \nEn 2002 actuó en el Conservatorio de Praga como representante del Conservatorio de Nápoles. En 2011\, con un recital individual en el Teatro Garibaldi de Enna\, inauguró la exposición ‘È Vento di Cultura 2011’. \nHa actuado en  Polonia\, Austria\, República Checa y Francia. \nEs fundador con la soprano Romina Casucci de  la Asociación Mousike y del Proyecto Academia Músical Europea con sede en el histórico Palacio Venecia de Nápoles\, así como fundador y director artístico de varios eventos culturales y musicales desde 2010. \nLuciano Ruotolo se dedica a la difusión e iniciativas en las que la música se considera un medio de crecimiento y formación social. Con esta perspectiva\, en 2010\, dio a luz a una serie de exposiciones y eventos (‘Little Notes’\, ‘La formación continua para jóvenes pianistas’\, concierto-Show\, ‘Las mañanas Musicales’\, ‘Conciertos de las ilustraciones’ dedicados a Beethoven\, Mozart\, Rossini\, Chopin y Schumann\, ‘el arte y la música en el Monasterio de los Treinta y tres’\, ‘impulsos de arte’\, ‘vendimia Cineconcerto’\, ‘Cultura’ …\, así como cursos avanzados de formación musical y talleres musicales para niños. \nColabora con organizaciones nacionales e internacionales\, siendo director artístico de las ‘Reuniones musicales en el Palazzo Venecia Nápoles’ organizadas entre 2012 y 2018 con colaboraciones internacionales. Fue ponente en el evento ‘The European Investigchers’ Night ‘organizado en Venecia por la Universidad de Cà Foscari. \nEn el mismo año académico\, la Universidad de Fisciano le invita a dar una conferencia dedicada a las analogías entre la interpretación musical y la de una  compañía. En mayo de 2015 abrió con la soprano Romina Casucci las celebraciones oficiales del proyecto dedicado al centenario de la muerte del compositor FP. Tosti\, con el concierto titulado ‘La canción de una vida’\, en la Sala Scarlatti del Conservatorio S. Pietro a Majella \, de Nápoles\,  organizado en colaboración con la Asociación Mousikè y el Instituto Nacional de Tosti de Ortona\, que fue ampliado hasta 2016 con conciertos\, exposiciones y colaboraciones nacionales. En marzo de 2016 realizó una gira por los Estados Unidos\, en la que también interpretó obras inéditas en la Universidad Northem de Colorado durante las Conferencias dedicadas a la difusión del nuevo repertorio para piano.
URL:https://leoncultural.com/evento/concierto-voz-y-piano-romina-casucci-soprano-beatrice-amato-mezzo-luciano-ruotolo-piano-en-la-sala-eutherpe/
LOCATION:Sala EUTHERPE\, Alfonso V\, 10\, León\, León\, 24001\, España
CATEGORIES:Conciertos,Música
ATTACH;FMTTYPE=image/jpeg:https://leoncultural.com/wp-content/uploads/2018/03/Eutherpe-Romina-piano.jpg
END:VEVENT
BEGIN:VEVENT
DTSTART;TZID=Europe/Paris:20180310T210000
DTEND;TZID=Europe/Paris:20180310T223000
DTSTAMP:20260420T114754
CREATED:20180305T083743Z
LAST-MODIFIED:20180305T083743Z
UID:17180-1520715600-1520721000@leoncultural.com
SUMMARY:The Beatles Symphonic\, All You Need Is Love en el Auditorio municipal Ciudad de León
DESCRIPTION:The Beatles Symphonic\, All You Need Is Love en el Auditorio municipal Ciudad de León\n10 de marzo a las 21:00 horas \n \n\nEl único homenaje sinfónico Beatles hecho en Europa \nFECHA / HORA:  10 de marzo de 2018 /  21.00 H \nORGANIZA:  DGB PRODUCCIONES \n\nPRECIO LOCALIDADES:\nPlatea: 32 €\nAnfiteatro: 28 €\nVENTA DE LOCALIDADES:\n–          Taquillas del Auditorio de L a V de 16:00 a 20:30h\n–          www.aytoleon.es\n–          www.auditorioleon.es\nTEXTO:\nUna orquesta sinfónica\, una banda de rock y 4 grandes voces. Los grandes éxitos de la banda británica que cambió la historia de la música como nunca antes los habías escuchado. 25 artistas en el escenario\, video proyecciones\, y – lo más importante – grandes músicos en absoluto directo. Un homenaje a The Beatles\, un homenaje a la Música en Vivo. 90 minutos de grandes emociones. Es una producción eslovaca y española\, con músicos profesionales de ambos países.
URL:https://leoncultural.com/evento/the-beatles-symphonic-all-you-need-is-love-en-el-auditorio-municipal-ciudad-de-leon/
LOCATION:Auditorio Ciudad de León\, Av. de los Reyes Leoneses\, 4\, 24008 León\, León\, León\, 24008\, España
CATEGORIES:Conciertos,Música
ATTACH;FMTTYPE=image/jpeg:https://leoncultural.com/wp-content/uploads/2018/03/All-you-need-is-Love-Beatles-Symphonic.jpg
END:VEVENT
BEGIN:VEVENT
DTSTART;TZID=Europe/Paris:20180310T233000
DTEND;TZID=Europe/Paris:20180310T233000
DTSTAMP:20260420T114754
CREATED:20180310T061124Z
LAST-MODIFIED:20180310T061139Z
UID:17346-1520724600-1520724600@leoncultural.com
SUMMARY:'The Lonely Boy' en concierto con entrada libre en el Gran Café León
DESCRIPTION:‘The Lonely Boy’ en concierto con entrada libre en el Gran Café León\nSábado 10 de marzo a las 23:30 horas \nThe Lonely Boy es la continuación del proyecto musical que comenzó hace más o menos un año con «Oh Yeah!»\, un dúo formado por los dos guitarristas\, Diego Moro y Saúl Rodriguez\, de la banda de Metal leonesa Death Bringer. La idea de Oh Yeah! siempre fue hacer Country/Folk y\, un año después\, y con la marcha de Saúl por motivos laborales sigue con el mismo espíritu\, ahora solo con Diego a la guitarra\, voz y percusiones. Después de algunos conciertos como Diego Moro\, a partir de ahora será conocido como The Lonely Boy.
URL:https://leoncultural.com/evento/the-lonely-boy-en-concierto-con-entrada-libre-en-el-gran-cafe-leon/
LOCATION:El Gran Café\, Calle Cervantes\, 7\, León\, León\, 24003\, España
CATEGORIES:Conciertos,Música
ATTACH;FMTTYPE=image/jpeg:https://leoncultural.com/wp-content/uploads/2018/03/The-lonely-boy.jpg
END:VEVENT
END:VCALENDAR