BEGIN:VCALENDAR
VERSION:2.0
PRODID:-//León Cultural - ECPv5.16.4.1//NONSGML v1.0//EN
CALSCALE:GREGORIAN
METHOD:PUBLISH
X-WR-CALNAME:León Cultural
X-ORIGINAL-URL:https://leoncultural.com
X-WR-CALDESC:Eventos para León Cultural
BEGIN:VTIMEZONE
TZID:Europe/Paris
BEGIN:DAYLIGHT
TZOFFSETFROM:+0100
TZOFFSETTO:+0200
TZNAME:CEST
DTSTART:20180325T010000
END:DAYLIGHT
BEGIN:STANDARD
TZOFFSETFROM:+0200
TZOFFSETTO:+0100
TZNAME:CET
DTSTART:20181028T010000
END:STANDARD
END:VTIMEZONE
BEGIN:VEVENT
DTSTART;TZID=Europe/Paris:20180225T200000
DTEND;TZID=Europe/Paris:20180225T213000
DTSTAMP:20260424T120559
CREATED:20180222T052725Z
LAST-MODIFIED:20180222T062643Z
UID:16912-1519588800-1519594200@leoncultural.com
SUMMARY:Dúo violonchelo y piano: Alessandro Mauriello y Ángela Ignacchiti en la Sala Eutherpe. León
DESCRIPTION:Dúo violonchelo y piano: Alessandro Mauriello y Ángela Ignacchiti en la Sala Eutherpe. León\n25 de febrero a las 20:00 horas \n1ª PARTE\nW.H.Squire:\nHumoresque op. 26 para violoncello y piano\nA. Vivaldi:\nSonata III en La menor RV 43: Largo – Allegro – Largo – Allegro per violoncello e basso continuo\nG.Goltermann:\nNocturno op. 59/1 para violoncello y piano\nS.Rachmaninoff:\n“Vocalise”para violoncello y piano\nS.Conte:\nWildes Stuck (dedicato ad Alessandro) para violoncello solo \n2ª PARTE\nC.Saint-Saens:\n“Il Cigno” (El Carnaval de los animales) para violoncello y piano\nW.H.Squire:\nTarantella op.23 para violoncello y piano\nR.Galliano:\n“Tango pour Claude” para violoncello y piano \nAlessandro MAURIELLO Cello \nNacido en Milán en 2003\, comenzó a estudiar Violoncello a la edad de 5 años con Melisa Volpi en la Escuela de Música Dedalo de Novara. Desde 2013 estudia bajo la dirección de Graziano Beluffi en el Conservatorio «G. Verdi» de Milán. Asistió a clases magistrales de violonchelo con Fausto Castiglioni en Paola (CS)\, con Stefano Cerrato en Asti\, con Roberto Trainini en Guardia Piemontese (CS) y música de cámara con Luigi de Filippi. Es parte de » orquesta de menores de 13 años » de Milán dirigida por el Maestro Sergio Del Mastro con la que ha realizado numerosos conciertos en prestigiosas salas como el Teatro «Arcimboldi”\, Teatro «Dal Verme»\, «Piccolo Teatro»\, Sala Verdi del Conservatorio de Milán\, Teatro «Duse» en Bolonia\, o el Auditorio del Museo del Violín en Cremona. \nParticipó en varios concursos\, obteniendo en 2012 el primer premio en el concurso Internacional “Mozart»  para Jóvenes Músicos de Quinto Vicentino (VC)\, en 2015 el primer premio en el Concurso Internacional del Festival del Lago Como en Bellagio; en junio de 2016 es primer premio en el Concurso Internacional de Música Valsesia «Kaway Monterosa» en Varallo Sesia (VL). En 2017 es premiado  en el XXIII Concurso Nacional de Música de Cámara «Giulio Rospigliosi» en Lamporecchio (PT) formando un dúo de violonchelo y piano. En 2016 y 2017 fue seleccionado para participar en proyectos promovidos por la Orquesta Filarmónica del Teatro La Scala de Milán\, donde actuó como solista acompañado por Luisa Prandina antes de Arpa de Teatro La Scala de Milán. \nLa compositora milanesa Sandra Conte  le ha dedicado la obra para violonchelo solo\, «Wildestuke». \nAlessandro  ha realizado en noviembre de 2017 una gira de 5 Conciertos por México. Es invitado regularmente a participar en conciertos como solista y dúo para violonchelo y piano. \nAngela IGNACCHITI Piano. \nNacida en Nápoles\, estudió piano con H.Aisemberg\, JALepore y Paolo Spagnolo. Se graduó en el Conservatorio «G. Martucci» de Salerno. A continuación\,  obtiene con éxito su título en clavecín bajo la dirección de Marina Mauriello en el conservarvatorio  «G. Verdi » de  Milán\, donde también asistió al curso de Enseñanza de la Música. \nAsiste a clases magistrales  de piano en Italia\, Bélgica y España dirigidas por B. Canino\, D.Rivera\, Adelle Vigne y el dúo Moreno-Capelli. Ha realizado numerosos conciertos de piano como solista y en conjuntos de cámara en Italia\, Bélgica\, Francia\, Rumania\, el Principado de Mónaco y en el Festival Internacional de Música de Zumaya en España. \nActualmente lleva una intensa actividad concertística como pianista acompañante y como clavecinista que le ha llevado con éxito por las principales salas de conciertos como el Teatro Alfieri de Turín\, la «Academia de Verano de Lilienfeld y Musikakademie Altenburg en Austria\,  Palazzina Liberty\, Teatro Angelicum\, Teatro Alle Erbe de la «Sociedad de Conciertos» y «veladas musicales» en Milán\, el Teatro Anteo\, el «club de Prensa» y la «Sociedad del Jardín» de Milán\, La iglesia de Vivaldi en Venecia\, y en las principales ciudades italianas así como en Le Baux y París en Francia. \nHa colaborado con diversos grupos de cámara y orquestas como «La Archicembalo» Trio «Zephiro barroco»\, «Coro Bach» de Milán\, el «Mozart” de  Milán\, la Orquesta Sinfónica de Lecco\, o la Orquesta Dédalo de Novara. \nDesde hace varios años\, es miembro permanente del «ART GALLERY ENSEMBLE » con el que ha realizado más de una centena de conciertos por importantes instituciones y asociaciones de música en toda Italia y en el extranjero siempre recibiendo el aplauso generalizado de público y crítica. \nCon el mismo Ensemble\, grabó el CD «Opera…e non solo!”. Promotora de Eventos\, es Directora Artística de la Temporada de Conciertos «Note d’Arcadia»\, la Revista «Clásica» de Milán y la reseña «Antiche Note in Concerto» de Praia a Mare (CS). Profesora de Piano en I.C. Arcadia de Milán y del Curso de Clavecín en la Escuela de Música «Dedalo» de Novara. \n 
URL:https://leoncultural.com/evento/duo-violonchelo-y-piano-alessandro-mauriello-y-angela-ignacchiti-en-la-sala-eutherpe-leon/
LOCATION:Sala EUTHERPE\, Alfonso V\, 10\, León\, León\, 24001\, España
CATEGORIES:Conciertos,Música
ATTACH;FMTTYPE=image/jpeg:https://leoncultural.com/wp-content/uploads/2018/02/eutherpe-violonchelo-y-piano.jpg
END:VEVENT
BEGIN:VEVENT
DTSTART;TZID=Europe/Paris:20180225T203000
DTEND;TZID=Europe/Paris:20180225T220000
DTSTAMP:20260424T120559
CREATED:20180225T103927Z
LAST-MODIFIED:20180225T104717Z
UID:16979-1519590600-1519596000@leoncultural.com
SUMMARY:Volta en concierto + monólogo de Abi Power en el Molly Mallone's León
DESCRIPTION:Volta en concierto más monólogo de Abi Power en el Molly Mallone’s León\nDomingo 25 de febrero de a las 20:30 horas. \nEntrada libre\nSobre Volta:\ntwitter: @somosvolta\nwww.somosvolta.es\ninstagram: @somosvolta \nEn su web:\nVolta! somos un grupo madrileño de rock. Tras casi un año con esta formación final\, hemos decidido que ya es hora de que escuchéis lo nuevo… Bueno\, no solo lo nuevo\, sino también las canciones que siempre nos han acampañado durante estos años. \nY para eso vamos a grabar no 1\, ni 2\, sino un TRIPLE EP. Y os preguntaréis… ¿Por qué un triple EP? La respuesta es sencilla: queremos que tengáis todas nuestras canciones tal y como las tocamos ahora.\nDespués de nuestro primer LP «Bite Me» decidimos traducir las canciones al castellano\, hemos arreglado 4 de ellas que conformarán el primer EP «Bienvenido a la manada».\nJusto antes de que Kat se sentara a la batería sacamos el EP «Triple Salto Mortal»\, con 3 canciones\, las cuales vamos a regrabar y añadiremos una canción extra. \nSi habéis tenido la suerte\, el placer y el honor de asistir a alguno de nuestros últimos conciertos\, seguro que habréis escuchado alguna de nuestras nuevas canciones\, que incluiremos en el tercer EP al que llamaremos «Colmillo Blanco». \nEl próximo 24 de Febrero nos meteremos en el estudio a grabar. Hemos decidido confiar plenamente en Estudio Uno para esta labor\, ya que grabar en directo no es tan sencillo… En el estudio han grabado a artistas de la talla de Leiva\, Sabina\, Rayden… ¡Estaremos al nivel! \nTODAS las canciones que grabemos las vamos a grabar EN DIRECTO. 1 día\, 10 horas\, 14 canciones… ¿Qué significa eso? Significa que desde primera hora de la mañana estaremos dando caña los 5 dentro del mismo estudio para que lo que después escuchéis sea lo mas fiel a la realidad. Y no dudéis ni un segundo que haremos todo lo posible para que nos podáis seguir en directo en esa aventura.
URL:https://leoncultural.com/evento/volta-en-concierto-mas-monologo-de-abi-power-en-el-molly-mallones-leon/
LOCATION:Molly Malone´s
CATEGORIES:Conciertos,Humor,Música
ATTACH;FMTTYPE=image/jpeg:https://leoncultural.com/wp-content/uploads/2018/02/Volta.jpg
END:VEVENT
END:VCALENDAR