BEGIN:VCALENDAR
VERSION:2.0
PRODID:-//León Cultural - ECPv5.16.4.1//NONSGML v1.0//EN
CALSCALE:GREGORIAN
METHOD:PUBLISH
X-WR-CALNAME:León Cultural
X-ORIGINAL-URL:https://leoncultural.com
X-WR-CALDESC:Eventos para León Cultural
BEGIN:VTIMEZONE
TZID:Europe/Paris
BEGIN:DAYLIGHT
TZOFFSETFROM:+0100
TZOFFSETTO:+0200
TZNAME:CEST
DTSTART:20180325T010000
END:DAYLIGHT
BEGIN:STANDARD
TZOFFSETFROM:+0200
TZOFFSETTO:+0100
TZNAME:CET
DTSTART:20181028T010000
END:STANDARD
END:VTIMEZONE
BEGIN:VEVENT
DTSTART;TZID=Europe/Paris:20180223T200000
DTEND;TZID=Europe/Paris:20180223T213000
DTSTAMP:20260424T143500
CREATED:20180222T051851Z
LAST-MODIFIED:20180222T051851Z
UID:16908-1519416000-1519421400@leoncultural.com
SUMMARY:Concierto de piano de Germán Prieto en la Sala Eutherpe
DESCRIPTION:Concierto de piano de Germán Prieto en la Sala Eutherpe\nViernes 23 de febrero a las 20:00 horas. \n1ª PARTE\nTítulo programa:\n«Variazioni»\nL. van Beethoven:\nSonata para piano \, nº 32 en Do m.\, opus 11: Maestoso: Allegro con brio ed appassionato. Arietta: Adagio molto\, semplice e cantabile.\nJ. Brahms:\nVariaciones sobre un tema de Paganini (Volumen I y II)\nR. Schumann::\nEstudios Sinfónicos\, opus 13 \nGermán Prieto – Piano \nA los 5 años comenzó su trayectoria musical centrada en el estudio del Piano. Finalizó en Real Conservatorio Superior de Música «Victoria Eugenia» de Granada\, donde recibió\, además de la técnica de la interpretación del instrumento\, una valiosa manera de encontrar la autonomía y la autocrítica suficientes para avanzar en la continua formación. \nHa realizado Cursos de Perfeccionamiento Musical con figuras relevantes del panorama Nacional e Internacional como Vitaly Samoshko\, Guillermo González\, Jean-Claude Vanden Eynden\, Piero Rattalino\, Leonid Margarius\, Franco Scala\, Ana Guijarro\, Marie Françoise Bucquet y Javier Perianes entre otros. \nObtuvo el Primer Premio en el Concurso de Piano «Ciudad de Orihuela»\, Primer Premio en el Concurso de Piano «Eduardo del Pueyo» de Granada y Premio Especial de la Universidad Popular de Albacete en el XXXII Concurso de Piano «Ciudad de Albacete». \nEn el campo de la enseñanza\, lleva desde hace once años impartiendo clases en escuelas de música y academias\, así como en Conservatorios de la Comunidad Andaluza ocupando puestos de Profesor de Piano\, Música de Cámara y Pianista Repertorista. Actualmente es director y profesor de Piano del Seminario de Altos Estudios Musicales – Stage\, SAEMSTAGE. Junto a grandes Músicos y Profesionales del Trabajo Físico y Mental\, realiza una intensa labor para dotar de Consciencia\, Autonomía y Amor por la Música como valores fundamentales a cada Alumno. \nComo concertista tanto de Piano Solo\, Piano con Orquesta y Música de Cámara lleva desde sus comienzos\, recorriendo los escenarios de ciudades de la comunidad andaluza como Granada\, Málaga\, Almería\, Cádiz\, Huelva\, Sevilla\, Córdoba y Jaén\, así como de Murcia\, Ceuta\, Madrid o Alicante. También internacionales como los de Verona\, Gante y Bruselas\, incluyendo otros municipios que le han dado una gran experiencia. \n 
URL:https://leoncultural.com/evento/concierto-de-piano-de-german-prieto-en-la-sala-eutherpe/
LOCATION:Sala EUTHERPE\, Alfonso V\, 10\, León\, León\, 24001\, España
CATEGORIES:Conciertos,Música
ATTACH;FMTTYPE=image/jpeg:https://leoncultural.com/wp-content/uploads/2018/02/german-prieto-eutherpe.jpg
END:VEVENT
BEGIN:VEVENT
DTSTART;TZID=Europe/Paris:20180223T200000
DTEND;TZID=Europe/Paris:20180223T233000
DTSTAMP:20260424T143500
CREATED:20180222T053756Z
LAST-MODIFIED:20180222T053813Z
UID:16916-1519416000-1519428600@leoncultural.com
SUMMARY:Afrojuice 195 en concierto en Espacio Vías. León
DESCRIPTION:Afrojuice 195 en concierto en Espacio Vías. León\n23 de febrero a las 20:00 horas \nEs.pabila presenta a Afrojuice 195 en concierto. La banda de Afrotrap llegará a Espacio Vías Leónjoven el 23 de febrero.\nConcierto de Afrojuice 195\, en Espacio Vías Leónjoven.\nFecha: 23 de febrero a las 20 h.\nEntradas: 1 € (Espacio Joven Vías en horario de es.pabila: viernes y sábados de 17:00 a 1:00 horas  y domingos de 17:00 a 21:00 horas).\nEl afro trap es el género urbano del momento\, un estilo que se ha sacado de la manga MHD en Francia y con el que cambiará el skyline europeo. El afrotrap fusiona trap\, coupé de calé (estilo de Costa de Marfil) y afrobeat\, entre otros ingredientes.\nEn España sus máximos exponentes son Afrojuice 195\, o lo que es lo mismo\, Beronique\, Luis\, Daniel\, Cristian y Dominique\, jóvenes negros de ascendencia africana que\, desde el barrio de Fuenlabrada\, se expresan como nadie gracias a su propia jerga\, empapada de humor\, dosis de vacile y una pasión por el fútbol que\, entre otros\, les ha hecho aparecer en la mixtape que Neymar Jr liberó hace unos meses y en la que el astro brasileño reunía algunos de sus grupos y estilos favoritos.\nAhí reside el secreto de Afrojuice 195\, en su originalidad y manifiesto descaro en éxitos como “Paul Pogba” (430.000 views)\, “FIFA Street” (680.000 views)\, “TJ AKA Petit Matuidi”(487.000 views) o su tema destacado\, “Karim Benzema”\, con más de 1.820.000 views. Pero la música de este grupo no se centra en el fútbol\, como demuestran temas como “Bizness”\, “Afrorue”(con más de 2.250.000 reproducciones) o “Afrotwerk”. Su último éxito es “Joga Bonito” y con él Afrojuice 195 cerraron un verano en el que se han hecho oír por activa y pasiva\, ganándose la atención de medios y público y con el entran en un invierno tan caliente como el afrotrap que dominan.\nLa calle tiene nuevos representantes. Las pistas de baile nuevos jefes. ¡Afrojuice\, afrojuice\, afrojuice\, afrojuice!
URL:https://leoncultural.com/evento/afrojuice-195-en-concierto-en-espacio-vias-leon/
LOCATION:Espacio VIAS\, Av del Padre Isla\, 48\, León\, León\, 24008 \, España
CATEGORIES:Conciertos,Música
ATTACH;FMTTYPE=image/jpeg:https://leoncultural.com/wp-content/uploads/2018/02/Afrojuice-195.jpg
END:VEVENT
BEGIN:VEVENT
DTSTART;TZID=Europe/Paris:20180223T203000
DTEND;TZID=Europe/Paris:20180223T213000
DTSTAMP:20260424T143500
CREATED:20180222T055759Z
LAST-MODIFIED:20180222T060340Z
UID:16920-1519417800-1519421400@leoncultural.com
SUMMARY:Brothers in band tributa a Dire Straits en el Auditorio Ciudad de León
DESCRIPTION:Brothers in band tributa a Dire Straits en el Auditorio Ciudad de León\n23 de febrero a las 20:30 horas \nBROTHERS iN bAND está considerado en Europa como el mejor espectáculo homenaje a dIRE sTRAITS y llegará al Auditorio de León tras de una gira europea por auditorios y teatros de más de 40 ciudades de España\, Francia y Alemania y 35.000 espectadores.\n“The Very Best of dIRE sTRAITS” es el título del espectáculo con el que bROTHERS iN bAND desembarca en León el próximo 22 de diciembre. Un espectáculo de lujo que repasará lo mejor de la discografía de dIRE sTRAITS con una puesta en escena única.\n bROTHERS iN bAND está formado por 9 músicos que interpretan los grandes éxitos de la banda inglesa entre los años 1978 y 1991\, alcanzando un nivel de recreación tan alto que el propio Guy Fletcher\, teclista de dIRE sTRAITS y Mark Knopfler desde 1984\, llegó a confundir con el grupo original en un concierto en la localidad granadina de Atarfe.\nCon “The Very Best of dIRE sTRAITS” bROTHERS iN bAND nos transportará en su particular máquina del tiempo a través de un seleccionado\, amplio y cuidado repertorio que pertenece ya a la memoria colectiva de varias generaciones\, que revivirán el sonido limpio y cristalino de Down to the Waterline\, el antológico riff de Money For Nothing\, pasando por clásicos como Sultans of Swing\, Telegraph Road\, Romeo & Juliet\, Tunnel of Love Industrial Disease\, So Far Away\, Single Handed Sailor o Lady Writer entre muchos otros.
URL:https://leoncultural.com/evento/brothers-in-band-tributa-a-dire-straits-en-el-auditorio-ciudad-de-leon/
LOCATION:Auditorio Ciudad de León\, Av. de los Reyes Leoneses\, 4\, 24008 León\, León\, León\, 24008\, España
CATEGORIES:Conciertos,Música
ATTACH;FMTTYPE=image/jpeg:https://leoncultural.com/wp-content/uploads/2018/02/Brothers-in-band-dire-straits.jpg
END:VEVENT
END:VCALENDAR