BEGIN:VCALENDAR
VERSION:2.0
PRODID:-//León Cultural - ECPv5.16.4.1//NONSGML v1.0//EN
CALSCALE:GREGORIAN
METHOD:PUBLISH
X-WR-CALNAME:León Cultural
X-ORIGINAL-URL:https://leoncultural.com
X-WR-CALDESC:Eventos para León Cultural
BEGIN:VTIMEZONE
TZID:Europe/Paris
BEGIN:DAYLIGHT
TZOFFSETFROM:+0100
TZOFFSETTO:+0200
TZNAME:CEST
DTSTART:20180325T010000
END:DAYLIGHT
BEGIN:STANDARD
TZOFFSETFROM:+0200
TZOFFSETTO:+0100
TZNAME:CET
DTSTART:20181028T010000
END:STANDARD
END:VTIMEZONE
BEGIN:VEVENT
DTSTART;TZID=Europe/Paris:20180222T210000
DTEND;TZID=Europe/Paris:20180222T230000
DTSTAMP:20260424T191112
CREATED:20180125T165019Z
LAST-MODIFIED:20180222T063418Z
UID:16264-1519333200-1519340400@leoncultural.com
SUMMARY:Rayden presenta su GirANTÓNIMO 2018 en Espacio Vías
DESCRIPTION:Rayden presenta su GirANTÓNIMO 2018 en Espacio Vías. León\n22 de febrero a las 21:00 horas. \nRayden – GirANTÓNIMO 2018 \nEsto va de canciones: canciones que se escuchan\, que se comparten\, canciones en las que uno se apoya para salir adelante\, que dos se dedican y tres toman por bandera para ir con la música a otra parte\, canciones de las que uno se arma para luchar contra lo que es motivo de denuncia\, que hacen de banda sonora y espejo\, que se disfrazan de vivencias como las tuyas y las mías\, que sirven de moneda de cambio contra la hipocresía\, que se repiten\, se corean\, se reinterpretan\, reconcilian\, hacen compañía y otras hacen de salvavidas. \nSi con “En alma y hueso” vosotros y nosotros conseguimos que a la tercera fuese la vencida consiguiendo llenar salas y festivales\, haciendo que un disco de música urbana se colase entre los 10 más vendidos y recibiendo premios y nominaciones\, con “Antónimo” vosotros y nosotros estamos consiguiendo que esta 4ª gira sea el más difícil todavía. De primeras habéis conseguido colocar el disco como el nº1 de los más vendidos; un hito que se ha dado muy pocas veces en este estilo. \nHemos aumentado nuestra pequeña familia con nuevos miembros para formar una banda pocas veces vista y también hemos creado una escenografía de 1ª categoría para llevar a otro nivel sensorial el directo. \nEsto va de canciones y no solo de las 14 de este disco\, canciones de toda una trayectoria\, canciones que tienen un punto de encuentro para sentirlas en carne viva: El concierto. \nSoy porque somos. Seamos.
URL:https://leoncultural.com/evento/rayden-presenta-su-girantonimo-2018-en-espacio-vias/
LOCATION:Espacio VIAS\, Av del Padre Isla\, 48\, León\, León\, 24008 \, España
CATEGORIES:Conciertos,Música
ATTACH;FMTTYPE=image/jpeg:https://leoncultural.com/wp-content/uploads/2018/01/Rayden-El-Gran-cafe-LEON-1.jpg
END:VEVENT
END:VCALENDAR