BEGIN:VCALENDAR
VERSION:2.0
PRODID:-//León Cultural - ECPv5.16.4.1//NONSGML v1.0//EN
CALSCALE:GREGORIAN
METHOD:PUBLISH
X-WR-CALNAME:León Cultural
X-ORIGINAL-URL:https://leoncultural.com
X-WR-CALDESC:Eventos para León Cultural
BEGIN:VTIMEZONE
TZID:Europe/Paris
BEGIN:DAYLIGHT
TZOFFSETFROM:+0100
TZOFFSETTO:+0200
TZNAME:CEST
DTSTART:20180325T010000
END:DAYLIGHT
BEGIN:STANDARD
TZOFFSETFROM:+0200
TZOFFSETTO:+0100
TZNAME:CET
DTSTART:20181028T010000
END:STANDARD
END:VTIMEZONE
BEGIN:VEVENT
DTSTART;TZID=Europe/Paris:20180216T203000
DTEND;TZID=Europe/Paris:20180216T220000
DTSTAMP:20260424T191107
CREATED:20171227T121616Z
LAST-MODIFIED:20180216T060747Z
UID:15631-1518813000-1518818400@leoncultural.com
SUMMARY:XAVIER SABATA contratenor LINA TUR BONET violín KENNETH WEISS clave\, XV CICLO DE MÚSICAS hISTÓRICAS DE LEÓN
DESCRIPTION:XAVIER SABATA contratenor LINA TUR BONET violín KENNETH WEISS clave\, XV CICLO DE MÚSICAS HISTÓRICAS DE LEÓN\nAuditorio Municipal Ciudad de León\nViernes 16 de febrero de 2018 a las 20:30 horas. \n\n\n\n\nPocket haendel \nGeorge Frideric Haendel (1685-1759)\nExtractos de la Suite en fa mayor\, HMV 427 (1720)\n‘Bel contento’\, aria de Flavio\, HWV 16 (1723)\n‘Se in orito’ aria de Giulio Cesare\, HWV 17 (1724)\nAllegro de la Sonata para violín en do menor\, HWV 408 (1725/29) ‘Ch’io parta’\, aria de Partenope\, HWV 27 (1730)\n‘Se era belva’\, aria de Rodelinda\, HWV 19 (1725)\n‘Dolce ben di queste’\, aria de Radamisto\, HWV 12b (1720)\n‘Cedo a Roma’\, aria de Scipione\, HWV 20 (1726)\nSonata para violín en re mayor\, HWV 371 (1749/50)\n‘Cara sposa’\, aria de Rinaldo\, HWV 7b (1711)\n‘Al ampo dell’armi’\, aria de Giulio Cesare\, HWV 16 (1724) \nEl contratenor barcelonés Xavier Sabata es una de las grandes estrellas de la ópera barroca de nuestros días. Sus trabajos handelianos son especialmente apreciados en teatros de todo el mundo. Y con un recital dedicado a arias de grandes óperas de Haendel se presenta aquí\, acompañado por un dúo de solistas de primerísimo nivel internacional: la violinista Lina Tur Bonet\, aclamada tanto en el repertorio antiguo como\nen el romántico o contemporáneo\, y el clavecinista Kenneth Weiss\, habitual colaborador de muchos conjuntos españoles\, quienes completarán el recital con obras instrumentales
URL:https://leoncultural.com/evento/xavier-sabata-contratenor-lina-tur-bonet-violin-kenneth-weiss-clave-xv-ciclo-musicas-historicas-leon/
LOCATION:Auditorio Ciudad de León\, Av. de los Reyes Leoneses\, 4\, 24008 León\, León\, León\, 24008\, España
CATEGORIES:Conciertos,Música
ATTACH;FMTTYPE=image/jpeg:https://leoncultural.com/wp-content/uploads/2017/12/XAVIER-SABATA-1.jpg
END:VEVENT
BEGIN:VEVENT
DTSTART;TZID=Europe/Paris:20180216T220000
DTEND;TZID=Europe/Paris:20180216T233000
DTSTAMP:20260424T191108
CREATED:20180213T051711Z
LAST-MODIFIED:20180215T115448Z
UID:16657-1518818400-1518823800@leoncultural.com
SUMMARY:Capitán Cobarde en el Gran Café León
DESCRIPTION:Capitán Cobarde en el Gran Café León.\n16 de febrero a las 22:00 horas \nCapitán Cobarde\, el proyecto folk-rock de Alberto Romero Nieto vuelve a los escenarios. Han editado su último disco «Carretera Vieja» en el año 2017 (Maldito Records) y lo presentarán en las mejores salas de España durante el año 2018. El disco lo puedes escuchar entero en Youtube\, en el canal de la productora. \nHay al menos 20 conciertos confirmados… Bilbao\, Guadalajara\, Valencia\, Bilbao\, Albacete\, León\, A Coruña\, Plasencia\, Granada\, Sevilla… etc. Sin olvidar de los festivales como el Cabo de Plata de Tarifa. Las entradas anticipadas se encuentran a la venta en Wegow y puntos de venta autorizados. \nTe recomendamos que visites la web oficial del artista para cualquier detalle oficial\, debajo encontraras una lista de conciertos que se encuentran en nuestra base de datos. \nEntrada anticipada 12€ puerta 15€\nA la venta en La Mona\,El Gran Cafe y Wegow\n\nHay algo de constante búsqueda del equilibrio (interior) en cada entrega discográfica de Alberto Romero. Una filosofía aristotélica que le guiaba antes\, bajo su anterior nombre artístico\, y que también continúa en el refrendado Capitán Cobarde y su giro definitivo al mundo del folk\, lo sureño\, el country\, el bluegrass\, el banjo\, la ausencia de distorsión eléctrica\, de rockerío al uso y un montón de etcéteras. Una decisión difícil y valiente (contrapunto equilibrado hacia el nuevo nombre) que\, lógicamente\, no se ha hecho de la noche a la mañana\, sino que ya se apuntó en Palabras Del Capitán Cobarde y Alegría! Y es que siete discos con 33 años es un bagaje más que amplio como para tener claro que el talento siempre ha estado de su lado\, le quiera dar la forma que quiera. Tras un directo que recogía algunas canciones de su anterior etapa y varias inéditas (cameos de La Maravillosa Orquesta del Alcohol\, Lichis\, Kutxi Romero y Carlos Tarque)\, Carretera Vieja es\, al fin\, el primer disco de estudio de Capitán Cobarde. Efectivamente\, son sendas recorridas por la historia de la música\, un ejercicio de estilo muy conseguido\, bien producido y\, como siempre\, bien cantado. \nNos puede gustar más o menos el género\, pero Alberto pone el alma en cada canción que canta\, en este álbum con una sutileza tan omnipresente en los arreglos que no hay tema que no ofrezca nuevos detalles en las sucesivas escuchas. Grabado en los estudios Happy Place de Sevilla y ReviRock en Madrid con Dani Alcover a los mandos y colaboraciones de El Canijo de Jerez\, Juanito Makandé o Depedro. La distorsión furibunda y el golpeo de batería voraz de antaño se perdió hace tiempo para dar paso a banjos\, acordeones\, violín\, contrabajo\, hammond\, piano rhodes\, pedal steel o armónica… \nEl disco comienza con la luminosa y coral ‘Hay Un Sitio’\, que tiene hechuras de singles\, por sus coros\, su positividad y aire festivo que podemos encontrar de manera masiva en gente como los citados La MODA. Una buena canción como carta de presentación pero que a la larga deja de estar entre las favoritas. ‘Aire’\, pronunciada desde el inicio nos recordará a ‘Angie’ de los Stones\, es el tema donde más deja sentir su querencia andaluza\, hasta conseguir casi inventar el género country con palmas al compás. Emocionante en su declamación repetida en la coda.‘El Buen Villano’ juega en la misma liga que el primer tema\, pero con mucho más recorrido y una de las mejores letras. “Yo soy el villano al que tú derrotas”. \n‘A Volar’ tiene un espíritu similar a ‘Aire’\, aunque aquí los arreglos son más líricos y destaca también la marcada percusión. Al término de la primera parte\, ‘Para Mí Eres Tú’ nos ofrece la cara más cercana al lado anglosajón\, hasta en la forma de enfocar la manera de cantar y en el fraseo musical. El pedal steel y las teclas que se deslizan a lo largo de toda la canción refuerzan esa sensación. \nLa segunda parte se abre con una de mis favoritas\, ‘La Canción del Soldado’. Un tema de sonoridad fronteriza y conflicto interno que es hermosa en su narración y certera su puente (“Fueron años de lucha descarnada\, su enemigo tan cerca que al final\, el soldado en su espejo se miraba\, apuntando a su propia voluntad”) y estribillo. En ‘Sucedió’ vuelve la luz con las teclas regando una notable introducción guitarrera. El tema tiene cierto toque cantinero\, bien arropado por el acompañamiento de violín y piano. \n‘Enano De Ojos Tristes’ es el gran texto del álbum\, una lección de vida paterno-filial de amor a la libertad y con aura de cuento\, que a fin de cuentas es lo que le da el punto mágico y sobresaliente. “Está por todas partes\, se puede respirar\, mírala: se llama libertad”. Como quien va a la horca\, ‘En El Ángulo Muerto’\, versión del tema del gran José Ignacio Lapido (091)\, arranca con un silbido y ofrece una interpretación muy negra por parte del Capitán\, quizá la más desgarrada del disco. \nLa lista de temas se cierra con ‘Una Flor’\, canción que pretende ser un guiño a la memoria histórica en general\, un homenaje a su tía en particular. El miedo y el daño perenne de la guerra. Como bonus track nos queda ‘Canta El Pajarillo’\, uno de esos avances que realizó tocando en directo en una sombrerería de Sevilla. La cuadratura del círculo\, vaya. \nAsí\, Capitán Cobarde sigue marcando su camino\, paso a paso\, pero siempre constante\, con un legado que ya quisieran para sí muchos que se dan a conocer casi a su edad. Y lo mejor es que uno tiene la impresión de que dentro de cinco\, diez\, quince años\, él seguirá estando ahí\, cantando su verdad.
URL:https://leoncultural.com/evento/capitan-cobarde-en-el-gran-cafe-leon/
LOCATION:El Gran Café\, Calle Cervantes\, 7\, León\, León\, 24003\, España
CATEGORIES:Conciertos,Música
ATTACH;FMTTYPE=image/jpeg:https://leoncultural.com/wp-content/uploads/2018/02/Capitan-cobarde.jpg
END:VEVENT
END:VCALENDAR