BEGIN:VCALENDAR
VERSION:2.0
PRODID:-//León Cultural - ECPv5.16.4.1//NONSGML v1.0//EN
CALSCALE:GREGORIAN
METHOD:PUBLISH
X-WR-CALNAME:León Cultural
X-ORIGINAL-URL:https://leoncultural.com
X-WR-CALDESC:Eventos para León Cultural
BEGIN:VTIMEZONE
TZID:Europe/Paris
BEGIN:DAYLIGHT
TZOFFSETFROM:+0100
TZOFFSETTO:+0200
TZNAME:CEST
DTSTART:20180325T010000
END:DAYLIGHT
BEGIN:STANDARD
TZOFFSETFROM:+0200
TZOFFSETTO:+0100
TZNAME:CET
DTSTART:20181028T010000
END:STANDARD
END:VTIMEZONE
BEGIN:VEVENT
DTSTART;TZID=Europe/Paris:20180210T200000
DTEND;TZID=Europe/Paris:20180210T213000
DTSTAMP:20260424T191117
CREATED:20180209T103937Z
LAST-MODIFIED:20180209T103937Z
UID:16594-1518292800-1518298200@leoncultural.com
SUMMARY:Concierto de piano con Carlos Marín Rayo con César Viana (flauta) en la Sala Eutherpe
DESCRIPTION:Concierto de piano con Carlos Marín Rayo con César Viana (flauta)\nSala Eutherpe\n10 de febrero a las 20:00 horas \nPROGRAMA\n1ª PARTE\nAntonio Soler:\nSonata nº88 en re bemol mayor\nJoseph Haydn:\nSonata Hob. XVI/46 en la bemol mayor :I. Allegro Moderato II. Adagio III. Finale. Presto\nIsaac Albéniz:\nGranada y Asturias\nFrederic Chopin:\nEstudio Op. 25 nº 5\nFrederic Chopin:\nNocturnos Op. 15: I. Andante Cantabile II. Larghetto III. Lento \n2ª PARTE\nHugo Gómez-Chao Porta:\nTres piezas para piano (2017\, estreno absoluto) I. Contrapasso II. Variaciones sobre un tema de Schubert III. Presto\nOttorino Respighi:\nNotturno\nRiohey Hirose (Cesar Viana\, flauta):\nMeditation (1975)\nCesar Viana:\nReturn of the Heracleidae (2013) I. Dorian March II. Threnos III. Katienai \nCarlos Marín Rayo \nCarlos Marín Rayo (Madrid\, 1994) ha sido descrito por la crítica española como un pianista de “poderosa técnica”\, “refinada musicalidad” y “madurez musical sorprendente” (Mundo Clásico\, Roberto San Juan). Su principal profesora ha sido Mariana Gurkova\, y además recibe habitualmente consejos de Joaquín Soriano y Graham Jackson. Anteriormente fue alumno de Nino Kereselidze. También ha recibido clases de profesores y maestros como Ramón Coll\, Eldar Nebolsin\, Alexander Kandelaki\, Claudio Martínez Mehner y Noelia Rodiles. Recientemente ha sido premiado con el primer premio en el concurso “Ciudad de Albacete” de Juventudes Musicales (2016) y el primer premio en el “Euterpe International Piano Competition” en Corato\, Italia (2016). \nSe ha presentado en numerosos festivales y salas de prestigio nacional como el Auditorio Nacional\, Teatros del Canal\, Fundación Juan March y Fundación Reina Sofía(con la asistencia de S.M. la Reina Doña Sofía) en Madrid\, Festival Rafael Orozco en Córdoba\, Fundación Botín en Santander\, Palau de la Música de Valencia\, Auditorio Miguel Delibes de Valladolid\, Auditorio Ciudad de León y ciclo Jóvenes Maestros Internacionales de la fundación Eutherpe en León\, Festival de Segovia\, Festival de Música Contemporánea de Tres Cantos\, etc. Además ha actuado como solista con numerosas orquestas\, como la Orquesta Joven de Córdoba (fue invitado para el concierto de presentación de la orquesta)\, Camerata Eutherpe\, Concerto Moderno\, Joven Orquesta Leonesa\, Joven Orquesta Mediterránea\, entre otras\, bajo la dirección de maestros como Michael Thomas o César Viana. También ha sido pianista titular de la JORCAM (Joven Orquesta de la Comunidad de Madrid). Ha realizado grabaciones para RTVE\, RNE y numerosas cadenas autonómicas. \nA los 11 años recibió el primer premio en el concurso Hazen – Arturo Soria y desde entonces ha sido premio en varios concursos nacionales: Música en el Río del Oro (primer premio 2008 y 2011)\, Marisa Montiel (segundo premio 2013) y Santa Cecilia de la fundación Don Juan de Borbón (2º premio\, mejor interpretación de una obra de J. S. Bach y mención a la mayor personalidad artística).Más información en www.carlosmarinrayo.com \n  \nCésar Viana es un compositor\, flautista\, director de orquesta y musicólogo portugués. Ha recibido encargos de instituciones internacionales muy diversas y sus obras están en el repertorio de instituciones como el Ballet Gulbenkian o el Ballet Nacional Portugués. Como director y flautista\, ha grabado para EMI Classics\, BMG\, Philips\, RCA\, Strauss y Resonance. Ha sido director artístico de ensembles como Sinfoniab y Cobras e Son (el centro de arte fundado por María Joao Pires).Su atención se expande desde la música medieval hasta la contemporánea\, del Shakuhachi japonés a instrumentos posteriores del barroco y la música sefardí. \nCarlos Marín Rayo \nCarlos Marín Rayo (Madrid\, 1994) ha sido descrito por la crítica española como un pianista de “poderosa técnica”\, “refinada musicalidad” y “madurez musical sorprendente” (Mundo Clásico\, Roberto San Juan). Su principal profesora ha sido Mariana Gurkova\, y además recibe habitualmente consejos de Joaquín Soriano y Graham Jackson. Anteriormente fue alumno de Nino Kereselidze. También ha recibido clases de profesores y maestros como Ramón Coll\, Eldar Nebolsin\, Alexander Kandelaki\, Claudio Martínez Mehner y Noelia Rodiles. Recientemente ha sido premiado con el primer premio en el concurso “Ciudad de Albacete” de Juventudes Musicales (2016) y el primer premio en el “Euterpe International Piano Competition” en Corato\, Italia (2016). \nSe ha presentado en numerosos festivales y salas de prestigio nacional como el Auditorio Nacional\, Teatros del Canal\, Fundación Juan March y Fundación Reina Sofía(con la asistencia de S.M. la Reina Doña Sofía) en Madrid\, Festival Rafael Orozco en Córdoba\, Fundación Botín en Santander\, Palau de la Música de Valencia\, Auditorio Miguel Delibes de Valladolid\, Auditorio Ciudad de León y ciclo Jóvenes Maestros Internacionales de la fundación Eutherpe en León\, Festival de Segovia\, Festival de Música Contemporánea de Tres Cantos\, etc. Además ha actuado como solista con numerosas orquestas\, como la Orquesta Joven de Córdoba (fue invitado para el concierto de presentación de la orquesta)\, Camerata Eutherpe\, Concerto Moderno\, Joven Orquesta Leonesa\, Joven Orquesta Mediterránea\, entre otras\, bajo la dirección de maestros como Michael Thomas o César Viana. También ha sido pianista titular de la JORCAM (Joven Orquesta de la Comunidad de Madrid). Ha realizado grabaciones para RTVE\, RNE y numerosas cadenas autonómicas. \nA los 11 años recibió el primer premio en el concurso Hazen – Arturo Soria y desde entonces ha sido premio en varios concursos nacionales: Música en el Río del Oro (primer premio 2008 y 2011)\, Marisa Montiel (segundo premio 2013) y Santa Cecilia de la fundación Don Juan de Borbón (2º premio\, mejor interpretación de una obra de J. S. Bach y mención a la mayor personalidad artística).Más información en www.carlosmarinrayo.com \n  \nCésar Viana es un compositor\, flautista\, director de orquesta y musicólogo portugués. Ha recibido encargos de instituciones internacionales muy diversas y sus obras están en el repertorio de instituciones como el Ballet Gulbenkian o el Ballet Nacional Portugués. Como director y flautista\, ha grabado para EMI Classics\, BMG\, Philips\, RCA\, Strauss y Resonance. Ha sido director artístico de ensembles como Sinfoniab y Cobras e Son (el centro de arte fundado por María Joao Pires).Su atención se expande desde la música medieval hasta la contemporánea\, del Shakuhachi japonés a instrumentos posteriores del barroco y la música sefardí. \n  \n 
URL:https://leoncultural.com/evento/concierto-de-piano-con-carlos-marin-rayo-con-cesar-viana-flauta-en-la-sala-eutherpe/
LOCATION:Sala EUTHERPE\, Alfonso V\, 10\, León\, León\, 24001\, España
CATEGORIES:Conciertos,Música
ATTACH;FMTTYPE=image/jpeg:https://leoncultural.com/wp-content/uploads/2018/02/Carlos-marin-rayo-eutherpe.jpg
END:VEVENT
BEGIN:VEVENT
DTSTART;TZID=Europe/Paris:20180210T203000
DTEND;TZID=Europe/Paris:20180210T220000
DTSTAMP:20260424T191117
CREATED:20180205T222126Z
LAST-MODIFIED:20180205T222126Z
UID:16489-1518294600-1518300000@leoncultural.com
SUMMARY:Concierto alrededor de una corona. Coro Capella Lauda. Auditorio municipal ciudad de León
DESCRIPTION:Concierto alrededor de una corona. Coro Capella Lauda. Auditorio municipal ciudad de León\nSábado 10 de febrero a las 20:30 horas. \nEl Blog de PuntoComa:\nEl próximo sábado 10 de febrero´18 tendrá lugar a las 20:30h en el Auditorio Ciudad de León el concierto organizado por el Coro Capella Lauda\, que dirige David de la Calle\, en el que junto a cuatro solistas vocales: Raquel Martínez\, Mª Jesús Gerpe\, Javier Alonso y Javier Centeno\,  y nuestra Orquesta JJMM-ULE\, interpretaremos un programa de música de Mozart en torno a la Misa de la Coronación.\n\nAdemás de la misa\, compuesta en 1779 (recibe su nombre por haber sido interpretada con motivo de la coronación de Leopoldo II de Bohemia\, o del emperador Francisco II)\, en el programa se incluye la Sinfonía nº 32\, escrita ese año a continuación de la misa\, y la obertura de la ópera La Clemenza di Tito\, que Mozart compuso en 1791 (en 18 días según cuenta la leyenda)\, el año de su muerte\, para la coronación de Leopoldo II como rey de Bohemia.\n\nLas entradas pueden adquirirse en la web del auditorio y en las taquillas del mismo\, de lunes a viernes de 16h a 20:30h.
URL:https://leoncultural.com/evento/concierto-alrededor-de-una-corona-coro-capella-lauda-auditorio-municipal-ciudad-de-leon/
LOCATION:Auditorio Ciudad de León\, Av. de los Reyes Leoneses\, 4\, 24008 León\, León\, León\, 24008\, España
CATEGORIES:Conciertos,Música
ATTACH;FMTTYPE=image/jpeg:https://leoncultural.com/wp-content/uploads/2018/02/Coro-capella-lauda.jpg
END:VEVENT
BEGIN:VEVENT
DTSTART;TZID=Europe/Paris:20180210T230000
DTEND;TZID=Europe/Paris:20180210T235500
DTSTAMP:20260424T191117
CREATED:20180210T073306Z
LAST-MODIFIED:20180210T073306Z
UID:16602-1518303600-1518306900@leoncultural.com
SUMMARY:Jimmy Barnatán & The Cocooners en la Sala Valentino. León
DESCRIPTION:Jimmy Barnatán & The Cocooners en la Sala Valentino. León\nSábado 10 de febrero a las 23:00 horas. \n\n\nMiembros del grupo musical\nThe Cocooners son:\nAngel Camacho: Road Manager\nRubén Rodriguez «Gazpacho»: Batería\nDani Simons: Bajo\nSergio González: Guitarra\n\n\n\n\n\nLocalidad natal\nSantander\n\n\n\n\n\nSello discográfico\nGaztelupeko Hotsak\n\n\n\n\n\nInformación\nJimmy Barnatán & The Cocooners.\n\n\n\n\n\nBiografía\n\n\nMÚSICA \nBlack Note. Año de Publicación: 2010 \nAfter the blue times. Oris Spain. Año de publicación: 2011 \nRoom 13. True Music Spain. Año de publicación 2013 \nMotorclub. Gaztelupeko Hotsak. Año de publicación 2015. \nBourbon Church. Gaztelupeko Hotsak. Año de publicación 2017. \nGiras por España\, Inglaterra y EEUU próximamente. \nParticipación en festivales internacionales de blues como Hondarribia\, Cazorla\, Benicassim\, Barcelona entre otros.. \nEn sus discos de blues y soul podremos encontrar colaboraciones de artistas como Carlos Tarque\, Johny Burning\, Cesar Strawberry\, Alex Angulo\,Adriana Ugarte\, Gran Wyoming. \nCINE \n*Torrente 5. 2014.\n* 2006 “SALIR PITANDO”Álvaro Fernández Armero.\n* 2006 “ESCALOFRÍO” Isidro Ortiz.\n* 2005 “NO DIGAs NADA” Felipe Jiménez Luna\n* 2005 “TORRENTE 3” Santiago Segura.\n* 2004 “LOS QUE SUEÑAN DESPIERTOS” Félix Viscarret.\n* 2003 “CANCIONES DE INVIERNO” Félix Viscarret.\n* 2003 “UNAS PELLAS” César Strawberry.\n* 2003 “MIENTRAS DUERME DIOS” Fernando Guisado.\n* 2002 “LO QUE EL OJO NO VE” Jose Antonio Braña.\n* 2001 «EL ROBO MAS GRANDE JAMAS CONTADO» Daniel Monzón (Lola Films).\n* 2000 «VISIONARIOS» Manuel Gutiérrez Aragón (Sogecine- Aiete-Ariane).\n* 2000 «OBRA MAESTRA» David Trueba (Fernando Trueba P.C.).\n* 1999 «MUERTOS DE RISA» Alex de la Iglesia (Lola Films).\n* 1999 «EL CORAZON DEL GUERREROl Corazón del Guerrero» Daniel Monzón (Tornasol Films).\n* 1998 «TORRENTE\, EL BRAZO TONTO DE LA LEY» Santiago Segura (Lola Films) .\n* 1995 «EL DIA DE LA BESTIA» Álex de la Iglesia (Sogetel). \nTELEVISIÓN \n* 2003-2006 “LOS SERRANO” Tele 5\n* 2001 «AL SALIR DE CLASE» Tele 5.\n* 2000 «EL COMISARIO» Tele 5.\n* 1999 «PETRA DELICADO» Tele 5.\n* 1996 «HERMANOS DE LECHE» Antena 3.\n* 1995 «INOCENTE\, INOCENTE» Programa de cámara oculta (Tele Madrid).\n* 1994 «EL PEOR PROGRAMA DE LA SEMANA» Dirigido por Fernando Trueba y presentado por El Gran Wyoming (T.V.E.). \nTEATRO\n2016 «LA CABEZA DEL BAUTISTA» El desván Producciones.\n1997 «ENTRE DOS ORILLAS» Teatro de la Maestranza de Sevilla.\n1993 «LOS MISERABLES» Víctor Hugo. Opera rock en el Teatro Nuevo Apolo. \nREALIZADOR \n* MACARRA: Cortometraje en 35mm. Codirección: Fernando Guisado.\n* 2.CABALLO: Cortometraje de 8 minutos realizado en formato Betacam Digital. 2001.\n* 1.GRIS: Cortometraje realizado en formato Betacam\, seleccionado en el festival de cine juvenil CINEMAJUVE´98 de Valencia.\n* Documental sobre el Real Racing Club de Santander\, Racing Blues\, hitoria de un sentimiento. 2005 \nOTROS TRABAJOS \nHa publicado diferentes artículos en publicaciones varias\, entre otras Letra Internacional. \nATLAS\, Editorial Trama. (Novela).\nNew York Blues\, Editorial La Esfera de los Libros. 2012. \nColumnista de «El Mundo Digital»\nColaborador en radio Ser España.
URL:https://leoncultural.com/evento/jimmy-barnatan-the-cocooners-en-la-sala-valentino-leon/
LOCATION:Sala Valentino\, Calle Federico Echevarría\, 14\,\, León\, León\, 24002 \, España
CATEGORIES:Conciertos,Música
ATTACH;FMTTYPE=image/jpeg:https://leoncultural.com/wp-content/uploads/2018/02/Jimmy-barnatan.jpg
END:VEVENT
END:VCALENDAR