BEGIN:VCALENDAR
VERSION:2.0
PRODID:-//León Cultural - ECPv5.16.4.1//NONSGML v1.0//EN
CALSCALE:GREGORIAN
METHOD:PUBLISH
X-WR-CALNAME:León Cultural
X-ORIGINAL-URL:https://leoncultural.com
X-WR-CALDESC:Eventos para León Cultural
BEGIN:VTIMEZONE
TZID:Europe/Paris
BEGIN:DAYLIGHT
TZOFFSETFROM:+0100
TZOFFSETTO:+0200
TZNAME:CEST
DTSTART:20180325T010000
END:DAYLIGHT
BEGIN:STANDARD
TZOFFSETFROM:+0200
TZOFFSETTO:+0100
TZNAME:CET
DTSTART:20181028T010000
END:STANDARD
END:VTIMEZONE
BEGIN:VEVENT
DTSTART;TZID=Europe/Paris:20180208T210000
DTEND;TZID=Europe/Paris:20180208T223000
DTSTAMP:20260424T174318
CREATED:20180207T155011Z
LAST-MODIFIED:20180207T155011Z
UID:16522-1518123600-1518129000@leoncultural.com
SUMMARY:Brigan\, nuevo folk italiano\, iberocelta. Concierto en El Albéitar.
DESCRIPTION:Brigan\, nuevo folk italiano\, iberocelta. Concierto en El Albéitar.\nJueves 8 de febrero a las 21:00 horas. \nEntradas (6 €): a partir de media hora antes del concierto en la taquilla del teatro\n50% de descuento: miembros de la comunidad universitaria\, previa presentación del carné universitario y DNI \nBrigan nace en el 2009 del encuentro de tres músicos de la región sur italiana de Campania\, unidos por el interés y la pasión por la música tradicional de los pueblos del área céltica.\nSu disco debut Irish Roots (2010) estaba dedicado íntegramente a la música de la arpista irlandesa T. O’Carolan. En 2011\, con la publicación del segundo disco Ti sfondo i bodrhàn – tradizione e contaminazione\, nace y se desarrolla la idea de emprender un nuevo proyecto: fusionar la sonoridad y las rítmicas de la música celta y de la música tradicional del sur de Italia.\nEl trabajo de investigación y estudio de los repertorios tradicionales de gran parte del área celta (Bretaña\, Irlanda\, Galicia y Asturias) se consolida con la publicación en 2014 de su tercer álbum Transumanza Sonora.\nLos numerosos conciertos y estancias en España y Portugal están llevando a Brigan a dedicarse enteramente al aprendizaje y revisión de los repertorios tradicionales del área íberocelta\, a través de la investigación de campo\, intercambios y colaboraciones con músicos locales. También están estudiando los múltiples instrumentos y lenguajes tradicionales con varios expertos en folklore\, en especial con el etnomusicólogo\, investigador y constructor de instrumentos antiguos Pablo Carpintero desde Galicia y Alberto Jambrina desde Zamora.\nBrigan colabora actualmente con diversos músicos italianos y extranjeros entre los que se encuentran Xurxo Fernándes y Pandeireteiras sen fronteiros\, Harry. C (Milladoiro)\, Ramón Rodríguez Gómez (ex-Coetus)\, Massimo Ferrante\, Giovanni Saviello\, Aldo Grillo (Progetto cala la sera)\, Xulio Lorenzo\, Efrén López Sanz\, Davide Salvado.\nHan tocado en numerosos conciertos y festivales: Forum universale delle culture (Napoli)\, Festival dell’arpa Viggianese\, Festival della Zampogna di Scapoli\, Paleariza 2015 (Calabria) Ferrara Buskers Festival 2011\, Mercantia (2011-2012)\, Teatro del Sale (Firenze)\, Teatro Aperto (Verona)\, Ernica Etnica 2017\, Teatro San Genesio (Roma)\, Teatro Civico (Caserta)\, Rassegna Teatrale “Pulcinellamente” 2012 – 2015\, Festival “Esoterika” (Roma)\, Breental Celtic Festival\, Fairylands Celtic Festival (Roma)\, support band di Eugenio Bennato (Teatro Lendi\, Caserta)\, support band del grupo bretone Gwendal e differenti collaborazioni con la scuola di danze irlandesi “Gens d’Ys” di Roma.\nIn Europa al GallusFest (Svizzera)\, Festival “TradinEtno” Pazin (Croazia)\, “Mèra World Music Festival” Romania\, Jamboree Club (Londra)\, “AspenizasFolk” Tui (Spagna)\, Multiusos de Mos (Galicia)\, “Celtic Transilvania” Romania\, semifinale al “Festival do mundo celta de Ortigueira” (Spagna)\, e Slovenia\, Croazia\, Francia\, Romania\, Portogallo e Spagna.\nGanaron la primera edición del “Universo Folk – Concurso Internacional de Folk Ciudad de Oviedo” (Asturias) en 2013. \nFORMACIÓN\nFRANCESCO DI CRISTOFARO: voz\, acordeón\, gaitas alistana\, sanabresa y gallega\, zampogna\, pito pastoril\, tin y low whistle\, sisco de Giugliano\, mandolina\, bouzouki\nIVAN DEL VECCHIO: guitarra clásica\, guitarra acústica\, guitarra de 12 cuerdas\, mandoloncello\nGABRIELE TINTO: coros\, arpa de boca\, panderetas\, pandero cuadrado\, pandero de Peñaparda\, tamburelli\, tammorra\, castañuelas\, vieiras\, almirez\, bombo\, platillos\, caja  redoblante\, zambomba\nSIMONE LOMBARDI: coros\, botella de anís\, tambor\, pezuñas de cabra\, bombo
URL:https://leoncultural.com/evento/brigan-nuevo-folk-italiano-iberocelta-concierto-en-el-albeitar/
LOCATION:Teatro el Albéitar\, Avda. de la Facultad\, 25\, León\, León\, 24004\, España
CATEGORIES:Conciertos,Música
ATTACH;FMTTYPE=image/jpeg:https://leoncultural.com/wp-content/uploads/2018/02/brigan.jpg
END:VEVENT
END:VCALENDAR