BEGIN:VCALENDAR
VERSION:2.0
PRODID:-//León Cultural - ECPv5.16.4.1//NONSGML v1.0//EN
CALSCALE:GREGORIAN
METHOD:PUBLISH
X-WR-CALNAME:León Cultural
X-ORIGINAL-URL:https://leoncultural.com
X-WR-CALDESC:Eventos para León Cultural
BEGIN:VTIMEZONE
TZID:Europe/Paris
BEGIN:DAYLIGHT
TZOFFSETFROM:+0100
TZOFFSETTO:+0200
TZNAME:CEST
DTSTART:20240331T010000
END:DAYLIGHT
BEGIN:STANDARD
TZOFFSETFROM:+0200
TZOFFSETTO:+0100
TZNAME:CET
DTSTART:20241027T010000
END:STANDARD
END:VTIMEZONE
BEGIN:VEVENT
DTSTART;TZID=Europe/Paris:20241205T203000
DTEND;TZID=Europe/Paris:20241205T220000
DTSTAMP:20260422T110553
CREATED:20241202T160642Z
LAST-MODIFIED:20241202T160642Z
UID:54536-1733430600-1733436000@leoncultural.com
SUMMARY:Rafa de Calli. Concierto de flamenco. Teatro El Albéitar
DESCRIPTION:Rafa de Calli.\nConcierto de flamenco.\nTeatro El Albéitar\n5 de diciembre de 2024\, 20:30 h
URL:https://leoncultural.com/evento/rafa-de-calli-concierto-de-flamenco-teatro-el-albeitar/
LOCATION:Teatro el Albéitar\, Avda. de la Facultad\, 25\, León\, León\, 24004\, España
CATEGORIES:Conciertos,Música
ATTACH;FMTTYPE=image/jpeg:https://leoncultural.com/wp-content/uploads/2024/12/Rafa-de-Calli.-Concierto-de-flamenco.-Teatro-El-Albeitar.jpg
END:VEVENT
END:VCALENDAR