BEGIN:VCALENDAR
VERSION:2.0
PRODID:-//León Cultural - ECPv5.16.4.1//NONSGML v1.0//EN
CALSCALE:GREGORIAN
METHOD:PUBLISH
X-WR-CALNAME:León Cultural
X-ORIGINAL-URL:https://leoncultural.com
X-WR-CALDESC:Eventos para León Cultural
BEGIN:VTIMEZONE
TZID:Europe/Paris
BEGIN:DAYLIGHT
TZOFFSETFROM:+0100
TZOFFSETTO:+0200
TZNAME:CEST
DTSTART:20240331T010000
END:DAYLIGHT
BEGIN:STANDARD
TZOFFSETFROM:+0200
TZOFFSETTO:+0100
TZNAME:CET
DTSTART:20241027T010000
END:STANDARD
END:VTIMEZONE
BEGIN:VEVENT
DTSTART;TZID=Europe/Paris:20241109T180000
DTEND;TZID=Europe/Paris:20241109T193000
DTSTAMP:20260422T162650
CREATED:20241107T164136Z
LAST-MODIFIED:20241107T164136Z
UID:54268-1731175200-1731180600@leoncultural.com
SUMMARY:ANNA MATEU CIA\, presenta: "ARRÓS". Facultad de filosofía y letras
DESCRIPTION:ANNA MATEU CIA\, presenta: «ARRÓS».\nFacultad de filosofía y letras\nSábado 9\, noviembre 2024\, 18 h
URL:https://leoncultural.com/evento/anna-mateu-cia-presenta-arros-facultad-de-filosofia-y-letras/
LOCATION:Facultad de Filosofía y Letras\, Campus de Vegazana s/n\, León\, León\, 24006\, España
CATEGORIES:Miscelanea
ATTACH;FMTTYPE=image/jpeg:https://leoncultural.com/wp-content/uploads/2024/11/ANNA-MATEU-CIA-presenta-ARROS.-Facultad-de-filosofia-y-letras.jpg
END:VEVENT
END:VCALENDAR