BEGIN:VCALENDAR
VERSION:2.0
PRODID:-//León Cultural - ECPv5.16.4.1//NONSGML v1.0//EN
CALSCALE:GREGORIAN
METHOD:PUBLISH
X-WR-CALNAME:León Cultural
X-ORIGINAL-URL:https://leoncultural.com
X-WR-CALDESC:Eventos para León Cultural
BEGIN:VTIMEZONE
TZID:Europe/Paris
BEGIN:DAYLIGHT
TZOFFSETFROM:+0100
TZOFFSETTO:+0200
TZNAME:CEST
DTSTART:20240331T010000
END:DAYLIGHT
BEGIN:STANDARD
TZOFFSETFROM:+0200
TZOFFSETTO:+0100
TZNAME:CET
DTSTART:20241027T010000
END:STANDARD
END:VTIMEZONE
BEGIN:VEVENT
DTSTART;TZID=Europe/Paris:20241027T123000
DTEND;TZID=Europe/Paris:20241027T140000
DTSTAMP:20260422T175748
CREATED:20241005T162553Z
LAST-MODIFIED:20241027T091934Z
UID:53770-1730032200-1730037600@leoncultural.com
SUMMARY:Otoño de cuento. Salón de actos del Ayto de León
DESCRIPTION:Otoño de cuento.\nSalón de actos del Ayto de León\n26 y 27 de octubre de 2024\, 12:30 h\nSábado 26 de octubre \n12:30 h. JOSE FRAGOSO\nPresentación de OLIVIA WOLF 4:\nLA ASOMBROSA MÁQUINA DEL TIEMPO\n& Taller de creación de dioses y monstruos egipcios\nMoterial para 50 niños por orden de inscripción al correo impresionespapeleria.cr@gmoil.com \n18.00 h. PILAR SERRANOÇ\nCuentacuentos:\n«HISTORIAS DE AQUÍ Y DE ALLÍ»\nHasta completar aforo \nDomingo 27 de octubre: \n10:30 h. ESTEFANIA\n@mipizarraeducativa\nTaller «Imagina\, inventa y crea con Lucas»\n20 niños por orden de inscripción ol correo \n12:30 h. OBRA DE TEATRO:\n«LAS AVENTURAS DE MANDARINA Y SERAFÍN»
URL:https://leoncultural.com/evento/otono-de-cuento-salon-de-actos-del-ayto-de-leon/
LOCATION:Salón de actos. Ayuntamiento de León\, Calle Alfonso V 3\, León\, León\, 24003\, España
CATEGORIES:Infantil,Presentaciones,Teatro
ATTACH;FMTTYPE=image/jpeg:https://leoncultural.com/wp-content/uploads/2024/10/Otono-de-cuento.-Salon-de-actos-del-Ayto-de-Leon.jpg
END:VEVENT
END:VCALENDAR