BEGIN:VCALENDAR
VERSION:2.0
PRODID:-//León Cultural - ECPv5.16.4.1//NONSGML v1.0//EN
CALSCALE:GREGORIAN
METHOD:PUBLISH
X-WR-CALNAME:León Cultural
X-ORIGINAL-URL:https://leoncultural.com
X-WR-CALDESC:Eventos para León Cultural
BEGIN:VTIMEZONE
TZID:Europe/Paris
BEGIN:DAYLIGHT
TZOFFSETFROM:+0100
TZOFFSETTO:+0200
TZNAME:CEST
DTSTART:20210328T010000
END:DAYLIGHT
BEGIN:STANDARD
TZOFFSETFROM:+0200
TZOFFSETTO:+0100
TZNAME:CET
DTSTART:20211031T010000
END:STANDARD
END:VTIMEZONE
BEGIN:VEVENT
DTSTART;TZID=Europe/Paris:20210430T173000
DTEND;TZID=Europe/Paris:20210430T183000
DTSTAMP:20260419T181621
CREATED:20210422T121519Z
LAST-MODIFIED:20210430T054614Z
UID:35270-1619803800-1619807400@leoncultural.com
SUMMARY:Viaje al país de los cuentos (online). Bibliotecas municipales
DESCRIPTION:Viaje al país de los cuentos (online).\nBibliotecas municipales\nDel lunes 26 al 30 de abril de 2021\, 17:30h
URL:https://leoncultural.com/evento/viaje-al-pais-de-los-cuentos-online-bibliotecas-municipales/
CATEGORIES:Infantil
ATTACH;FMTTYPE=image/jpeg:https://leoncultural.com/wp-content/uploads/2021/04/viaje-pais-de-los-cuentos-bibliotecas-municipales.jpg
END:VEVENT
END:VCALENDAR