BEGIN:VCALENDAR
VERSION:2.0
PRODID:-//León Cultural - ECPv5.16.4.1//NONSGML v1.0//EN
CALSCALE:GREGORIAN
METHOD:PUBLISH
X-WR-CALNAME:León Cultural
X-ORIGINAL-URL:https://leoncultural.com
X-WR-CALDESC:Eventos para León Cultural
BEGIN:VTIMEZONE
TZID:Europe/Paris
BEGIN:DAYLIGHT
TZOFFSETFROM:+0100
TZOFFSETTO:+0200
TZNAME:CEST
DTSTART:20180325T010000
END:DAYLIGHT
BEGIN:STANDARD
TZOFFSETFROM:+0200
TZOFFSETTO:+0100
TZNAME:CET
DTSTART:20181028T010000
END:STANDARD
END:VTIMEZONE
BEGIN:VEVENT
DTSTART;TZID=Europe/Paris:20181209T120000
DTEND;TZID=Europe/Paris:20181209T210000
DTSTAMP:20260424T160342
CREATED:20181202T214438Z
LAST-MODIFIED:20181209T144958Z
UID:24112-1544356800-1544389200@leoncultural.com
SUMMARY:Feria de la montaña leonesa.
DESCRIPTION:Feria de la montaña leonesa.\n7\, 8 y 9 de diciembre de 2018.\nPlaza de las Cortes Leonesas\nDomingo 9\n11:00h Exhibición . Mastín Español con el grupo de criadores Valle de Laciana\n13:00h Degustación Olla Ferroviaria con la asociación de ferroviarios de Cistierna\n18.00h Guheko. presentación de ‘COMPATEO. senderismo por las montadas de León\n19:00h Microteatro ‘Un hombre suena’ Grupo Aristófanes Teatro \nViernes 7\n18:00 h Inauguración de la feria\n20.00 Presentación del ‘Camino Olvidado a Santiago’ por los GAL Cuatro Valles y Monta. de \nSábado 8\n12:00 h Actuación musical Mario González ‘El jilguerín de Casares’\n18:00 PresentacMn del libro «El Valle de Sabero\, de José Maria Escapa\n18.3o Cuenta Cuentos y taller infantil ‘Antruejo. El misterio de las máscaras de hivierno. con Vanesa Díez y Noella García\n19:00 Guheko. presentación I de ‘COMPATEO. senderismo por las montadas de León’
URL:https://leoncultural.com/evento/feria-de-la-montana-leonesa/
LOCATION:Plaza de las Cortes Leonesas\, Plaza de las Cortes Leonesas\, León\, León\, España
CATEGORIES:Cultura tradicional,Ferias
ATTACH;FMTTYPE=image/jpeg:https://leoncultural.com/wp-content/uploads/2018/12/feria-montana-leonesa.jpg
END:VEVENT
END:VCALENDAR