BEGIN:VCALENDAR
VERSION:2.0
PRODID:-//León Cultural - ECPv5.16.4.1//NONSGML v1.0//EN
CALSCALE:GREGORIAN
METHOD:PUBLISH
X-WR-CALNAME:León Cultural
X-ORIGINAL-URL:https://leoncultural.com
X-WR-CALDESC:Eventos para León Cultural
BEGIN:VTIMEZONE
TZID:Europe/Paris
BEGIN:DAYLIGHT
TZOFFSETFROM:+0100
TZOFFSETTO:+0200
TZNAME:CEST
DTSTART:20180325T010000
END:DAYLIGHT
BEGIN:STANDARD
TZOFFSETFROM:+0200
TZOFFSETTO:+0100
TZNAME:CET
DTSTART:20181028T010000
END:STANDARD
END:VTIMEZONE
BEGIN:VEVENT
DTSTART;TZID=Europe/Paris:20181104T080000
DTEND;TZID=Europe/Paris:20181104T220000
DTSTAMP:20260420T121922
CREATED:20181102T054939Z
LAST-MODIFIED:20181104T060956Z
UID:23222-1541318400-1541368800@leoncultural.com
SUMMARY:III Salón del Automóvil de Ocasión. Palacio de Exposiciones y congresos de León
DESCRIPTION:III Salón del Automóvil de Ocasión. Palacio de Exposiciones y congresos de León \nLa ciudad de León acogerá el III Salón del Automóvil de Ocasión en el Palacio de Exposiciones\, desde el viernes 2 al domingo 4 de Noviembre. \nEl evento\, al igual que la Salón del Automóvil Nuevo de León que se celebra en Junio está organizado por Leonbuscon\, con la colaboración del Ayuntamiento de León y los Concesionarios Oficiales de Automóviles de León. \nSe abre de nuevo el Palacio de Exposiciones en su totalidad para celebrar el Salón del Automóvil de Ocasión más importante de la Comunidad\, con más de 30 marcas representadas por los Concesionarios Oficiales de León\, que expondrán más de 300 vehículos usados\, semi-nuevos o km0 a la venta\, y donde los visitantes podrán ver\, consultar sus dudas y comprar al momento los vehículos ofertados para la ocasión. \nEl horario será ininterrumpido de 11h a 21h.\nEs posible que algunos representantes de los Concesionarios no se encuentren de 14h a 16h.
URL:https://leoncultural.com/evento/iii-salon-del-automovil-de-ocasion-palacio-de-exposiciones-y-congresos-de-leon/
LOCATION:Palacio de Congresos y Exposiciones de León\, Calle Gómez Salazar\, León\, León\, 24009\, España
CATEGORIES:Ferias
ATTACH;FMTTYPE=image/jpeg:https://leoncultural.com/wp-content/uploads/2018/11/III-salon-automovil-ocasion.jpg
END:VEVENT
BEGIN:VEVENT
DTSTART;TZID=Europe/Paris:20181104T110000
DTEND;TZID=Europe/Paris:20181104T203000
DTSTAMP:20260420T121922
CREATED:20181102T080833Z
LAST-MODIFIED:20181104T061108Z
UID:23242-1541329200-1541363400@leoncultural.com
SUMMARY:'Mercado de los sueños' Espacio Vías León
DESCRIPTION:‘Mercado de los sueños’ Espacio Vías León\n3 y 4 Noviembre en Espacio Vías y su horario será: 11:00 a 14:30 y de 16:30 a 20:00.\nMarket of Dreams o «Mercado de los Sueños» un evento nuevo que nace de la ilusión de crear en León un evento distinto\, especial… donde poder reunir en un solo lugar tanto pequeñas tiendas o marcas\, como artesanos e ilustradores y a la vez gente sencilla que quiera vender sus artículos de segunda mano\, todo ello reunido en un espacio único y con un ambiente especial. \nEn Market of Dreams habrá Música en directo\, Desfiles de moda\, Talleres y Actividades para niños y mayores\, y mucho más\, queremos que los visitantes pasen la mañana o la tarde\, o el día entero\, de una manera diferente. \nMarket of Dreams se celebrara los días 3 y 4 Noviembre en Espacio Vías y su horario será: 11:00 a 14:30 y de 16:30 a 20:00.
URL:https://leoncultural.com/evento/mercado-de-los-suenos-espacio-vias-leon/
LOCATION:Espacio VIAS\, Av del Padre Isla\, 48\, León\, León\, 24008 \, España
CATEGORIES:Ferias,Miscelanea
ATTACH;FMTTYPE=image/jpeg:https://leoncultural.com/wp-content/uploads/2018/11/market-of-dreams.jpg
END:VEVENT
BEGIN:VEVENT
DTSTART;TZID=Europe/Paris:20181104T130000
DTEND;TZID=Europe/Paris:20181104T223000
DTSTAMP:20260420T121922
CREATED:20181013T144848Z
LAST-MODIFIED:20181104T061209Z
UID:22694-1541336400-1541370600@leoncultural.com
SUMMARY:Feria del libro y de ocasión 2018. León
DESCRIPTION:Feria del libro y de ocasión 2018. León\nLEÓN • XXVI EDICIÓN 2018 .\n12 de Octubre a 4 de Noviembre PLAZA DE SAN MARCELO\nApertura: Viernes 12 de Octubre\, 11:3oh.\nHorario de casetas:\nLunes a Viernes de 11:ooh a 14:ooh y de 17:00h a 21:00h.\nFines de semana y festivos de 11:ooh a 14:30h y de 17:ooh a 21:30h.\n31/10 • MIÉRCOLES -19:30H\nNoche de Difuntos Los cuentos de Isabel Benito\n1/11 • JUEVES -13:00H\nHistorias de temporada Los cuentos de Isabel Benito\n1/11 • JUEVES -19:30H\nConcierto. Cecina de León. Música folk\n2/11 • VIERNES-19:30H\nConcierto. Secreto Ibérico Crispín d’Olot\n3/11 • SÁBADO -13:00H\nConferencia. Hacia el abismo de lo literario de los siglos Crispín d’Olot 3/11 • SÁBADO-19:30H\nConcierto. El romancero viejo en el Quijote Crispín d’Olot\n4/11 DOMINGO-13:00H\nCuentos del Mundo por la Interculturalidad Kashabel y Cía. \nPrimer fin de semana\n12/10\nVIERNES -13:30H\nInauguración de la exposición Ilustrazos 2018 Ilustradores de la PiLA\n12/10 • VIERNES -19:30H\nConcierto. Tamburis de Cuerdas de León.Músicas de Salterio 13h0 • SÁBADO -13:00H\nRetratos intervenidos. Jugaremos con el retrato y autorretrato literario La Fontanería Creativa \nSegundo fin de semana\n19/10 • VIERNES -19:30H\nConcierto. Cecina de León. Música folk\nSÁBADO-13:00H\nTaller de collage y técnicas mixtas Bea Larepa\nSÁBADO -19:30H\nTres cuentos en una Tinaja Los cuentos de Isabel Benito\nDomingo -13:00H\nToma pan y moja Los cuentos de Isabel Benito\nDOMINGO-19:30H\nConcierto. GAZAL.Música y poesía \n13/10 • SÁBADO -19:30H\nLa carta que te escribí. Escribimos una carta a alguien desconocido utilizando técnicas de escritura creativa La Fontanería Creativa\n14/10•Domingo -13:00H\nLa palabra imaginada. Creamos una historia en un idioma inventado La Fontanería Creativa\n14h0 • DOMINGO -19:30H\nConcierto. GROMA. Música tradicional con acordeón y violín \nTercer fin de semana\n26/10 VIERNES -19:30H\nContar mucho con muy poco. Taller de narrativa visual Javi de Castro\n27/10 • SÁBADO -13:00H\n28/10 • DOMINGO -19:30H\nTaller de collage y técnicas mixtas Bea Larepa\n27/10 . SÁBADO-19:30H\n28/10 • DOMINGO -13:00H\nCuento antiguo de princesos y caballeras. Taller de ilustración Laura G Bécares
URL:https://leoncultural.com/evento/feria-del-libro-y-de-ocasion-2018-leon/
LOCATION:Plaza de San Marcelo\, Plaza de San Marcelo\, León\, León\, 24003\, España
CATEGORIES:Ferias
ATTACH;FMTTYPE=image/jpeg:https://leoncultural.com/wp-content/uploads/2018/10/feria-2018-leon.jpg
END:VEVENT
END:VCALENDAR