BEGIN:VCALENDAR
VERSION:2.0
PRODID:-//León Cultural - ECPv5.16.4.1//NONSGML v1.0//EN
CALSCALE:GREGORIAN
METHOD:PUBLISH
X-WR-CALNAME:León Cultural
X-ORIGINAL-URL:https://leoncultural.com
X-WR-CALDESC:Eventos para León Cultural
BEGIN:VTIMEZONE
TZID:Europe/Paris
BEGIN:DAYLIGHT
TZOFFSETFROM:+0100
TZOFFSETTO:+0200
TZNAME:CEST
DTSTART:20250330T010000
END:DAYLIGHT
BEGIN:STANDARD
TZOFFSETFROM:+0200
TZOFFSETTO:+0100
TZNAME:CET
DTSTART:20251026T010000
END:STANDARD
BEGIN:DAYLIGHT
TZOFFSETFROM:+0100
TZOFFSETTO:+0200
TZNAME:CEST
DTSTART:20260329T010000
END:DAYLIGHT
BEGIN:STANDARD
TZOFFSETFROM:+0200
TZOFFSETTO:+0100
TZNAME:CET
DTSTART:20261025T010000
END:STANDARD
END:VTIMEZONE
BEGIN:VEVENT
DTSTART;TZID=Europe/Paris:20250329T080000
DTEND;TZID=Europe/Paris:20260208T210000
DTSTAMP:20260421T101055
CREATED:20250331T071351Z
LAST-MODIFIED:20250331T071351Z
UID:55998-1743235200-1770584400@leoncultural.com
SUMMARY:Así como suceden las cosas\, también nada sucede. Colección MUSAC
DESCRIPTION:Así como suceden las cosas\, también nada sucede.\nColección MUSAC\nDel 29 de marzo de 2025 al 8 de febrero del 2026\nAsí como suceden las cosas\, también nada sucede.  Colección MUSAC<————–
URL:https://leoncultural.com/evento/asi-como-suceden-las-cosas-tambien-nada-sucede-coleccion-musac/
LOCATION:MUSAC
CATEGORIES:Exposiciones,MUSAC
ATTACH;FMTTYPE=image/jpeg:https://leoncultural.com/wp-content/uploads/2025/03/Asi-como-suceden-las-cosas-tambien-nada-sucede.-Coleccion-MUSAC.jpg
END:VEVENT
BEGIN:VEVENT
DTSTART;TZID=Europe/Paris:20250329T080000
DTEND;TZID=Europe/Paris:20260208T210000
DTSTAMP:20260421T101055
CREATED:20250331T071555Z
LAST-MODIFIED:20250331T071555Z
UID:55997-1743235200-1770584400@leoncultural.com
SUMMARY:Autorretratos a través de la historia del arte. Yasumasa Morimura. Musac
DESCRIPTION:Autorretratos a través de la historia del arte.\nYasumasa Morimura.\nMusac.\nDel 29 de marzo de 2025 al 8 de febrero de 2026\nExposición Yasuma Morimura<————–
URL:https://leoncultural.com/evento/autorretratos-a-traves-de-la-historia-del-arte-yasumasa-morimura-musac/
LOCATION:MUSAC
CATEGORIES:Exposiciones,MUSAC
ATTACH;FMTTYPE=image/jpeg:https://leoncultural.com/wp-content/uploads/2025/03/Autorretratos-a-traves-de-la-historia-del-arte.-Yasumasa-Morimura.-Musac.jpg
END:VEVENT
BEGIN:VEVENT
DTSTART;TZID=Europe/Paris:20250505T080000
DTEND;TZID=Europe/Paris:20250731T170000
DTSTAMP:20260421T101055
CREATED:20250510T080652Z
LAST-MODIFIED:20250510T080819Z
UID:56467-1746432000-1753981200@leoncultural.com
SUMMARY:Los últimos de la mina. Luis Miguel Ramos Blanco. Museo de la siderurgia y de la minería de Sabero.
DESCRIPTION:Los últimos de la mina.\nLuis Miguel Ramos Blanco.\nMuseo de la siderurgia y de la minería de Sabero.\nMayo – Julio 2025.
URL:https://leoncultural.com/evento/los-ultimos-de-la-mina-luis-miguel-ramos-blanco-museo-de-la-siderurgia-y-de-la-mineria-de-sabero/
LOCATION:Museo de la siderurgia y de la minería de  Castilla y León\, Plaza San Blas\, 1\, Sabero\, León\, 24810\, España
CATEGORIES:Exposiciones,Fotografía
ATTACH;FMTTYPE=image/webp:https://leoncultural.com/wp-content/uploads/2025/05/Los-ultimos-de-la-mina.Luis-Miguel-Ramos-Blanco.-Museo-de-la-siderurgia-y-de-la-mineria-de-Sabero.webp
END:VEVENT
BEGIN:VEVENT
DTSTART;TZID=Europe/Paris:20250612T080000
DTEND;TZID=Europe/Paris:20251031T170000
DTSTAMP:20260421T101055
CREATED:20250609T103044Z
LAST-MODIFIED:20250614T110054Z
UID:56693-1749715200-1761930000@leoncultural.com
SUMMARY:Arte sin fronteras. Fundación Merayo
DESCRIPTION:Arte sin fronteras.\nFundación Merayo\nDel 12 de junio al 31 de octubre de 2025\nDUODÉCIMA TEMPORADA (2025)\n“ARTE SIN FRONTERAS “ \nEvento: Inauguración XII Temporada : ARTE SIN FRONTERAS\nFecha: 12 de junio. Hora: 12\, 00 horas.\nLugar: FUNDACIÓN MERAYO . C/ El Molino\, 29. Santibáñez de Porma (León) \nLa Fundación Merayo presentará su duodécima temporada de exposiciones de arte y actividades culturales\, el dia 12 de junio a las 12\,00 horas\, en un acto de inauguración que tendrá lugar en su sede de Santibáñez de Porma\, y contará con la presencia de D. EMILIO MARTÍNEZ MORÁN\, Diputado de Cultura de la Diputación de León.\nBajo el título ARTE SIN FRONTERAS\, la Fundación abre sus puertas a las obras de un relevante grupos de artistas de variadas disciplinas. Cuenta con Isidro Hernández Valcuende\, pintor leonés de intensa e interesante trayectoria\, que formó parte de la nómina de pintores leoneses que consolidaron\, a partir de los años ochenta\, la renovación de la pintura leonesa. La muestra de Isidro es representativa de su compleja evolución artística. John Morrison\, pintor\nandorrano de origen británico fallecido en 2019\, cuya hija\, Fiona Morrison\, expuso sus obras la pasada temporada. Ambos\, padre e hija\, participan de similar adscripción estética\, del gusto por las madera\, los ensamblajes y la fuerza del material. Ángela Merayo cuelga una selección de\nobras que ha denominado Variaciones\, por pertenecen a series distintas aunque mantienen característica plásticas y estilísticas comunes: paleta cromática\, texturas\, técnicas y medios\,\npor lo que pueden considerarse participantes de un mismo periodo creativo.\nEn la sala de fotografía cuelgan los trabajos de Raúl Ordás Fernández. Una colección de retratos realizados con IA que se presenta bajo el concepto de pathos\, por lo que el sentimiento es el protagonismo en estos retrato hiperrealistas y nada complacientes que “incitan al espectador a explorar y confrontar sus propias emociones\, trascendiendo barreras culturales y lingüísticas”.\nDe relevancia es la colección de Alfabetos\, de Isabel Cantón. Catedrática de Lengua y Literatura en la Universidad de León\, ha logrado reunir un importante número de ellos\, procedentes de las más dispares culturas y épocas\, constituyendo un legado de alto valor documental\, al tiempo que interesantes aportaciones visuales y estéticas de las sociedades de las que proceden.\nEn el mes de septiembre se incorporarán a las salas dos nuevas exposiciones: las obras de Araceli González Sánchez\, pintora leonesa emergente que llega a la Fundación Merayo con una propuesta pictórica de gran sensibilidad e intimista\, realizada dentro de una abstracción que bordea lo paisajístico. La autora encuentra la inspiración en la naturaleza y en la música. Y el proyecto ARTE SIN BARRERAS\, que\, liderado por Gustavo Vega Mansilla\, reúne a un colectivo de artistas comprometidos con los objetivos de desarrollo sostenible (ODS) de las Naciones Unidas. Se propone un dialogo sensible y crítico entre el arte y la conciencia social\, a través de lenguajes como la poesía visual\, la escultura\, la pintura\, el arte digital y la instalación.\nEn el patio e interiores se distribuyen obras escultóricas variadas\, que son una muestra representativa de la escultura actual leonesa. Exponen obras: Antolín Álvarez Chamorro\, Carlos Cuenllas\, Mariano Gutiérrez\, Cosme Paredes\, Pope de Paz\, Luis Prado Allende\, Javier Robles y las instalaciones de Cristina Ibáñez y Pilar Fornes .\nLos meses comprendidos entre junio y octubre se llenan de actividades en la Fundación Merayo. Al igual que en temporadas anteriores\, poesía\, la palabra y la música\, la arqueología o la ciencia tendrán presencia con invitados\, conferenciantes e interpretes invitados y dispuestos\na hacernos partícipes de su buen hacer y sus conocimientos. \nLa exposición «ARTE SIN BARRERAS» permanecerá abierta hasta hasta el 31 de octubre.\nLos interesados en realizar una visita\, previa o posterior a la inauguración podrán solicitarlo a\ntravés del teléfono de la Fundación Merayo. TFNO. 987 31 91 50 .
URL:https://leoncultural.com/evento/arte-sin-fronteras-fundacion-merayo/
LOCATION:FUNDACIÓN MERAYO\, Camino el Molino\, 29\,  Santibáñez de Porma\, León\, 24156\, España
CATEGORIES:Exposiciones,Presentaciones
ATTACH;FMTTYPE=image/webp:https://leoncultural.com/wp-content/uploads/2025/06/Arte-sin-fronteras.0AFundacion-Merayo.webp
END:VEVENT
BEGIN:VEVENT
DTSTART;TZID=Europe/Paris:20250614T190000
DTEND;TZID=Europe/Paris:20251019T210000
DTSTAMP:20260421T101055
CREATED:20250610T090633Z
LAST-MODIFIED:20250615T055652Z
UID:56724-1749927600-1760907600@leoncultural.com
SUMMARY:‘El bramido de la Tierra’ Luis Moro. MUSAC
DESCRIPTION:‘El bramido de la Tierra’\nLuis Moro.\nMUSAC\n14 de junio – 19 de octubre 2025\nEl MUSAC\, Museo de Arte Contemporáneo de Castilla y León\, abre su temporada estival con la inauguración el próximo 14 de junio de la exposición ‘El bramido de la Tierra’ del artista Luis Moro (Segovia\, 1969). La muestra reúne un centenar de pinturas\, dibujos y materiales procesuales que reflexionan sobre el vínculo entre humanidad y naturaleza en un contexto marcado por la crisis climática y la pérdida de biodiversidad. \nLa temporada continuará a partir del 12 de julio con dos exposiciones de STUDIO DRIFT y del pintor Secundino Hernández (Madrid\, 1975)\, que\, junto a ‘El bramido de la Tierra’\, permanecerán hasta el 19 de octubre. El colectivo neerlandés presentará ‘Amplitud / Pradera’\, muestra en la que traen por primera vez a España dos de sus obras más emblemáticas\, ‘Amplitude’ y ‘Meadow’. Por otro lado\, Secundino Hernández mostrará ‘Estación total’\, una selección de treinta piezas realizadas en la última década. \nSobre ‘El bramido de la Tierra’ \nUna exposición individual de Luis Moro (Segovia\, 1969) abrirá este año la temporada estival del museo. El artista\, distinguido en el 2022 con el premio Castilla y León de las Artes\, presenta ‘El bramido de la Tierra’\, un proyecto específico para el MUSAC comisariado por el crítico de arte y filósofo Fernando Castro Flórez. \nLa propuesta reúne pinturas de gran formato\, dibujos y materiales procesuales\, en los que el artista reflexiona sobre el proceso constante de transformación de la vida\, a través de una iconografía animal que interpela directamente la relación del ser humano con su entorno. \nEl comisario Fernando Castro Flórez subraya\, por otra parte\, el enfoque crítico del proyecto: “La obra de Luis Moro\, en la que lo verosímil y lo azaroso funcionan creando una hermosa naturaleza\, tiene algo de catarsis en relación con la catástrofe [climática] en curso. Este creador lleva años desarrollando una estética crítica con respecto a la necrobiopolítica que nos determina”. \nStudio DRIFT y Secundino Hernández a partir del 12 de julio \nEl colectivo neerlandés STUDIO DRIFT\, fundado en 2007 en Ámsterdam por Lonneke Gordijn y Ralph Nauta\, presentarápor primera vez en España dos de sus obras cinéticas más emblemáticas: ‘Pradera’ (Meadow) y ‘Amplitud’ (Amplitude). Con un enfoque multidisciplinar que combina arte\, ciencia y tecnología\, DRIFT investiga la relación entre naturaleza y humanidad a través de instalaciones que han recorrido escenarios internacionales como la Bienal de Venecia\, el Victoria & Albert Museum o el Museo Stedelijk. Su muestra en el MUSAC\, comisariada por Álvaro Rodríguez Fominaya\, propone una experiencia sensorial en la que el movimiento y la interacción con el entorno son clave. \nPor su parte\, el artista madrileño Secundino Hernández exhibirá ‘Estación total’\, que reúne una treintena de obras realizadas en la última década. El recorrido\, articulado en torno al políptico ‘Cuatro estaciones. Entre verano y otoño’ (2024) —la pieza más monumental de su trayectoria\, que se expone por primera vez en España—\, abarca desde sus técnicas de sustracción y cosido hasta bajorrelieves en aluminio. La muestra revela la evolución de su lenguaje pictórico\, siempre en diálogo con la abstracción y los materiales\, y destaca su capacidad para generar nuevas lecturas sobre la pintura contemporánea.
URL:https://leoncultural.com/evento/el-bramido-de-la-tierra-luis-moro-musac/
LOCATION:MUSAC
CATEGORIES:Exposiciones,MUSAC,Presentaciones
ATTACH;FMTTYPE=image/webp:https://leoncultural.com/wp-content/uploads/2025/06/‘El-bramido-de-la-Tierra0ALuis-Moro.0AMUSAC.webp
END:VEVENT
BEGIN:VEVENT
DTSTART;TZID=Europe/Paris:20250617T080000
DTEND;TZID=Europe/Paris:20250915T170000
DTSTAMP:20260421T101055
CREATED:20250618T154741Z
LAST-MODIFIED:20250618T154741Z
UID:56794-1750147200-1757955600@leoncultural.com
SUMMARY:Un viaje nostálgico. Museo de los Pueblos Leoneses.
DESCRIPTION:Un viaje nostálgico.\nMuseo de los Pueblos Leoneses.\nDel 17 de junio al 15 de septiembre de 2025\nColección de juguetes de F. Bandera \nEntrada gratuita \nMuseo de los Pueblos Leoneses \n(Mansilla de las Mulas) \nRecaudación voluntaria de fondos para la asociación \nPOR DOS PULGARES DE NADA
URL:https://leoncultural.com/evento/un-viaje-nostalgico-museo-de-los-pueblos-leoneses/
LOCATION:Museo de los pueblos leoneses\, Calle San Agustín\, 1\, Mansilla de las Mulas\, León\, 24210\, España
CATEGORIES:Exposiciones
ATTACH;FMTTYPE=image/webp:https://leoncultural.com/wp-content/uploads/2025/06/Un-viaje-nostalgico.-Museo-de-los-Pueblos-Leoneses.webp
END:VEVENT
BEGIN:VEVENT
DTSTART;TZID=Europe/Paris:20250628T120000
DTEND;TZID=Europe/Paris:20250831T170000
DTSTAMP:20260421T101055
CREATED:20250627T155317Z
LAST-MODIFIED:20250629T083625Z
UID:56881-1751112000-1756659600@leoncultural.com
SUMMARY:Buscando el tiempo y mis lugares. Josefina Junco. Centro leonés de arte
DESCRIPTION:Buscando el tiempo y mis lugares.\nJosefina Junco.\nCentro leonés de arte\n28 de junio de 2025\, 12 h\nCentro Leonés de Arte \nAvda. Independencia\, 18 – León \nENTRADA GRATUITA \nMartes a viernes de 17 a 20h. \nSábado de 11 a 14 h y de 17 a 20 h. \nDomingos y festivos de 11 a 14h. \nLunes cerrado.
URL:https://leoncultural.com/evento/buscando-el-tiempo-y-mis-lugares-josefina-junco-centro-leones-de-arte/
LOCATION:Centro Leonés de Arte (CLA)\, Cl Independencia\, 18\, León\, León\, 24001\, España
CATEGORIES:Exposiciones,Presentaciones
ATTACH;FMTTYPE=image/webp:https://leoncultural.com/wp-content/uploads/2025/06/Buscando-el-tiempo-y-mis-lugares.0AJosefina-Junco.0ACentro-leones-de-arte.webp
END:VEVENT
BEGIN:VEVENT
DTSTART;TZID=Europe/Paris:20250629T120000
DTEND;TZID=Europe/Paris:20251012T200000
DTSTAMP:20260421T101055
CREATED:20250613T173836Z
LAST-MODIFIED:20250701T065041Z
UID:56752-1751198400-1760299200@leoncultural.com
SUMMARY:tercer maestro. Fundación Cerezales Antonino y Cinia
DESCRIPTION:tercer maestro.\nFundación Cerezales Antonino y Cinia\nDel 29 de junio al 12 de octubre de 2025\nInauguración: 29 de junio 12 h \ntercer maestro <————-
URL:https://leoncultural.com/evento/tercer-maestro-fundacion-cerezales-antonino-y-cinia/
LOCATION:FUNDACIÓN CEREZALES\, C/ Antonino Fernández\, 76\, Cerezales del Condado\, León\, 24150 \, España
CATEGORIES:Exposiciones,Presentaciones
ATTACH;FMTTYPE=image/webp:https://leoncultural.com/wp-content/uploads/2025/06/tercer-maestro.-Fundacion-Cerezales-Antonino-y-Cinia.-Agenda-cultural-de-Leon.webp
END:VEVENT
BEGIN:VEVENT
DTSTART;TZID=Europe/Paris:20250701T080000
DTEND;TZID=Europe/Paris:20250928T170000
DTSTAMP:20260421T101056
CREATED:20250715T173752Z
LAST-MODIFIED:20250715T174200Z
UID:57065-1751356800-1759078800@leoncultural.com
SUMMARY:Paseando el tiempo. Ciudad de León 1854 - 1959. El Palacín
DESCRIPTION:Paseando el tiempo.\nCiudad de León 1854 – 1959.\nEl Palacín\nJulio – septiembre 2025\nEl Palacín\, Avda. Doctor Fleming\, 57.\n# Línea 2 / Entrada gratuita.\nHorario de martes a viernes\nde 11:00 a 14:00 y de 17:00 a 20:00 h.\nSábados de 11:00 a 14:00 h.\nLunes\, domingos y festivos cerrado. \nHan pasado 171 años desde la toma de la primera fotografía de esta exposición (1854)\, y 66 desde la última (1959). \nAlgo más de un siglo y medio\, un suspiro en el tiempo de la ciudad\, cuya evolución supieron captar los autores que aquí se presentan. \nEs esta una muestra del patrimonio documental fotográfico que alberga el Ayuntamiento de León. A través de ella podremos recorrer la evolución urbana de la capital: desde las casas de Puerta Obispo\, inmortalizadas por Charles Clifford en los albores mismos de la fotografía\, hasta el trabajo del fotoperiodista César cuando se inauguraba el nuevo Paseo de Papalaguinda en 1959. Transitaremos por el legado de Germán Gracia y su hijo\, Pepe; también por el de los Martín de Foto Exakta o el de Lotty\, con los que contamos gracias al Archivo de la Diputación a través del Instituto Leonés de Cultura (ILC- \nDiputación). La nómina de autores que figuran al final da cuenta\, asimismo\, de lo que ya no está\, de la ciudad que ya no es salvo en la memoria fotográfica. \nCharles Clifford / Germán Gracia / Pepe Gracia / Ejército del Aire / Lotty / Manuel Martin de la Madrid / Manuel \nMartín Martínez / César Andrés Delgado / C&R Fotografía / José Luis Roldán Luque / Ayuntamiento de León
URL:https://leoncultural.com/evento/paseando-el-tiempo-ciudad-de-leon-1854-1959-el-palacin/
LOCATION:El Palacín.\, Avenida Doctor Fleming\, 57\, León\, León\, 24007\, España
CATEGORIES:Exposiciones,Fotografía
ATTACH;FMTTYPE=image/webp:https://leoncultural.com/wp-content/uploads/2025/07/Paseando-el-tiempo.0ACiudad-de-Leon-1854-1959.0AEl-Palacin.webp
END:VEVENT
BEGIN:VEVENT
DTSTART;TZID=Europe/Paris:20250703T080000
DTEND;TZID=Europe/Paris:20250730T210000
DTSTAMP:20260421T101056
CREATED:20250703T072141Z
LAST-MODIFIED:20250703T072141Z
UID:56936-1751529600-1753909200@leoncultural.com
SUMMARY:En León no hay nada. Exposición 10 años de la guía GO! León. Convento San Francisco.
DESCRIPTION:En León no hay nada.\nExposición 10 años de la guía GO! León.\nConvento San Francisco.\nHasta el 30 de julio.\nEl pasado mes de junio se cumplieron 10 años desde que el primer número de la Guía GO! León salió a la calle. Corría junio del 2015 y no se sabía muy bien qué futuro tendría esta revista en papel en pleno siglo XXI. Diez años después han publicado 100 números y han editado 500.000 revistas\, ya que hacen 5mil ejemplares al mes. Pero sobre todo se han convertido en el referente del ocio y la cultura de la provincia de León. \nCon motivo de este momento histórico para la publicación se les ha ocurrido crear la exposición EN LEÓN NO HAY NADA que estará abierta en el Claustro de los Capuchinos (León) hasta el 30 de julio con entrada gratuita. Una muestra donde el visitante podrá hacer un recorrido histórico por el ocio y la cultura que ha llenado la provincia de León en estos últimos 10 años. Así como descubrir las 100 portadas que han creado en esta década a través de unos diseños realizados especialmente para la ocasión por Iván Puertas. Como colofón podrás ver las 100 revistas en papel gracias al lector Manuel Barrio Álvarez que les ha cedido su colección personal de Guías GO! para celebrar este 10º Aniversario. \nLa Guía GO! León con la exposición EN LEÓN NO HAY NADA\, pretende lanzar un mensaje claro a toda esa gente que suele decir esa frase tan manida que todos hemos escuchado alguna vez. Pero que tienen claro que están bastante equivocados\, como demuestra cada mes esta revista en papel que junta el ocio y la cultura de la provincia de León desde hace 10 años. \nLa Guía GO! León nos invita a descubrir sus 10 años de historia y las 100 portadas que llevan editadas hasta la fecha. Una exposición que demuestra claramente la gran oferta cultural y de ocio que tiene la provincia de León. Porque tienen claro que es mentira y de las gordas que\, EN LEÓN NO HAY NADA. \nDuración de la exposición: Del 27 de junio al 30 de julio de 2025 \nHorario de visitas: lunes a sábados de 18:00-20:00 h y  domingos de 12:00-13:00 h.
URL:https://leoncultural.com/evento/en-leon-no-hay-nada-exposicion-10-anos-de-la-guia-go-leon-convento-san-francisco/
LOCATION:Convento de San Francisco.\, Plaza de San Francisco 10\, León\, León\, 24004\, España
CATEGORIES:Exposiciones
ATTACH;FMTTYPE=image/jpeg:https://leoncultural.com/wp-content/uploads/2025/07/EN-LEON-NO-HAY-NADA-GUIA-GO.jpg
END:VEVENT
BEGIN:VEVENT
DTSTART;TZID=Europe/Paris:20250709T080000
DTEND;TZID=Europe/Paris:20250912T170000
DTSTAMP:20260421T101056
CREATED:20250715T174440Z
LAST-MODIFIED:20250715T174440Z
UID:57066-1752048000-1757696400@leoncultural.com
SUMMARY:Máscaras. Símbolos de identidad. Exposición en el Museo de los pueblos leoneses
DESCRIPTION:Máscaras.\nSímbolos de identidad.\nExposición en el Museo de los pueblos leoneses\nDel 9 de julio al 12 de septiembre de 2025\n 
URL:https://leoncultural.com/evento/mascaras-simbolos-de-identidad-exposicion-en-el-museo-de-los-pueblos-leoneses/
CATEGORIES:Exposiciones
ATTACH;FMTTYPE=image/webp:https://leoncultural.com/wp-content/uploads/2025/07/Mascaras.-0ASimbolos-de-identidad.-0AExposicion-en-el-Museo-de-los-pueblos-leoneses.webp
END:VEVENT
BEGIN:VEVENT
DTSTART;TZID=Europe/Paris:20250710T080000
DTEND;TZID=Europe/Paris:20250803T220000
DTSTAMP:20260421T101056
CREATED:20250709T095017Z
LAST-MODIFIED:20250710T114510Z
UID:56999-1752134400-1754258400@leoncultural.com
SUMMARY:EL HOSPITAL Y EL SINSONTE\, APRENDER A VOLAR. Antonio Gamoneda y Javier Fernández de Molina. Galería de Arte Ármaga
DESCRIPTION:EL HOSPITAL Y EL SINSONTE\, APRENDER A VOLAR.\nAntonio Gamoneda y Javier Fernández de Molina.\nGalería de Arte Ármaga\nJunio – julio 2025\nEL HOSPITAL Y EL SINSONTE\, APRENDER A VOLAR.\nAntonio Gamoneda y Javier Fernández de Molina.
URL:https://leoncultural.com/evento/el-hospital-y-el-sinsonte-aprender-a-volar-antonio-gamoneda-y-javier-fernandez-de-molina-galeria-de-arte-armaga/
LOCATION:ARMAGA\, Calle Alfonso V\, 6\, León\, León\, 24001 \, España
CATEGORIES:Exposiciones,Pintura
ATTACH;FMTTYPE=image/webp:https://leoncultural.com/wp-content/uploads/2025/07/Gamoneda-Molina_El-hospital-y-el-sinsonte.webp
END:VEVENT
BEGIN:VEVENT
DTSTART;TZID=Europe/Paris:20250711T130000
DTEND;TZID=Europe/Paris:20250907T170000
DTSTAMP:20260421T101056
CREATED:20250710T181243Z
LAST-MODIFIED:20250712T084643Z
UID:57012-1752238800-1757264400@leoncultural.com
SUMMARY:Exposición 10 certamen de fotografía urbana leonesa. Museo de León
DESCRIPTION:Exposición 10 certamen de fotografía urbana leonesa.\nMuseo de León\n11 de julio – 7 septiembre 2025\nEl viernes 11 de julio de 2025 a las 13:00 horas en el MUSEO DE LEÓN se llevará a cabo la entrega de premios y la inauguración de la exposición de las obras ganadoras y las finalistas en el 10º CERTAMEN DE FOTOGRAFÍA URBANA CONTEMPORÁNEA LEONESA . \nAdemás\, este año y con motivo de haber alcanzado la 10ª edición del Certamen de Fotografía Urbana Contemporánea Leonesa\, a las 32 obras seleccionadas de ésta se añaden en sala contigua del Museo todas las fotografías ganadoras de los 9 Certámenes anteriores.\nLas 60 obras originales se podrán visitar desde este mismo día por la tarde y hasta el domingo 7 de septiembre de 2025 en el Museo de León (Plaza de Santo Domingo 8) en horario: de 10 a 14 y de 17 a 20 horas. Domingos/Festivos: de 10 a 14 horas. Lunas cerradas.
URL:https://leoncultural.com/evento/exposicion-10-certamen-de-fotografia-urbana-leonesa-museo-de-leon/
LOCATION:Museo de León\, Plaza de Santo Domingo\, 8\, León\, León\, 24002\, España
CATEGORIES:Exposiciones,Presentaciones
ATTACH;FMTTYPE=image/webp:https://leoncultural.com/wp-content/uploads/2025/07/Exposicion-10-certamen-de-fotografia-urbana-leonesa.0DMuseo-de-Leon.-Agenda-cultural-de-Leon.webp
END:VEVENT
BEGIN:VEVENT
DTSTART;TZID=Europe/Paris:20250711T193000
DTEND;TZID=Europe/Paris:20250711T210000
DTSTAMP:20260421T101056
CREATED:20250701T094157Z
LAST-MODIFIED:20250701T094216Z
UID:56896-1752262200-1752267600@leoncultural.com
SUMMARY:Memoria de las mujeres. Sol Gómez Arteaga. Museo Casa Panero. Astorga
DESCRIPTION:Memoria de las mujeres.\nSol Gómez Arteaga.\nMuseo Casa Panero. Astorga\nViernes 11\, julio 2025\, 19:30 h\nAcompañan a la autora:\nIsamil9\nIgnacio Fernández Herrero\nMiguel García Bañales
URL:https://leoncultural.com/evento/memoria-de-las-mujeres-sol-gomez-arteaga-museo-casa-panero-astorga/
LOCATION:Museo Casa Panero. Astorga\, Calle Leopoldo Panero 9\, Astorga\, León\, 24700\, Spain
CATEGORIES:Presentaciones
ATTACH;FMTTYPE=image/jpeg:https://leoncultural.com/wp-content/uploads/2025/07/Memoria-de-las-mujeres.-Sol-Gomez-Arteaga.-Museo-Casa-Panero.-Astorga.jpg
END:VEVENT
BEGIN:VEVENT
DTSTART;TZID=Europe/Paris:20250711T200000
DTEND;TZID=Europe/Paris:20250711T213000
DTSTAMP:20260421T101056
CREATED:20250707T175224Z
LAST-MODIFIED:20250707T175503Z
UID:56990-1752264000-1752269400@leoncultural.com
SUMMARY:Herejes en el León antiguo y medieval. Florentino Aláez Serrano. Fundación Merayo
DESCRIPTION:Herejes en el León antiguo y medieval.\nFlorentino Aláez Serrano.\nFundación Merayo\nViernes 11\, julio 2025\, 20 h\nLa presentación será realizada por DOÑA ANA MARÍA CAMPOS. \nFlorentino Aláez Serrano (León\, 1961) es licenciado en derecho y doctor en filosofía\npor la UNED y doctor en historia de las religiones por la Universidad Complutense\nde Madrid. Ha sido notario de Puerto del Son (La Coruña)\, Mansilla de las Mulas (León)\,\nGüímar (Tenerife) y Madrid.\nSocio de la Asociación de Hispanismo Filosófico y de la Sociedad Española de Ciencias de las Religiones\, a cuyos congresos asiste con asiduidad. Autor del documental titulado Mozárabes del milenio. El Priorato de San Miguel de Escalada (2025). Colaborador habitual de El Diario de Madrid. Es autor del libro San\nJuan de la Cruz y el misticismo herético (Dionysianum\, 2014). \nHEREJES EN EL LEÓN ANTIGUO Y MEDIEVAL\nEl primero de los heterodoxos españoles que registra Menéndez y Pelayo era de León:\nBasílides (h. 254)\, el primer obispo de Astorga. Después\, Astorga será uno de los focos principales de la herejía de Prisciliano\, y durante al menos doscientos años León será priscilianista. Hubo cátaros en el siglo XIII\, que llegaron por el Camino de Santiago. Y en el siglo XIV vendrán dulcinistas. Hay huellas de averroísmo\, aristotelismo radical o\nheterodoxo\, en una escuela radicada León\, a la que se refiere sin nombrarla Lucas de\nTuy. A fines del siglo XV se crea el Tribunal de la Inquisición en León\, de corta vida\,\nporque a los pocos años su distrito se incorpora a la Inquisición de Palencia\, aunque quedarán familiares y comisarios que perseguirán a los herejes.
URL:https://leoncultural.com/evento/herejes-en-el-leon-antiguo-y-medieval-florentino-alaez-serrano-fundacion-merayo/
LOCATION:FUNDACIÓN MERAYO\, Camino el Molino\, 29\,  Santibáñez de Porma\, León\, 24156\, España
CATEGORIES:Ponencias
ATTACH;FMTTYPE=image/webp:https://leoncultural.com/wp-content/uploads/2025/07/Herejes-en-el-Leon-antiguo-y-medieval.-0AFlorentino-Alaez-Serrano.-0AFundacion-Merayo.webp
END:VEVENT
END:VCALENDAR