BEGIN:VCALENDAR
VERSION:2.0
PRODID:-//León Cultural - ECPv5.16.4.1//NONSGML v1.0//EN
CALSCALE:GREGORIAN
METHOD:PUBLISH
X-WR-CALNAME:León Cultural
X-ORIGINAL-URL:https://leoncultural.com
X-WR-CALDESC:Eventos para León Cultural
BEGIN:VTIMEZONE
TZID:Europe/Paris
BEGIN:DAYLIGHT
TZOFFSETFROM:+0100
TZOFFSETTO:+0200
TZNAME:CEST
DTSTART:20240331T010000
END:DAYLIGHT
BEGIN:STANDARD
TZOFFSETFROM:+0200
TZOFFSETTO:+0100
TZNAME:CET
DTSTART:20241027T010000
END:STANDARD
END:VTIMEZONE
BEGIN:VEVENT
DTSTART;TZID=Europe/Paris:20240614T200000
DTEND;TZID=Europe/Paris:20241031T200000
DTSTAMP:20260420T145549
CREATED:20240612T182653Z
LAST-MODIFIED:20241029T182235Z
UID:52768-1718395200-1730404800@leoncultural.com
SUMMARY:Arte en el Camino. Fundación Merayo
DESCRIPTION:Arte en el Camino.\nFundación Merayo\n14 de junio 20 h\nHasta el 31 de octubre de 2024\n El dia 14 de junio la Fundación Merayo invita a los leoneses y a cuantas personas lo deseen\, a vivir el ritual público del arte con motivo de la inauguración de su undécima temporada en Santibáñez de Porma. La Fundación oferta\, como en anteriores ocasiones\, un extenso programa de actividades culturales: conferencias\, encuentros literarios\, recitales de poesía y música\, junto a las habituales exposiciones de artes plásticas y visuales distribuidas por sus sugerentes espacios. \n  Los Escultores centran buena parte de la atención acompañando al visitante con su obras\, distribuidas por el patio y espacios interiores. Están presentes importantes nombres de la escultura leonesa que se expresan con un rico repertorio de técnicas\, estilos\, géneros y temas: Antolín Álvarez Chamorro\, posicionado dentro de la tradición clasicista en sus aspectos formales y temáticos; Carlos Cuenllas\, se afianza en las corrientes consolidadas de la escultura contemporánea: construcción sintética\, materiales aleatorios\, mutación de los temas tradicionales\, espacialidad en los emplazamientos; Mariano Gutiérrez propone un conjunto de obras que giran en torno al individuo con sus experiencias vitales alienantes y la lucha por su superación;  encontramos el realismo desbordante del animalario de Cosme Paredes\, deudor en su configuración plástica de los sistemas de estructura geométrica; las esculturas abstractas de Pope de Paz que bascula entre el lirismo y el expresionismo al que contribuye el material;  sendas obras de Jesús Pombo de los Arcos y Javier Robles resueltas en ambos casos dentro de la figuración\, con lenguajes y estéticas diferentes: El Pollo de corral de Pombo\, cuyo esquema figurativo tradicional en el que introduce elementos irónicos\, provoca un choque visual con ecos neodaístas. mientras  que en el Sin techo de Robles priman los volúmenes netos y marcadas aristas que ponen el acento en la narración y en la esencialidad del contenido. Juanjo Feral\, fiel a si mismo\, lanza una figura metálica que es puro  dibujo en el aire.  Elena Campos utiliza el arte textil para encontrar un modo personal de expresarse artísticamente\, haciendo que materiales tradicionalmente de otros ámbitos le permitan dialogar con la escultura\, como la magnifica obra que aquí expone. Del techo de la capilla pende la Sta Teresa que Nicolás Coderch realizó en malla metálica. Todo un símbolo de espiritualidad. \n   Instalación: Cristina Ibañez expone “Postigo” compuesta de varias piezas: puerta de madera recuperada e intervenida con pirograbado y piedras de jardín. Pilar Fornes\, “Egeria”\, interpretación del viaje de esta mujer que en la Alta Edad Media viajó desde el Bierzo a Jerusalén relatando sus percepciones .  \n   Fotografía y Artes Plásticas : Expone Fernando Tuñón\, la serie “Agua”. El agua\, su curso -el discurrir- y discurso -su esencia-\, metáforas de la vida\, protagonizan los paisajes acuáticos en los que retrata la calma y la tensión de sus superficies o el estruendo de la caída libre. En las fotografías realizadas con la cámara muy próxima la sensación líquida se trasforma en masas compactas y misteriosas potenciadas por la elección del blanco y negro. La serie  “Personas” de Luis Canal es un trabajo que insiste en el individuo\, en el mundo que hay detrás de cada rostro\, de cada mirada\, de cada expresión corporal. Ha fotografiado a personas de diferentes países de Europa buscado complicidad aun con la espontaneidad en el disparo. El ser humano es el centro de la fotografía de Luis Canal del que es un verdadero especialista. La fotografía de Clara Blanco presenta una “Feria de Abril” inusual\, fuera de los tópicos\, retratándola en blanco y negro y escogiendo momentos y  situaciones  singulares. \n   Elena Montaña parte de un uso exquisito y sensible de los materiales para conformar sus acuarelas y delicados collages\, realizados con fibras naturales y papel artesanal. Obras sin referencias figurativas\, a pesar de que cierta disposición de sus elementos conlleva sugerencias paisajísticas\, que junto a los tonos neutros y la tendencia al monocromatismo induce a pensar en lo oriental. Dos obras de abstracción expresionista y la introducción de objetos aleatorios ponderan esta muestra. \n   Fiona Morrison  se expresa en diferentes medios: pintura\, instalación\, fotografía\, vídeo…For You es el nombre de la presente muestra\, dedicada a la figura de su padre\, el pintor inglés John Morrison. En ella la nostalgia es el punto de partida para construir collages en los que convocar la memoria del hogar mediante las lineas infantiles y arquetípicas de una casa\, dibujada sobre cromatismos dulces y suaves. La alusión se afianza con la presencia de cuerpos celestes\, “estrellas”\,  en formas plásticas metafóricas que brillan sobre idealizados campos  azules. \n   Roberto Díez\, pintor leonés residente en Madrid expone Off-sett\, serie de diez collages que deslumbran con su poderosa presencia plástica\, y en la que el papel fragmentado coloniza el espacio mediante un proceso creativo que conlleva las acciones de destruir/construir\, en consecuencia\, generar una nueva realidad. Son obras que\, en su conjunto\, se adecúa formal y conceptualmente a territorios procedentes de las vanguardias históricas y otros surgidos en las décadas de los cincuenta y los sesenta\, bien asimilados por el artista\, entre ellos los cromatismos planos del off-set o los campos semánticos que introducen los recortes de prensa y las letras aleatorias. \n  De Ángela Merayo se exhibe la serie La Albera/Mediterrànea en la que con símbolos geométricos y materiales pétreos se evocan diferentes culturas y pueblos que han poblado el Mediterráneo: fenicios\, íberos\, griegos\, romanos etc.\, y que han transformado el paisaje y la cultura. Persiste en estas pinturas la relación con la naturaleza que Ángela Merayo ha mostrado habitualmente en sus trabajos y se permite la utilización de un cromatismo especial\, alegórico y bello con el que  enfatizar el rojo de los atardeceres mediterráneos y los abisales y amargos azules de sus profundidades.  \n   Ángel Cantero exhibe Per Viam. Muestra de pintura en estado puro. Se expone en la capilla\, convirtiéndola en un espacio/paisaje mágico que proporcionará a quien lo visite una experiencia analógicamente inmersiva en un mundo místico medieval. En sus imágenes conviven símbolos y ciencia: aparece la serie Fibonacci\, en el lugar preeminente  del retablo\, cual predela\, mientras en la pared contraria sitúa los cuatro estados de la materia: aire\, agua\, tierra y fuego\, que se reflejan en el mundo interior del hombre. Y como una constante la idea de azar\, lo imprevisto y mistérico: dados\, cartas\, laberinto… y la luz bañando todo el conjunto.
URL:https://leoncultural.com/evento/arte-en-el-camino-fundacion-merayo/
LOCATION:FUNDACIÓN MERAYO\, Camino el Molino\, 29\,  Santibáñez de Porma\, León\, 24156\, España
CATEGORIES:Escultura,Exposiciones,Fotografía,Pintura
ATTACH;FMTTYPE=image/jpeg:https://leoncultural.com/wp-content/uploads/2024/06/Arte-en-el-camino.-Fundacion-Merayo.jpg
END:VEVENT
BEGIN:VEVENT
DTSTART;TZID=Europe/Paris:20240810T080000
DTEND;TZID=Europe/Paris:20241031T170000
DTSTAMP:20260420T145549
CREATED:20240810T065131Z
LAST-MODIFIED:20240810T065131Z
UID:53171-1723276800-1730394000@leoncultural.com
SUMMARY:Imprescindibles de la fotografía. Cabrillanes
DESCRIPTION:Imprescindibles de la fotografía.\nCabrillanes\nAgosto – octubre 2024\nEDIFICIO ANTIGUO ATUNTAMIENTO DE CABRILLANES\nHorario: Miércoles\, jueves y viernes de 16 a 20 h.\nPara visitas sábados y domingos\, llamar lunes o viernes al 987 48 88 31 \nALBERTO GARCIA-ALIX\nRAMÓN MASATS TARTERA\nPIERRE GONNORD\nCRISTINA DE MIDDEL\nJUAN MANUEL CASTRO PRIETO\nISABEL MUÑOZ\nFRANCESC CATALA-ROCA\nCRISTINA GARCIA RODERO\nGERVASIO SÁNCHEZ\nVIRGILIO VIÉITIEZ\nGRACIELA (TURBIDE\nSANTIAGO DONAIRE\nALVARO ALAIZ\nCARMA CASULÁ\nNICOLÁS COMBARRO\nRAFAELTRAPIELLO\nJUAN VALBUENA\nLAURA C. VELA\nCARLOS CANOVAS\nESTELA DE CASTRO\nJUAN MARÍA RODRÍGUEZ\nIRENE ZOTTOLA\nGABRIELA CENDOYA\nJUAN MANUEL DIAZ BURGOS\nMENDIA ECHEVERRIA\nDANIEL OCHOA DE OLZA\nPAULA ANTA GUTIÉRREZ\nCHEMA CONESA\nSOFIA MORO\nANA PALACIOS\nMARIUS I. SCARLAT\nCECILIA ORUETA\nLUIS MIGUEL RAMOS\nJOSÉ FERRERO VILLARES\nMAURICIO PEÑA\nJOSÉ MANUEL LÓPEZ\nJOSE ANTONIO ROBES
URL:https://leoncultural.com/evento/imprescindibles-de-la-fotografia-cabrillanes/
LOCATION:Cabrillanes\, Cabrillanes\, León\, 24142\, España
CATEGORIES:Exposiciones,Fotografía
ATTACH;FMTTYPE=image/jpeg:https://leoncultural.com/wp-content/uploads/2024/08/Imprescindibles-de-la-fotografia.-Cabrillanes.jpg
END:VEVENT
BEGIN:VEVENT
DTSTART;TZID=Europe/Paris:20240913T200000
DTEND;TZID=Europe/Paris:20241026T200000
DTSTAMP:20260420T145549
CREATED:20240912T171217Z
LAST-MODIFIED:20240914T081629Z
UID:53536-1726257600-1729972800@leoncultural.com
SUMMARY:Ilusionismo. Pablo García JeJe. Galería Ármaga
DESCRIPTION:Ilusionismo.\nPablo García JeJe.\nGalería Ármaga\nViernes 13\, septiembre 2024\, 20 h\nDel 13 de septiembre al 26 de octubre de 2024 \nInauguración viernes 13 de septiembre a las 20:00 h \nCon asistencia del artista \nLa Galería Armaga tiene el placer de presentar *»Ilusionismo»*\, la primera exposición del artista leonés Pablo JeJe en este espacio. \nEn esta muestra\, Pablo nos invita a sumergirnos en un mundo de ilusiones visuales\, donde la realidad se transforma y lo cotidiano se vuelve extraordinario. \nllusionismo … explora los límites de la percepción mediante collages digitales e intervenciones fotográficas que juegan con la forma en que entendemos las imágenes. Las obras están llenas de ironía\, humor y crítica social. \nEl artista a través de su visión nos invita a cuestionar los límites entre lo real y lo ilusorio. \nGALERÍA DE ARTE ÁRMAGA \nC/ Alfonso V\, Nº6 | 24001 León – España | Tfno.: +34 987 238 787 | arte@armaga.com | armaga.com
URL:https://leoncultural.com/evento/ilusionismo-pablo-garcia-jeje-galeria-armaga/
LOCATION:ARMAGA\, Calle Alfonso V\, 6\, León\, León\, 24001 \, España
CATEGORIES:Exposiciones,Presentaciones
ATTACH;FMTTYPE=image/jpeg:https://leoncultural.com/wp-content/uploads/2024/09/Ilusionismo.-Pablo-Garcia-JEJE.-Galeria-Armaga.jpg
END:VEVENT
BEGIN:VEVENT
DTSTART;TZID=Europe/Paris:20240916T120000
DTEND;TZID=Europe/Paris:20241117T210000
DTSTAMP:20260420T145549
CREATED:20240906T155433Z
LAST-MODIFIED:20240917T071203Z
UID:53444-1726488000-1731877200@leoncultural.com
SUMMARY:Pueblos de colonización. Miradas a un paisaje inventado. Fundación Cerezales
DESCRIPTION:Pueblos de colonización.\nMiradas a un paisaje inventado.\nFundación Cerezales\n15 septiembre de 2024\, 12 h\nDel 15 de septiembre al 17 de noviembre \nInformación <——
URL:https://leoncultural.com/evento/pueblos-de-colonizacion-miradas-a-un-paisaje-inventado-fundacion-cerezales/
LOCATION:FUNDACIÓN CEREZALES\, C/ Antonino Fernández\, 76\, Cerezales del Condado\, León\, 24150 \, España
CATEGORIES:Exposiciones,Presentaciones
ATTACH;FMTTYPE=image/jpeg:https://leoncultural.com/wp-content/uploads/2024/09/Pueblos-de-colonizacion-Fundacion-Cerezales.jpg
END:VEVENT
BEGIN:VEVENT
DTSTART;TZID=Europe/Paris:20240920T180000
DTEND;TZID=Europe/Paris:20241027T180000
DTSTAMP:20260420T145549
CREATED:20240919T111103Z
LAST-MODIFIED:20240921T084313Z
UID:53628-1726855200-1730052000@leoncultural.com
SUMMARY:Exposición  de esculturas  "MADERAS  A LA DERIVA"\,  de  Jesús Antonio Martínez Lombo. Convento San Francisco de Asís
DESCRIPTION:Exposición de esculturas «MADERAS A LA DERIVA»\, de Jesús Antonio Martínez Lombo.\nConvento San Francisco de Asís\n21 de septiembre 18 h\nHasta 27 de octubre de 2024\nlunes a viernes: 17.30 a 20.00 h.\nsábado: 18 a 20 h.\ndomingo: 11.30 a 13.30 h. \nPara las figuras de la exposición he empleado maderas ligadas de una u otra manera al agua. Maderas pertenecientes a restos de barcos que he encontrado a la orilla del mar en las costas de Galicia\, o bien\, raíces y troncos desgastados por el Atlántico\, o por las corrientes de los ríos que las acaban depositando en los márgenes de un pantano\, procurando\, en lo posible\, respetar sus formas y aspecto. \nLas maderas las combino con pequeños trozos de cerámica\, tejas o ladrillos tallados y excepcionalmente\, con algún fragmento aislado de caliza. Son restos de reformas de albañilería que han acabado en el mar desgastados por la erosión y la sal\, en la mayoría de las ocasiones\, la meteorización sufrida y su pequeño tamaño limitan el tamaño de las figuras. \nComo elemento de unión utilizó\, por regla general\, colas de contacto de alta densidad y cianoacrilatos. Para el tallado de la cerámica uso pequeños cinceles o un grabador de impacto. La tinta y el color los empleo en las piezas de menor tamaño\, normalmente de porcelana erosionada por las olas\, pero sobre todo en las sílabas de agua\, esas sílabas que traducen el sonido de los ríos y de las marejadas. \nLas obras que forman parte de la exposición irán acompañadas por poemas de la novela diaria de la vida de Agua\, de la que soy autor\, que transcurre en su mayor parte en la península de Barbanza. \nEl número de trabajos presentados es de 35-45 figuras\, agrupados varias en un solo motivo o bien aisladas. \n 
URL:https://leoncultural.com/evento/exposicion-de-esculturas-maderas-a-la-deriva-de-jesus-antonio-martinez-lombo-convento-san-francisco-de-asis/
LOCATION:Convento de San Francisco.\, Plaza de San Francisco 10\, León\, León\, 24004\, España
CATEGORIES:Exposiciones
ATTACH;FMTTYPE=image/jpeg:https://leoncultural.com/wp-content/uploads/2024/09/Exposicion-de-esculturas-MADERAS-A-LA-DERIVA-de-Jesus-Antonio-Martinez-Lombo.-Convento-San-Francisco-de-Asis.jpg
END:VEVENT
BEGIN:VEVENT
DTSTART;TZID=Europe/Paris:20241005T190000
DTEND;TZID=Europe/Paris:20241028T190000
DTSTAMP:20260420T145549
CREATED:20241001T061726Z
LAST-MODIFIED:20241005T213642Z
UID:53717-1728154800-1730142000@leoncultural.com
SUMMARY:León: color\, luz\, tradición y espíritu. Pintura: Francisco Mínguez. Fotografía: Irene del Canto. Centro cultural de Pinilla.
DESCRIPTION:León: color\, luz\, tradición y espíritu.\nPintura: Francisco Mínguez. Fotografía: Irene del Canto.\nCentro cultural de Pinilla.\nViernes 4\, octubre 2024\, 19 h\nHasta el 28 de octubre\n 
URL:https://leoncultural.com/evento/leon-color-luz-tradicion-y-espiritu-pintura-francisco-minguez-fotografia-irene-del-canto-centro-cultural-de-pinilla/
LOCATION:Casa de cultura de Pinilla
CATEGORIES:Exposiciones,Fotografía,Pintura
ATTACH;FMTTYPE=image/jpeg:https://leoncultural.com/wp-content/uploads/2024/10/Leon-color-luz-tradicion-y-espiritu.-Pintura-Francisco-Minguez.-Fotografia-Irene-del-Canto.-Centro-cultural-de-Pinilla.jpg
END:VEVENT
BEGIN:VEVENT
DTSTART;TZID=Europe/Paris:20241024T200000
DTEND;TZID=Europe/Paris:20241116T170000
DTSTAMP:20260420T145549
CREATED:20241024T065242Z
LAST-MODIFIED:20241025T061055Z
UID:54077-1729800000-1731776400@leoncultural.com
SUMMARY:"Plagios" Exposición de pintura de Nicolás M. Roa. Amarone  Vinneria
DESCRIPTION:«Plagios»\nExposición de pintura de Nicolás M. Roa.\nAmarone Vinneria\n24 de octubre de 2024\, 20 h\nEl concepto de «Plagios» como parte de una investigación artística es fascinante.\nRefleja un enfoque que desafía las percepciones tradicionales del arte\, al reinterpretar obras conocidas fuera de su contexto original. Esta práctica puede revelar nuevas dimensiones formales y estéticas\, y cuestionar la importancia del valor simbólico en el arte.\nAl hacerlo\, invita a los espectadores a experimentar las obras de una manera renovada y posiblemente\, con una narrativa alterada que enriquece la comprensión de la pieza.
URL:https://leoncultural.com/evento/plagios-exposicion-de-pintura-de-nicolas-m-roa-amarone-vinneria/
LOCATION:Amarone Vinneria\, Cascalería 3\, León\, León\, 24003\, Spain
CATEGORIES:Exposiciones,Pintura
ATTACH;FMTTYPE=image/jpeg:https://leoncultural.com/wp-content/uploads/2024/10/Plagios-Exposicion-de-pintura-de-Nicolas-M.-Roa.-Amarone-Vinneria.jpg
END:VEVENT
BEGIN:VEVENT
DTSTART;TZID=Europe/Paris:20241025T190000
DTEND;TZID=Europe/Paris:20241025T203000
DTSTAMP:20260420T145549
CREATED:20241022T075009Z
LAST-MODIFIED:20241022T075009Z
UID:54007-1729882800-1729888200@leoncultural.com
SUMMARY:Paqui la Taqui. Aventuras de una reportera feminista en la era posmolerda. El Albéitar
DESCRIPTION:Paqui la Taqui.\nAventuras de una reportera feminista en la era posmolerda.\nEl Albéitar\nViernes 25\, octubre 2024\, 19 h\n 
URL:https://leoncultural.com/evento/paqui-la-taqui-aventuras-de-una-reportera-feminista-en-la-era-posmolerda-el-albeitar/
LOCATION:El Albéitar\, Calle Covadonga\, Calle Luis de Sosa\, esquina\, León\, León\, 24004\, España
CATEGORIES:Miscelanea
ATTACH;FMTTYPE=image/jpeg:https://leoncultural.com/wp-content/uploads/2024/10/Paqui-la-Taqui.-Aventuras-de-una-reportera-feminista-en-la-era-posmolerda.-El-Albeitar.jpg
END:VEVENT
BEGIN:VEVENT
DTSTART;TZID=Europe/Paris:20241025T193000
DTEND;TZID=Europe/Paris:20241025T210000
DTSTAMP:20260420T145549
CREATED:20241023T074032Z
LAST-MODIFIED:20241023T074032Z
UID:54038-1729884600-1729890000@leoncultural.com
SUMMARY:Robinsonas de tierra adentro. Presentación en el Instituto leonés de cultura.
DESCRIPTION:Robinsonas de tierra adentro.\nPresentación en el Instituto leonés de cultura.\nViernes 25\, octubre 2024\, 19:30 h\nIntervienen las autoras\nGema Villa y Pilo Gallizo\nPresenta Ana Gaitero\nPeriodista y Presidenta de\nAsociación de Periodistas\nFeministas de Castilla y León. \nCon la participación de\nmujeres protagonistas
URL:https://leoncultural.com/evento/robinsonas-de-tierra-adentro-presentacion-en-el-instituto-leones-de-cultura/
LOCATION:Instituto leonés de cultura\, C Prta de la Reina\, 1\, León\, León\, 24003\, España
CATEGORIES:Presentaciones
ATTACH;FMTTYPE=image/jpeg:https://leoncultural.com/wp-content/uploads/2024/10/Robinsonas-de-tierra-adentro.-Presentacion-en-el-Instituto-leones-de-cultura.jpg
END:VEVENT
BEGIN:VEVENT
DTSTART;TZID=Europe/Paris:20241025T193000
DTEND;TZID=Europe/Paris:20241025T210000
DTSTAMP:20260420T145550
CREATED:20241023T203745Z
LAST-MODIFIED:20241023T203745Z
UID:54070-1729884600-1729890000@leoncultural.com
SUMMARY:Dúo flauta y piano: Ece Koyuncu-flauta travesera (Turquía) y Gianfranco Granata-piano (Italia). Sala Eutherpe
DESCRIPTION:Dúo flauta y piano: Ece Koyuncu-flauta travesera (Turquía) y Gianfranco Granata-piano (Italia).\nSala Eutherpe\nViernes 25\, octubre 2024\, 19:30 h\nPrograma\n1ª Parte\nRobert Schumann (1810-1856) Tres Romanzas op.94\n1.- Moderato\n2.- Semplicemente affettuoso\n3.- Moderato\nFranz Schubert (1797-1828) Introducción y Variaciones\, D.802 ; Op.posth.160 (nueve secciones)\n-Andante\n-Tema: Andantino\n-7 variaciones \n\n2ª Parte\nFrancis Poulenc (1899-1963) Sonata para flauta y piano:\n-Allegro malinconico\n-Cantilena: Assez prestado\n-Presto giocoso\nFrançois Borne (1840-1920) Fantasía sobre «Carmen» de Bizet\n\nEce Koyuncu (Flauta). Empieza a tocar la flauta a edad temprana. Se gradúa en el Conservatorio Estatal de la Universidad de Hacettepe en Turquía\, y completa su carrera académica con un programa de maestría en el Conservatorio de Santa Cecilia en Roma\, Italia. Durante el curso académico 2015-2016 pasa un año como estudiante de intercambio en Madrid estudiando en el Real Conservatorio Superior de Música\, donde estudia con importantes profesores de flauta como Vicente Martínez López y Manuel Rodríguez. Asiste a clases magistrales con James Galway\, Andrea Oliva\, Bülent Evcil y Christian Plouveir.\nDa clases particulares de flauta y sigue como profesora de flauta en escuelas de música. Además\, como músico profesional\, da conciertos como solista\, con orquesta y en música de cámara en Roma Turquía y resto de Europa. Realizó una gira de doce conciertos en 14 días con la orquesta del Festival Eurochestries que reunió a Músicos de toda Europa en Francia. También graba la 7ª Sinfonía de Beethoven con la Orquesta Sinfónica Juvenil de Ankara y participa en diferentes reuniones de jóvenes músicos de orquesta greco-turca. Ha tocado en varios anfiteatros antiguos\, tanto en Turquía como en Grecia. Recientemente\, se unió a la banda de música del artista italiano Alessandro Siani para actuar en sus espectáculos como flautista en el Teatro Politeama Greco de Lecce\, el Nuovo Teatro Verdi de Brindisi\, el Teatro Orfeo de Tarento y el Teatro Metropolitano de Catania. También participa activamente en varios eventos musicales en Italia. En la Sala Eutherpe de León (España) lo hará acompañada del pianista italiano Gianfranco Granata. \nGianfranco Granata\, (piano). Nace en Sava -Italia – Se graduó en piano en el Conservatorio Tito Schipa de Lecce\, continuó su educación musical en Roma bajo la guía de Lya De Barberiis\, y asistió durante tres años a las clases magistrales impartidas por Aldo Ciccolini. Ha trabajado como Presidente durante unos cinco años con la ACEM\, Asociación Cultural E. Majorana\, realiza una intensa actividad didáctica y concertística y en colaboración con otros músicos. \nFundó la AIMA (Academia Italiana de Música y Arte)\, para continuar y mejorar el trabajo iniciado con la ACEM\, en una escuela secundaria de la capital; labor reconocida y premiada en el Foro Anual de la Administración Pública de 1997 en el marco de los «Cien Proyectos de Mejoramiento de los Servicios Públicos» organizados por el Ministerio de Administraciones Públicas.Como Presidente y Director Artístico de ACEM\, fue promotor y organizador de cerca de 80 espectáculos musicales y algunos teatrales\, continuó su labor como director artístico de AIMA\, que ya ha producido varios conciertos en diferentes salas y salas de conciertos de la capital. Supervisó la dirección artística de un concierto que lo vio protagonizar la orquesta sinfónica del Council Rock High School de Filadelfia (EE.UU.)\, que realizó una gira por Italia\, ha elegido a la AIMA\, como organizadora de un concierto en la ciudad de Roma. Además de su actividad concertística\, dirige la escuela de Música de AIMA\, que alcanzó niveles de calificación ampliamente reconocidos a nivel nacional.\nEl trabajo de director artístico junto a profesor de piano y concertista\, colaborando con artistas de renombre internacional como Morricone\, Natasha Korsakova\, Ece Koyuncu\, etc.
URL:https://leoncultural.com/evento/duo-flauta-y-piano-ece-koyuncu-flauta-travesera-turquia-y-gianfranco-granata-piano-italia-sala-eutherpe/
LOCATION:Sala EUTHERPE\, Alfonso V\, 10\, León\, León\, 24001\, España
CATEGORIES:Conciertos,Música
ATTACH;FMTTYPE=image/jpeg:https://leoncultural.com/wp-content/uploads/2024/10/Duo-flauta-y-piano-Ece-Koyuncu-flauta-travesera-Turquia-y-Gianfranco-Granata-piano-Italia.-Sala-Eutherpe.jpg
END:VEVENT
BEGIN:VEVENT
DTSTART;TZID=Europe/Paris:20241025T203000
DTEND;TZID=Europe/Paris:20241025T220000
DTSTAMP:20260420T145550
CREATED:20241022T073946Z
LAST-MODIFIED:20241022T074014Z
UID:54009-1729888200-1729893600@leoncultural.com
SUMMARY:"Bura" Rodrigo Martínez Trío. El Albéitar
DESCRIPTION:«Bura» Rodrigo Martínez Trío.\nEl Albéitar\nViernes 25\, octubre 2024\, 20:30 h
URL:https://leoncultural.com/evento/bura-rodrigo-martinez-trio-el-albeitar/
LOCATION:El Albéitar\, Calle Covadonga\, Calle Luis de Sosa\, esquina\, León\, León\, 24004\, España
CATEGORIES:Conciertos,Música
ATTACH;FMTTYPE=image/jpeg:https://leoncultural.com/wp-content/uploads/2024/10/Bura-Rodrigo-Martinez-Trio.-El-Albeitar.jpg
END:VEVENT
BEGIN:VEVENT
DTSTART;TZID=Europe/Paris:20241025T220000
DTEND;TZID=Europe/Paris:20241025T233000
DTSTAMP:20260420T145550
CREATED:20241019T194222Z
LAST-MODIFIED:20241019T194710Z
UID:53967-1729893600-1729899000@leoncultural.com
SUMMARY:Daniel Higiénico presenta “Cancionólogos”. Black Bourbon
DESCRIPTION:Daniel Higiénico presenta “Cancionólogos”.\nBlack Bourbon\n25 de octubre de 2024\, 22 h\nOnline: https://entradium.com/es/events/daniel-higienico-en-leon\nTaquilla 12€\n\nDaniel Higiénico presenta “Cancionólogos” un concierto/espectáculo con canciones… y otros cuentos. Humor\, reflexión\, música y teatro. Daniel mezclará todos esos ingredientes para ofrecer un espectáculo tan divertido como inclasificable. Sin duda\, la mejor manera de disfrutar de Daniel Higiénico… ¡En su salsa!\n\nDANIEL HIGIÉNICO\nEn 1992\, después de casi dos años de recorrer los bares de Mallorca con sus canciones\,\nDaniel Higiénico logró montar una banda (Daniel Higiénico y la Quartet de Baño Band) y\nganar la X edición del “Concurso de Rock de Palma”. Así consiguió grabar su primer disco\n“Doble hoja” con la producción de Joan Bibiloni y Toni Pastor. Un disco que un año mas\ntarde editaría el sello Polygram. Esa relación no fue muy bien y posteriormente fichó con AZ\nRecords con la que editó 5 discos: «El poder de flipar» (1994)\, «Flipando en colores» (1996) y\n«Flipando el doble” (1998)\, el disco en directo “In laif” (2000) y “Lágrimas de chimpancé”\n(2001).\nA partir de ahí editó sus propios trabajos con el sello Producciones Higiénicas. “El hombre\ndel tiempo” (2004)\, “La rebelión de los niños con problemas emocionales” (2007)\, “Rarezas\nde cojones” (2007) “6.000 millones” (2010).\nSus conciertos no tienen un estilo musical concreto aunque se le podría considerar un cantautor-\nrock-teatral… o “cantactor”… como le gusta decir a él… Desde el principio se dió\ncuenta que el teatro y el humor era una pieza fundamental en sus espectáculos\, que lo que\nmas le interesaba de las canciones era que la historia que estaba contando llegara lo mejor\nposible al público y sus actuaciones tienen siempre un fuerte componente teatral… Se convierto\nen diferentes personajes y cada canción es como un pequeño cuento.\nSu vena teatral quedó confirmada después de realizar un cursillo con el actor Leo Bassi.\nDespués de aquello se lanzó a ofrecer espectáculos teatrales en solitario con canciones y\nsoliloquios de humor con un componente tragicómico. “Mamá\, quiero ser autista” (2001)\,\n“Mentiras podridas” (2004)\, “Palabra de ornitorrinco” (2009)\, “Pienso\, luego insisto” (2012)\,\n“Canciones para después de una indigestión” (2014) y “Que vello es bibir” (2019).\nPara cumplir con el tópico\, podría decirse que es un cantautor ecléctico\, tanto en música\ncomo en textos. Sus letras caminan entre lo real y lo absurdo\, la ironía y el sarcasmo\, dibujando\nesas situaciones cotidianas que se tornan kafkianas y en las cuales todos hemos caído\nsin querer alguna que otra vez. También hay cabida para la ternura\, el humor y la fantasía\,\ningredientes todos ellos que mezcla con total naturalidad. Creo que eso contribuye a potenciar\nsu química especial con el público.\nEn abril 2014 Daniel publica su primera novela\, “El Paseo Infinito” gracias a un exitoso crowfounding\nen Verkami. En solo cinco meses de presentaciones y conciertos\, publica su 2ª\nedición. Convirtiendose en una de las novelas autoeditadas más vendidas del país. También\nen 2014 reedita el libro de relatos “Personajes y su Hígado”.\nEn 2016 edita otro libro gracias a un nuevo crowdfunding\, Club Columbia: 50 microthrillers\,\nun libro de micro-relatos de temática negra negra y crea una comedia musical basada en ese\nmismo libro estrenándola en marzo en el Teatre LLantiol de Barcelona. Una especie de\n“music hall” donde Daniel interpreta más de quince personajes diferentes.\nEn 2017 publica un nuevo disco “Daniel higiénico Blues Experience”\, un disco de blues y\nrock and roll con letras en castellano\, un disco de género inspirado en los clásicos del blues\,\nde todos los estilos y de todas las épocas.\nY en 2020 “Esperando a Robin Hood” un trabajo de estilo folk producido por Toni Pastor\, con\nel laud como instrumento principal. Trabajo con el que actualmente está girando por salas de\ntodo el país.\nY en 2023 edita “Demasiado viejo para el rock and roll\, demasiado joven para morir”\, un trabajo\ndonde vuelve a jugar con una variedad infinita de estilos… hasta un reggaetón.
URL:https://leoncultural.com/evento/daniel-higienico-presenta-cancionologos-black-bourbon/
LOCATION:Black Bourbon\, Puerta del sol 8\, León\, León\, 24003\, Spain
CATEGORIES:Conciertos,Música
ATTACH;FMTTYPE=image/jpeg:https://leoncultural.com/wp-content/uploads/2024/10/Daniel-Higienico-presenta-Cancionologos.-Black-Bourbon.jpg
END:VEVENT
END:VCALENDAR