BEGIN:VCALENDAR
VERSION:2.0
PRODID:-//León Cultural - ECPv5.16.4.1//NONSGML v1.0//EN
CALSCALE:GREGORIAN
METHOD:PUBLISH
X-WR-CALNAME:León Cultural
X-ORIGINAL-URL:https://leoncultural.com
X-WR-CALDESC:Eventos para León Cultural
BEGIN:VTIMEZONE
TZID:Europe/Paris
BEGIN:DAYLIGHT
TZOFFSETFROM:+0100
TZOFFSETTO:+0200
TZNAME:CEST
DTSTART:20160327T010000
END:DAYLIGHT
BEGIN:STANDARD
TZOFFSETFROM:+0200
TZOFFSETTO:+0100
TZNAME:CET
DTSTART:20161030T010000
END:STANDARD
END:VTIMEZONE
BEGIN:VEVENT
DTSTART;TZID=Europe/Paris:20160915T203000
DTEND;TZID=Europe/Paris:20160915T220000
DTSTAMP:20260422T122537
CREATED:20160904T052909Z
LAST-MODIFIED:20160904T052909Z
UID:4379-1473971400-1473976800@leoncultural.com
SUMMARY:XXIX FESTIVAL DE MÚSICA ESPAÑOLA DE LEÓN
DESCRIPTION:29º Festival de Música Española de León\n15 de Septiembre de 2016\nAuditorio Ciudad de León – 20:30h\nORQUESTA SINFÓNICA DE CASTILLA Y LEÓN\nJUAN PÉREZ FLORISTÁN\, piano\nJ. R. PASCUAL VILAPLANA\, director invitado\nPrograma: «Noches en los jardines de España» de Falla\, Suite nº 1 «Goyescas» de Granados/Guinovart\, Dos Danzas Leonesas de Fdez. Blanco y Estancia op. 8a: suite de danzas de Ginastera.\nEl pianista Juan Pérez Floristán\, flamante ganador del Concurso Internacional “Paloma O’Shea” de Santander en 2015\, junto con la OSCyL\, dirigidos por Pascual Vilaplana\, inauguran la vigésimo novena edición del Festival con un atractivo concierto en el que podremos escuchar las célebres «Noches» para piano y orquesta de Falla\, cien años después de su estreno. Así mismo\, la OSCyL rinde homenaje a dos compositores en el centenario de su fallecimiento: Granados y Ginastera\, además de incluir un guiño a la música del leonés natural de Astorga\, Evaristo Fdez. Blanco.\nPrecios: 12€ (platea)\, 10€ (anfiteatro) y 8€ (tribuna posterior).\nDescuento del 50% para estudiantes.\nDuración: 80 minutos.\n\n‘29 FESTIVAL DE MÚSICA ESPAÑOLA DE LEÓN’\nAuditorio Ciudad de León\nFECHAS / HORA:\na.- 15 de septiembre de 2016 / 20:30h – ‘NOCHES EN LOS JARDINES DE ESPAÑA’\nb.- 25 de septiembre de 2016 / 20:30h – ‘ANDANZAS Y MÚSICAS DE DON QUIJOTE’\nPRECIOS:\nLOCALIDAD GENERAL:            -Platea: 12€\n-Anfiteatro: 8€\nLOCALIDAD ESTUDIANTE:       -Platea: 6€\n-Anfiteatro: 4€\nPUNTOS DE VENTA:\n– Taquillas del Auditorio: De L a V de 16:00 a 20:30h *\n– www.auditorioleon.es\n– www.aytoleon.es\n• LA TAQUILLA DEL AUDITORIO PERMANECERÁ CERRADA LOS MESES DE JULIO Y AGOSTO\n• LA VENTA SIGUE VIGENTE EN VENTA ONLINE
URL:https://leoncultural.com/evento/xxix-festival-musica-espanola-leon/
LOCATION:Auditorio Ciudad de León\, Av. de los Reyes Leoneses\, 4\, 24008 León\, León\, León\, 24008\, España
CATEGORIES:Conciertos,Música
ATTACH;FMTTYPE=image/jpeg:https://leoncultural.com/wp-content/uploads/2016/09/29-FESTIVAL-MUSICA-AUDITORIO-LEON.jpg
END:VEVENT
END:VCALENDAR