BEGIN:VCALENDAR
VERSION:2.0
PRODID:-//León Cultural - ECPv5.16.4.1//NONSGML v1.0//EN
CALSCALE:GREGORIAN
METHOD:PUBLISH
X-WR-CALNAME:León Cultural
X-ORIGINAL-URL:https://leoncultural.com
X-WR-CALDESC:Eventos para León Cultural
BEGIN:VTIMEZONE
TZID:Europe/Paris
BEGIN:DAYLIGHT
TZOFFSETFROM:+0100
TZOFFSETTO:+0200
TZNAME:CEST
DTSTART:20160327T010000
END:DAYLIGHT
BEGIN:STANDARD
TZOFFSETFROM:+0200
TZOFFSETTO:+0100
TZNAME:CET
DTSTART:20161030T010000
END:STANDARD
END:VTIMEZONE
BEGIN:VEVENT
DTSTART;TZID=Europe/Paris:20160905T193000
DTEND;TZID=Europe/Paris:20160905T230000
DTSTAMP:20260422T175943
CREATED:20160903T200534Z
LAST-MODIFIED:20160903T200534Z
UID:4372-1473103800-1473116400@leoncultural.com
SUMMARY:XIX CERTAMEN NACIONAL DE CORTOMETRAJES DE ASTORGA Lunes 5\, programación.
DESCRIPTION:Programación para el LUNES 5\nCINE VELASCO\n19.30 h Sección Valores Sociales\nLOCAS España\, 2016\, 15′ (a concurso)\nAMIJIMA España 2916 54′\n22\,00 h Sección oficial a concurso\nTABLO-A Haití\, 2015 – 7′\nY MAÑANA NAVIDAD España\, 2016 – 8′\nMARTA JUEGA SOLA España\, 2015 -13′\nTHE HEAT WAVE – La ola de calor Luxembourg\, 2015 -18″\nEL ADIÓS España\, 2015 -14′\nFÁLAME DO SILENCIO España\, 2016 – 14′
URL:https://leoncultural.com/evento/xix-certamen-nacional-cortometrajes-astorga-lunes-5-programacion/
LOCATION:Astorga\, Astorga\, León\, España
CATEGORIES:Cine
ATTACH;FMTTYPE=image/jpeg:https://leoncultural.com/wp-content/uploads/2016/08/XIX-FESTIVAL-DE-CINE-ASTORGA.jpg
END:VEVENT
END:VCALENDAR