BEGIN:VCALENDAR
VERSION:2.0
PRODID:-//León Cultural - ECPv5.16.4.1//NONSGML v1.0//EN
CALSCALE:GREGORIAN
METHOD:PUBLISH
X-WR-CALNAME:León Cultural
X-ORIGINAL-URL:https://leoncultural.com
X-WR-CALDESC:Eventos para León Cultural
BEGIN:VTIMEZONE
TZID:Europe/Paris
BEGIN:DAYLIGHT
TZOFFSETFROM:+0100
TZOFFSETTO:+0200
TZNAME:CEST
DTSTART:20160327T010000
END:DAYLIGHT
BEGIN:STANDARD
TZOFFSETFROM:+0200
TZOFFSETTO:+0100
TZNAME:CET
DTSTART:20161030T010000
END:STANDARD
END:VTIMEZONE
BEGIN:VEVENT
DTSTART;TZID=Europe/Paris:20160915T203000
DTEND;TZID=Europe/Paris:20160915T214500
DTSTAMP:20260420T055722
CREATED:20160915T060915Z
LAST-MODIFIED:20160915T061438Z
UID:4602-1473971400-1473975900@leoncultural.com
SUMMARY:Viktor Gómez presenta su poemario Melodía en el Gran Café
DESCRIPTION:Viktor Gómez presenta su poemario Melodía este jueves 15 de septiembre\, en El Gran Café y a las 20.30 horas. \nLa nueva obra del escritor está editada por Eolas Ediciones\, dentro de la colección Tercer Gesto\, bajo la dirección de Rafael Saravia y estará acompañado por Eloísa Otero y Víctor M. Díez. \nViktor Gómez\, nace  en Madrid en 1967 y reside en Valencia desde 1970. Empleado de banca accede a la poesía desde la pasión paterna por los libros que en la casa familiar ocupaban un lugar importante y frecuentado. Animador cultural tanto en Café Cultural El Dorado (Isaac Alonso y Alicia Martínez) como en la Librería Primado (Miguel Morata).\nAutor de poemarios como ¿Bailas? Nueve aproximaciones al cuerpo (2015)\, Trazas del calígrafo zurdo (2013)\, Pobreza (finalista del Premio de la Crítica Comunidad de Madrid en 2015)\, la plaquette Diciembre\, ilustrada por Miguel Ángel Curiel (2011) o Huérfanos aún (2010)\, entre otros títulos. En el 2005 entra a formar parte del taller de poesía “Polimnia 222” de la U.P.V. Editor de los Cuadernos Caudales de Poesía I y co-editor de los Cuadernos Caudales de Poesía II junto a Miguel Fernández y Javier Gil (Fundación Inquietudes). Pertenece al Casal de La Pau\, colabora en AI y desde http://viktorgomez.net/ desarrolla una actividad divulgativa de pensamiento crítico y poesía. Colabora en otros blogs y webs.\nEs voluntario desde octubre del 2007 en El Casal de la Pau\, O.N.G sin ánimo de lucro\, de ámbito nacional\, dedicada a la rehabilitación y reinserción de personas con historial delictivo (ex-reclusas\, reclusas o en distintos grados de libertad) y en la que pertenece al equipo penitenciario (visitas a prisión). \nObra: Tiene una trilogía poética en marcha\, Huérfanos aún (2010\, Baile del Sol) a la que sigue un libro en continuo proceso de reescritura\, Los Barrios invisibles (Biblioteca del MLRS\, 2009) y está trabajando en el inconcluso «Perfeccione lo inútil a lo inútil».\nLe han publicado en Lunas Rojas\, The children’s Book of American Birds\, La Hamaca de Lona\, Adios\, MLRS\, en el libro PAZLESTINA\, etc.\,\nDesde 2008 está colaborando junto a Arturo Borra y Laura Giordani en una colección de entrevistas en profundidad a poetas como Antonio Méndez Rubio y Eduardo Milán que han ido apareciendo en la Revista http://www.7de7.net (Marcos Canteli) así como en Los pliegos “Manuales de instrucciones” donde aparecerán además las de Quique Falcón\, Juan Carlos Mestre\, inclusión del poema “Como colgar un poema en el blog” para un Libro de Texto de Lengua castellana y comunicación\, Proyecto Bicentenario correspondiente a 8º año de enseñanza básica\, que publicó en Chile\, en el curso 2008/2009\, la Editorial Santillana a través de su filial chilena “Santillana del Pacífico”.
URL:https://leoncultural.com/evento/viktor-gomez-presenta-poemario-melodia-gran-cafe/
LOCATION:El Gran Café\, Calle Cervantes\, 7\, León\, León\, 24003\, España
CATEGORIES:Literatura,POESIA,Ponencias
ATTACH;FMTTYPE=image/jpeg:https://leoncultural.com/wp-content/uploads/2016/09/Viktor-GOMEZ.-MELODIA.jpg
END:VEVENT
END:VCALENDAR