BEGIN:VCALENDAR
VERSION:2.0
PRODID:-//León Cultural - ECPv5.16.4.1//NONSGML v1.0//EN
CALSCALE:GREGORIAN
METHOD:PUBLISH
X-WR-CALNAME:León Cultural
X-ORIGINAL-URL:https://leoncultural.com
X-WR-CALDESC:Eventos para León Cultural
BEGIN:VTIMEZONE
TZID:Europe/Paris
BEGIN:DAYLIGHT
TZOFFSETFROM:+0100
TZOFFSETTO:+0200
TZNAME:CEST
DTSTART:20160327T010000
END:DAYLIGHT
BEGIN:STANDARD
TZOFFSETFROM:+0200
TZOFFSETTO:+0100
TZNAME:CET
DTSTART:20161030T010000
END:STANDARD
END:VTIMEZONE
BEGIN:VEVENT
DTSTART;TZID=Europe/Paris:20161210T203000
DTEND;TZID=Europe/Paris:20161210T220000
DTSTAMP:20260423T105451
CREATED:20161124T191328Z
LAST-MODIFIED:20161210T061533Z
UID:6222-1481401800-1481407200@leoncultural.com
SUMMARY:VII Festival Internacional de Música de Cámara de León.
DESCRIPTION:El VII festival internacional de música de cámara de León tiene lugar entre  el 6 y el 12 de diciembre. \nCon el propósito de ayudar a la promoción de jóvenes y brillantes talentos emergentes en la Música de Cámara se confirma año tras año cada nueva edición del Festival Internacional de Música de Cámara. \nExcelentes grupos tanto españoles como del resto de países del mundo\, nos deleitarán de nuevo con su profesionalidad y entusiasmo en la septima edición de este festival ya consagrado.\n \n \n\nSábado\, 10 de diciembre\, 20:30 h. \nTRIO ZADIG\n(Violín\, violonchelo y piano)\n \nPrograma: \nJ. Haydyn –  Trio nº 43 Hob. XV 27 in c major (15 min.)\nF. Mendelssohn –  Trio Op. 49 nº 1 in d minor (31 min.)\nPausa\nM. Ravel –  Trio in a minor (27 min.) \nLas entradas se pondrán a la venta en la web y en las taquillas del Auditrio Ciudad de León en fechas próximas. \nAnteriormente: \nMartes\, 6 de diciembre\, 20:30 h.\n\nAPOLLON MUSAGÈTE QUARTET\nPrograma:Joseph Haydyn –  Cuarteto en re mayor\, op. 64 nº 5 Hob.III.63 «La  alondra» (20 min.)Ludwig   van Beethoven –  Cuarteto nº 11 en fa menor\, op. 95 «Serioso» (21 min.)\nPausa\nEdvard Grieg –  Cuarteto de cuerda en sol menor\, op. 27 (34 min.)\n\n\nMiércoles\, 7 de diciembre\, 20:30 h.\n \nDÚO MOCKINGJAY \nMon-Puo Lee\, violoncheloHan-Wen Yu\, piano \nPrograma: \nFranz Schubert – “Arpeggione” Sonata\, D.821 (20min) \nVaughan Williams: Six Studies in English Folk Song (10 min) \nYuri Shaporin – 5 Piezas para cello y piano\, op.25  \n Pausa \n Ludwig van Beethoven – 7 Variaciones sobre: Bei Männern\, welche Liebe fühlen\, WoO 46 (10min) \nCésar Franck – Sonata en La Mayor (30 min) \nJueves\, 8 de diciembre\, 20:30 h. \nTRIO PERPETUAL PROJEK\n \n(Acordeón\, violonchelo y percusión) \nPrograma: \nJohann Sebastian Bach –  Variaciones Goldberg\, BWV 988 (Aria y algunas variaciones (9:00 min.) \nAstor Piazzolla –  Las cuatro estaciones Porteñas: Invierno (7:00 min.)\nRichard Galliano –  Tango pour Claude (4:00 min.)\nAstor Piazzolla –  Milonga del Ángel (4:30 min.)\nFernando Otero –  Globalización (2:20 min.)\nAstor Piazzolla –  Oblivion (4:00 min.)\nJulio Rulo –  La calecita con óxido (6:30 min.)\nAstor Piazzolla –  Chiquilín de Bachin (7:30 min.)\nAstor Piazzolla –  Armagedon para cello y acordeón (4:00 min.)\nVicente Greco/Marcelo Nisinmam (Arreglo de Marcelo Nisinmam) –  Ojos Negros (6:00 min.)\nAstor Piazzolla –  Adios Nonimo (7:30 min.) \nViernes\, 9 de diciembre\, 20:30 h.\n\nDÚO FRIEGHOFF – LISARRI\n \nPaloma Frieghoff (soprano) \nLeyre Lisarri (piano) \nPrograma: \nI Parte \nRoger Quilter –  Cuatro canciones Op. 14 (12 min.) \nI. Autumn Evening (A. Maquarie)\nII. April (W. Watson)\nIII. A last year´s Rose (W. E. Henley)\nIV. Song of the blackbird (W. E. Henley) \nFranz Schubert – (20 min.) \nSchäfers Klagelied (J. W. von Goethe)\nDer Mussensohn (J. W. von Goethe)\nAn die Entfernte (J. W. von Goethe)\nRastlose Liebe (J. W. von Goethe)\nNachtviolen (J. B. Mayrhofer)\nWillkommen und Abschied (J. W. von Goethe) \nII Parte \nFRANCIS POULENC\, L. DE VILMORIN – Fiançailles pour rire (Compromisos para reir) (20 min.) \nI. La dame d´André\nII. Dans l´herbe\nIII. Il vole\nIV. Mon cadavre est doux comme un gant\nV. Violon\nVI. Fleurs \nMANUEL DE FALLA – Siete Canciones Populares Españolas (14 min.) \n1. El paño moruno\n2. Seguidilla murciana\n3. Asturiana\n4. Jota\n5. Nana\n6. Canción\n7. Polo \n\n  \n\n 
URL:https://leoncultural.com/evento/vii-festival-internacional-musica-camara-leon/
LOCATION:Auditorio Ciudad de León\, Av. de los Reyes Leoneses\, 4\, 24008 León\, León\, León\, 24008\, España
CATEGORIES:Conciertos,Música
ATTACH;FMTTYPE=image/jpeg:https://leoncultural.com/wp-content/uploads/2016/11/VII-festival-musica-de-camara-LEON.jpg
END:VEVENT
END:VCALENDAR