BEGIN:VCALENDAR
VERSION:2.0
PRODID:-//León Cultural - ECPv5.16.4.1//NONSGML v1.0//EN
CALSCALE:GREGORIAN
METHOD:PUBLISH
X-WR-CALNAME:León Cultural
X-ORIGINAL-URL:https://leoncultural.com
X-WR-CALDESC:Eventos para León Cultural
BEGIN:VTIMEZONE
TZID:Europe/Paris
BEGIN:DAYLIGHT
TZOFFSETFROM:+0100
TZOFFSETTO:+0200
TZNAME:CEST
DTSTART:20220327T010000
END:DAYLIGHT
BEGIN:STANDARD
TZOFFSETFROM:+0200
TZOFFSETTO:+0100
TZNAME:CET
DTSTART:20221030T010000
END:STANDARD
END:VTIMEZONE
BEGIN:VEVENT
DTSTART;TZID=Europe/Paris:20221030T223000
DTEND;TZID=Europe/Paris:20221030T230000
DTSTAMP:20260424T212919
CREATED:20221019T075646Z
LAST-MODIFIED:20221030T064216Z
UID:43841-1667169000-1667170800@leoncultural.com
SUMMARY:Urogallo. VII festival de poesía expandida
DESCRIPTION:Urogallo. VII festival de poesía expandida.\nDel 21 al 30 de octubre de 2022\nViernes 21 de octubre 20:30 Horas\nBegoña Grande y Ianire Madariaga\nFisuras (Teatro)\nTeatro El Albéitar\nInvitaciones desde media hora antes en la taquilla del teatro. \nSábado 22 de octubre 19:00 horas\nOlaia Pazos\nParecía (Poesía escénica medioambiental)\nPalacio del Conde Luna \nSábado 22 de octubre 21:00 horas\nAdriana Bañares\nUrbe Capensis (Poesía)\nBar Colibrí \nSábado 22 de octubre 22:00 horas\nVíctor M. Díez\nLlueve Mareva (Poesía)\nBar Santo Martino \nViernes 28 de octubre 20:30 horas\nAnton Reixa + Antonio Segade (vj)\nMalncoholemia (Una conferencia patafísica ácida e inteligente)\nTeatro El Albeitar \nSábado 29 de octubre 11:00 horas\nDavid Trashumante\nTaller intensivo de poesía expandida (3 horas)*\nAteneo El Albéitar \nSábado 29 de octubre 20:00 horas\nAndrea Melanctha\nHelados y campanas (Poesía y performance)\nSalón de actos del Ayuntamiento de León \nSábado 29 de octubre 21:00 horas\nIsabel Martín\nCantes de fregá los platos (Poesía con cantes de bulerías)\nSalón de actos del Ayuntamiento de León \nDomingo 30 de octubre 11:00 horas\nDavid Trashumante\nTaller intensivo de poesía expandida (3 horas)*\nAteneo El Albéitar
URL:https://leoncultural.com/evento/urogallo-vii-festival-de-poesia-expandida/
LOCATION:El Albéitar\, Calle Covadonga\, Calle Luis de Sosa\, esquina\, León\, León\, 24004\, España
CATEGORIES:Miscelanea
ATTACH;FMTTYPE=image/jpeg:https://leoncultural.com/wp-content/uploads/2022/10/urogallo-VII-festival-de-poesia-expandida.jpg
END:VEVENT
END:VCALENDAR