BEGIN:VCALENDAR
VERSION:2.0
PRODID:-//León Cultural - ECPv5.16.4.1//NONSGML v1.0//EN
CALSCALE:GREGORIAN
METHOD:PUBLISH
X-WR-CALNAME:León Cultural
X-ORIGINAL-URL:https://leoncultural.com
X-WR-CALDESC:Eventos para León Cultural
BEGIN:VTIMEZONE
TZID:Europe/Paris
BEGIN:DAYLIGHT
TZOFFSETFROM:+0100
TZOFFSETTO:+0200
TZNAME:CEST
DTSTART:20180325T010000
END:DAYLIGHT
BEGIN:STANDARD
TZOFFSETFROM:+0200
TZOFFSETTO:+0100
TZNAME:CET
DTSTART:20181028T010000
END:STANDARD
END:VTIMEZONE
BEGIN:VEVENT
DTSTART;TZID=Europe/Paris:20180206T100000
DTEND;TZID=Europe/Paris:20180206T170000
DTSTAMP:20260425T043547
CREATED:20180205T211836Z
LAST-MODIFIED:20180205T211836Z
UID:16464-1517911200-1517936400@leoncultural.com
SUMMARY:Unitour León. Salón de orientación universitaria. Auditorio municipal ciudad de León
DESCRIPTION:Unitour León. Salón de orientación universitaria. Auditorio municipal ciudad de León\n6 de febrero de 2018\nDe 10:00 a 14:00 y de 15:30 a 17:00 horas \nUNITOUR es un lugar de encuentro para ayudar a los alumnos a diseñar su futuro profesional a partir de la correcta elección sobre tres cuestiones fundamentales\, ¿Quién quiero ser?\, ¿Qué quiero hacer?\, ¿Qué quiero estudiar? \nDesde 2006 UNITOUR se ha convertido en el «Salón de Orientación Universitaria» de referencia en asesoramiento a la hora de elegir estudios Universitarios. Desde estonces más de 250.000 estudiantes y 14.000 padres han recibido nuestra ayuda. \n«Más de 700 centros educativos confían cada año en UNITOUR» \nSe podrán informar de todos los grados que ofertan las universidades públicas y privadas\, asistentes. Les explicarán todo lo que les interese de cada Grado o Universidad.  Les darán información de Pruebas de  Acceso\, becas\, Planes de estudios\, Acuerdos Internacionales\, Bolsa de prácticas… \n«En UNITOUR lo más importante es la decisión del alumno\, intentamos ayudarle» \nLas distintas Universidades e Instituciones estarán en una sala con una mesa informativa. Los alumnos\, padres u orientadores pondrán tener una atención personalizada\, para así poder resolver todas las dudas que se tengan sobre la oferta universitaria. \n  \n 
URL:https://leoncultural.com/evento/unitour-leon-salon-de-orientacion-universitaria-auditorio-municipal-ciudad-de-leon/
LOCATION:Auditorio Ciudad de León\, Av. de los Reyes Leoneses\, 4\, 24008 León\, León\, León\, 24008\, España
CATEGORIES:Miscelanea,Ponencias
ATTACH;FMTTYPE=image/jpeg:https://leoncultural.com/wp-content/uploads/2018/02/Unitour-LEON.jpg
END:VEVENT
END:VCALENDAR