BEGIN:VCALENDAR
VERSION:2.0
PRODID:-//León Cultural - ECPv5.16.4.1//NONSGML v1.0//EN
CALSCALE:GREGORIAN
METHOD:PUBLISH
X-WR-CALNAME:León Cultural
X-ORIGINAL-URL:https://leoncultural.com
X-WR-CALDESC:Eventos para León Cultural
BEGIN:VTIMEZONE
TZID:Europe/Paris
BEGIN:DAYLIGHT
TZOFFSETFROM:+0100
TZOFFSETTO:+0200
TZNAME:CEST
DTSTART:20180325T010000
END:DAYLIGHT
BEGIN:STANDARD
TZOFFSETFROM:+0200
TZOFFSETTO:+0100
TZNAME:CET
DTSTART:20181028T010000
END:STANDARD
END:VTIMEZONE
BEGIN:VEVENT
DTSTART;TZID=Europe/Paris:20181202T213000
DTEND;TZID=Europe/Paris:20181202T230000
DTSTAMP:20260423T110124
CREATED:20181201T213247Z
LAST-MODIFIED:20181201T213247Z
UID:24073-1543786200-1543791600@leoncultural.com
SUMMARY:Ún de Gran en concierto. Taberna Bar El Cuervo
DESCRIPTION:Ún de Gran en concierto. Taberna Bar El Cuervo\nDomingo 2 de diciembre de 2018 a las 21:30 horas \nÚn de Grao es el proyecto personal de José Martínez Álvarez\, guitarrista y cantante moscón (de Grado) afincado en Mareo (Gijón)\, y que lleva varios años dedicado a la música tradicional asturiana\, participando en algunos grupos como «Cuchu»\, «Corzobeyos»\, «Duerna»\, «La Bandina’l Bache» que acompaña a «Héctor Braga»\, «Degañan’s»\, o “Dobra”\, formación del maestro gaitero Xuacu Amieva.\nEste nuevo camino pretende dar una visión personal de las diferentes formas de evolución que pudiera tener la tonada y por extensión\, cualquier palo dentro de la música tradicional asturiana.\nManteniendo el respeto por las estructuras y patrones tradicionales\, este moscón intenta echar una mano en el trabajo de fusionar la tonada y la música tradicional asturiana a otras corrientes\, otros estilos\, otras visiones\, abrirse a otras influencias y así dejar que nuestro patrimonio cultural vaya evolucionando y adaptándose a los tiempos de hoy.
URL:https://leoncultural.com/evento/un-de-gran-en-concierto-taberna-bar-el-cuervo/
LOCATION:Taberna Bar Cuervo\, Calle Sal\, 6\,  León\,  León\,  24003\, España
CATEGORIES:Conciertos,Música
ATTACH;FMTTYPE=image/jpeg:https://leoncultural.com/wp-content/uploads/2018/12/un-de-grao.jpg
END:VEVENT
END:VCALENDAR