BEGIN:VCALENDAR
VERSION:2.0
PRODID:-//León Cultural - ECPv5.16.4.1//NONSGML v1.0//EN
CALSCALE:GREGORIAN
METHOD:PUBLISH
X-WR-CALNAME:León Cultural
X-ORIGINAL-URL:https://leoncultural.com
X-WR-CALDESC:Eventos para León Cultural
BEGIN:VTIMEZONE
TZID:Europe/Paris
BEGIN:DAYLIGHT
TZOFFSETFROM:+0100
TZOFFSETTO:+0200
TZNAME:CEST
DTSTART:20200329T010000
END:DAYLIGHT
BEGIN:STANDARD
TZOFFSETFROM:+0200
TZOFFSETTO:+0100
TZNAME:CET
DTSTART:20201025T010000
END:STANDARD
END:VTIMEZONE
BEGIN:VEVENT
DTSTART;TZID=Europe/Paris:20201124T200000
DTEND;TZID=Europe/Paris:20201124T213000
DTSTAMP:20260424T104410
CREATED:20201123T084136Z
LAST-MODIFIED:20201123T084136Z
UID:33473-1606248000-1606253400@leoncultural.com
SUMMARY:«Umberto» Cine clásico. Teatro San Francisco.
DESCRIPTION:«Umberto» Cine clásico.\nTeatro San Francisco.\nMartes 24 de noviembre a las 20:00 h\n\n \nTítulo original: Umberto D. \nAño: 1952 \nDuración: 84 min \nPaís: Italia \nDirección: Vittorio De Sica \nGuion: Cesare Zavattini\, Vittorio De Sica \nMúsica: Alessandro Cicognini \nFotografía: Aldo Graziati \nReparto: Carlo Battisti\, Maria Pia Casilio\, Lina Gennari\, Memmo Carotenuto\, Alberto Albani Barbieri \nV.O.S.E. \nSinopsis \n\nUmberto Domenico Ferrari es un jubilado que intenta sobrevivir con su miserable pensión. Sumido en la pobreza\, vive en una pensión\, cuya dueña lo maltrata porque no consigue reunir el dinero necesario para pagar el alquiler de su habitación. Los únicos amigos que tiene en este mundo son una joven criada y sobre todo su perro Flike.\n\n\nPremios\n\n1956: Nominada al Oscar: Mejor guión.\n1955: Círculo de Críticos de Nueva York: Mejor película extranjera.\n1952: Cannes: Nominada al Gran Premio del Festival.\n\n\n\n\nRESEÑA DE LA PELÍCULA  – RAPAZ \n\n\n“NO ES PAÍS PARA VIEJOS” \nPelícula dirigida en 1952 por Vittorio de Sica basada en un guión de Cesare Zavattini y del propio de Sica. La película es el tercer título de la llamada trilogía neorrealista de Vittorio de Sica\, junto a “Ladrón de bicicletas” y “Milagro en Milán”\, ambas proyectadas anteriormente en este teatro. \nDe Sica se inspira en la figura de su padre y sus vivencias en la dura posguerra en Italia y le dedica el film. \nEstamos ante una obra neorrealista tardía y el público de la época harto de tanta tragedia\, la rechazó buscando comedias que les hicieran olvidar la dura realidad o una nueva visión del mundo que empezaba a mostrar con su cine el maestro Federico Fellini. \nTécnicamente el cine de Vittorio de Sica nunca fue innovador\, si bien se sustentaba siempre en unos sólidos guiones. En este caso\, el film lo conduce con secuencias de interior\, con cámara fija y pocos travelings\, salvo en las secuencias finales\, creando una atmósfera triste y sombría\, remarcada magistralmente por la música de Alessandro Cicognini y la fotografía de G.R. Aldo. \nEl director crea una obra llena de sensibilidad y poesía con una carga profunda de tristeza que recae totalmente sobre Carlo Battisti\, un profesor de filosofía que interpreta el papel protagonista (con permiso del perro Flike)\, un actor que no volvió a ejercer nunca como tal. \nEl mismo Charles Chaplin se emocionó tanto con la película que llegó a reconocer no haber sido capaz de rodar la “ejemplar trasparencia humana que nos ofrece Umberto D”. \nDisfrutemos en nuestra cita semanal de cine de una obra maestra absoluta\, donde de Sica pone a nuestra disposición un retrato perfecto de un ser humano envejecido\, solitario y maltratado por la posguerra\, regalándonos uno de los finales más hermosos de la historia del cine. No se la pierdan. \nRAPAZ
URL:https://leoncultural.com/evento/umberto-cine-clasico-teatro-san-francisco/
LOCATION:Teatro San Francisco\, Calle Corredera\, 1  \,  León\, León\, 24003\, España
CATEGORIES:Cine
ATTACH;FMTTYPE=image/jpeg:https://leoncultural.com/wp-content/uploads/2020/11/Umberto-teatro-san-francisco.jpg
END:VEVENT
END:VCALENDAR