BEGIN:VCALENDAR
VERSION:2.0
PRODID:-//León Cultural - ECPv5.16.4.1//NONSGML v1.0//EN
CALSCALE:GREGORIAN
METHOD:PUBLISH
X-WR-CALNAME:León Cultural
X-ORIGINAL-URL:https://leoncultural.com
X-WR-CALDESC:Eventos para León Cultural
BEGIN:VTIMEZONE
TZID:Europe/Paris
BEGIN:DAYLIGHT
TZOFFSETFROM:+0100
TZOFFSETTO:+0200
TZNAME:CEST
DTSTART:20250330T010000
END:DAYLIGHT
BEGIN:STANDARD
TZOFFSETFROM:+0200
TZOFFSETTO:+0100
TZNAME:CET
DTSTART:20251026T010000
END:STANDARD
END:VTIMEZONE
BEGIN:VEVENT
DTSTART;TZID=Europe/Paris:20250111T203000
DTEND;TZID=Europe/Paris:20250111T220000
DTSTAMP:20260422T123819
CREATED:20250109T174231Z
LAST-MODIFIED:20250109T174231Z
UID:54879-1736627400-1736632800@leoncultural.com
SUMMARY:TODOART13\, presenta: "DEUS EX MACHINA". Teatro El Albéitar
DESCRIPTION:TODOART13\, presenta: «DEUS EX MACHINA».\nTeatro El Albéitar\n11 de enero de 2025\, 20:30 h\nENTRADAS (8€) EN LA TAQUILLA DEL TEATRO 15 MIN. ANTES DEL COMIENZO. \n50% DESCUENTO COMUNIDAD UNIVERSITARIA\, PRESENTANDO CARNET UNIVERSITARIO + DNI \nTODOART13\, presenta: «DEUS EX MACHINA» \nDeus Ex Machina es una creación original de Teatro Físico y Danza de Todoart13 (España) e Indie-Viduo Company (Nueva York). Dirigido y cocreado por Bárbara Végmed\, Jose Luis Donaldson y Efrén Olson-Sánchez. Deus ex Machina explora\, desde el útero\, el deterioro del cuerpo humano a través de las diferentes etapas de la vida fusionando para ello diferentes técnicas teatrales y de danza\, a saber: Danza Contemporánea\, Viewpoints\, Biomechanic\, Contact\, Morphing… \nTernura\, diversión\, anhelo\, miedo son algunos de los sentimientos que se despiertan en el espectador\, le llevan a la reflexión\, y cargados de matices\, son utilizados para conseguir que éste se sienta en un viaje a través del tiempo y por momentos\, será testigo de su propia realidad. \nFICHA ARTÍSTICA \nDirección Jose Luis Donaldson\, Bárbara Végmed y Efrén Olson-Sánchez (España y Nueva York) \nCocreada por Bárbara Végmed\, Jose Luis Donaldson y Efrén Olson- Sánchez (España y Nueva York) \nIdea original Efrén Olson-Sánchez (Nueva York) \nProducción Todoart13 \nIntérpretes: Bárbara Végmed y Borja Fernández. \nCoreografías Jose Luis Donaldson (España) \nPuesta en escena Teatro Físico Efrén Olson-Sánchez (Nueva York) \nDiseño escenografía Jose Luis Donaldson \nCreación Escenográfica Todoart13 \nVestuario Todoart13 y Indie-Viduo Company (España y Nueva York) \nDiseño de iluminación Todoart13 y Indie-Viduo Company (España y Nueva York) \nDiseño de audio Alan Ferreyro (México) \nDiseño gráfico Jose Luis Donaldson \nPoema Carlos Vallejo (Quito) \nVoces. Teo Nieto Vicente (España)\, Alan Ferreyro (México)\, Isabel Díaz Caballero (España) y Carlos Vallejo (Quito)
URL:https://leoncultural.com/evento/todoart13-presenta-deus-ex-machina-teatro-el-albeitar/
LOCATION:Teatro el Albéitar\, Avda. de la Facultad\, 25\, León\, León\, 24004\, España
CATEGORIES:Teatro
ATTACH;FMTTYPE=image/jpeg:https://leoncultural.com/wp-content/uploads/2025/01/TODOART13-presenta-DEUS-EX-MACHINA.-Teatro-El-Albeitar.jpg
END:VEVENT
END:VCALENDAR