BEGIN:VCALENDAR
VERSION:2.0
PRODID:-//León Cultural - ECPv5.16.4.1//NONSGML v1.0//EN
CALSCALE:GREGORIAN
METHOD:PUBLISH
X-WR-CALNAME:León Cultural
X-ORIGINAL-URL:https://leoncultural.com
X-WR-CALDESC:Eventos para León Cultural
BEGIN:VTIMEZONE
TZID:Europe/Paris
BEGIN:DAYLIGHT
TZOFFSETFROM:+0100
TZOFFSETTO:+0200
TZNAME:CEST
DTSTART:20180325T010000
END:DAYLIGHT
BEGIN:STANDARD
TZOFFSETFROM:+0200
TZOFFSETTO:+0100
TZNAME:CET
DTSTART:20181028T010000
END:STANDARD
END:VTIMEZONE
BEGIN:VEVENT
DTSTART;TZID=Europe/Paris:20180311T210000
DTEND;TZID=Europe/Paris:20180311T223000
DTSTAMP:20260424T174241
CREATED:20180307T090406Z
LAST-MODIFIED:20180307T090406Z
UID:17263-1520802000-1520807400@leoncultural.com
SUMMARY:'The Rezillos' Concierto en el Gran Café León
DESCRIPTION:‘The Rezillos’ Concierto en el Gran Café León\nDomingo 11 de marzo de 2018 a las 21:00 horas\nAnticipadas 12´50 ( Elektra / Gran Café ) – Taquilla 15\n \nFormados en 1976 en la ciudad de Edimburgo\, estos escoceses se describieron como “New Wave Beat”\, con canciones inspiradas por el rock and roll de los años 50\, la música beat y garage inglesa de los 60 y el glam rock de los 70 además de las películas de serie B. En 1977 consiguieron un gran éxito con el single “I can’t stand my baby”\, lo que volvieron a repetir con “Top of the Pops”\, aunque los cambios de formación se sucediesen hasta la edición del LP “Can’t stand The Rezillos” (1978\, Sire). El álbum alcanzó el puesto 16 en las listas de ventas británicas\, pero por culpa de disensiones internas\, el grupo terminó separándose\, no sin antes publicar el directo “Mission Accomplished… But The Beats Goes on” (1979)\, un disco grabado en la sala Glasgow Apollo. \nLos distintos miembros de Rezillos prosiguieron con nuevas aventuras musicales\, entre ellas Eugene y Fay continuaron su trayectoria con The Revillos\, mientras que los restantes componentes formaron el grupo Shake. A mediados de los años 90 Fay\, Eugene y Jo comenzaron a escribir algo de material nuevo conjuntamente\, y el auge de internet ayudó a conmquistar a una nueva generación de fans. Tras hitos como reunir 15.000 personas en su concierto de Nochevieja de 2002 en Glasgow o aparecer en la banda sonora de “Jackass”\, en marzo de 2015 editaron su esperado álbum “Zero”\, completamente con piezas originales y en la linea de su primer álbum. Esto les llevo a girar en el Reino Unido con The Stranglers y una gira por los Estados Unidos. \n 
URL:https://leoncultural.com/evento/the-rezillos-concierto-en-el-gran-cafe-leon/
LOCATION:El Gran Café\, Calle Cervantes\, 7\, León\, León\, 24003\, España
CATEGORIES:Conciertos,Música
ATTACH;FMTTYPE=image/jpeg:https://leoncultural.com/wp-content/uploads/2018/03/The-rezillos-en-gran-cafe-leon.jpg
END:VEVENT
END:VCALENDAR