BEGIN:VCALENDAR
VERSION:2.0
PRODID:-//León Cultural - ECPv5.16.4.1//NONSGML v1.0//EN
CALSCALE:GREGORIAN
METHOD:PUBLISH
X-WR-CALNAME:León Cultural
X-ORIGINAL-URL:https://leoncultural.com
X-WR-CALDESC:Eventos para León Cultural
BEGIN:VTIMEZONE
TZID:Europe/Paris
BEGIN:DAYLIGHT
TZOFFSETFROM:+0100
TZOFFSETTO:+0200
TZNAME:CEST
DTSTART:20170326T010000
END:DAYLIGHT
BEGIN:STANDARD
TZOFFSETFROM:+0200
TZOFFSETTO:+0100
TZNAME:CET
DTSTART:20171029T010000
END:STANDARD
END:VTIMEZONE
BEGIN:VEVENT
DTSTART;TZID=Europe/Paris:20170217T223000
DTEND;TZID=Europe/Paris:20170217T235500
DTSTAMP:20260424T131956
CREATED:20170124T164106Z
LAST-MODIFIED:20170124T164106Z
UID:7673-1487370600-1487375700@leoncultural.com
SUMMARY:The Grooves\, gira R3SET en el Gran Café
DESCRIPTION:The Grooves llega al Gran Café el 17 de febrero a las 22:30 horas.\nTras un año de composición y grabación a conciencia\, las madrileñas The Grooves\, hacen una arriesgada apuesta: dan un giro de 180º a su estilo original y apuestan por lo mejor de la música de disco y el rock. Un órdago a explotar lo que mejor les funciona\, el baile. Con un toque de electrónica. Sí\, una formación que incluye saxofón y trombón. Un cambio de mentalidad y concepto sin miedo al riesgo. Por eso ‘resetean’\, para desaprender lo aprendido\, dar la vuelta a las cosas para verlas con otra perspectiva\, encontrar su estilo definitivo y volver a empezar. \nEl nuevo trabajo de The Grooves\, que llevará por título R3SET ha sido producido por David Kano (Cycle) en Hit Boutique y cuenta con colaboraciones de lujo: Desde Vinila Von Bismark aportando su peculiar granito de arena\, tan rompedora como siempre\, Luke Donovan (Cycle) recitando\, hasta un cameo a la voz del propio David Kano. La portada es una ilustración de Óscar Giménez (autor del libro ‘Sold Out\, entradas agotadas’)\, otro lujo merecido que se ha dado R3SET. Como guinda\, la masterización corre a cargo de Mike Marsh de los estudios Exchange Mastering en Londres (The Chemical Brothers\, Depeche Mode\, Disclosure\, entre muchos otros).
URL:https://leoncultural.com/evento/the-grooves-gira-r3set-gran-cafe/
LOCATION:El Gran Café\, Calle Cervantes\, 7\, León\, León\, 24003\, España
CATEGORIES:Conciertos,Música
ATTACH;FMTTYPE=image/jpeg:https://leoncultural.com/wp-content/uploads/2017/01/The-Grooves-El-Gran-Cafe.jpg
END:VEVENT
END:VCALENDAR