BEGIN:VCALENDAR
VERSION:2.0
PRODID:-//León Cultural - ECPv5.16.4.1//NONSGML v1.0//EN
CALSCALE:GREGORIAN
METHOD:PUBLISH
X-WR-CALNAME:León Cultural
X-ORIGINAL-URL:https://leoncultural.com
X-WR-CALDESC:Eventos para León Cultural
BEGIN:VTIMEZONE
TZID:Europe/Paris
BEGIN:DAYLIGHT
TZOFFSETFROM:+0100
TZOFFSETTO:+0200
TZNAME:CEST
DTSTART:20160327T010000
END:DAYLIGHT
BEGIN:STANDARD
TZOFFSETFROM:+0200
TZOFFSETTO:+0100
TZNAME:CET
DTSTART:20161030T010000
END:STANDARD
END:VTIMEZONE
BEGIN:VEVENT
DTSTART;TZID=Europe/Paris:20160507T210000
DTEND;TZID=Europe/Paris:20160507T223000
DTSTAMP:20260422T134929
CREATED:20160506T221655Z
LAST-MODIFIED:20160506T221655Z
UID:2652-1462654800-1462660200@leoncultural.com
SUMMARY:THE CROSS BORDER PROJECT ¿Qué hacemos con la abuela?
DESCRIPTION:Entradas (8 €): a partir de media hora antes de la función en la taquilla del Teatro 50% de descuento: miembros de la Comunidad Universitaria previa presentación del Carnet Universitario y DN \nTEATRO FORO\n¿Qué hacemoscon la abuela? Es una historia que aborda cómo afecta el Alzheimer a la vida cotidiana de una familia media española\,  centrándose en la problemática del cuidador del anciano.\nEl uso de la técnica de Teatro  Foro  permite crear  un  debate con el público: ¿cuál es nuestra relación con los cuidadores\, inmigrantes en su mayoría?\, ¿cómo afecta         psicológica y físicamente el cuidado de un anciano al familiar responsable?\, ¿cómo se deberían repartir las tareas de cuidados entre los familiares?\, ¿pueden todas las familias llevar a  sus abuelos a una residencia?\, ¿existe desigualdad de género a la hora de cuidar a nuestros ancianos? \nLA COMPAÑÍA\nThe Cross  Border  Project  nació  en  Nueva  York   como  un  proyecto  personal  de  Lucía Miranda  para  crear  un  teatro  global   y  multicultural\,  para  contar  al   público  las  historias  de  otra  manera. \nDesde  2012  el  Cross  se  establece  en                España\,   contando  con  un  grupo  de  artistas  estable                 que   trabajan  en  el  ámbito  del  teatro\,  la  educación   y  la  transformación  social.\nEl  Cross  Border  es   una  iniciativa  de  innovación  cultural  y  social\,   compuesta  por  una compañía  de  teatro\,  una   escuela  de  Teatro  Aplicado\,  y  una  Cocina\,  el  espacio   donde investigar  y  desarrollar  proyectos  con  otros   grupos  y  disciplinas.\nSu  misión  es  mostrar  las realidades  de  la   sociedad  actual  a  través  de  otro  tipo  de teatro  e   inspirar  cambios  sociales  en  personas  y   organizaciones. \nSINOPSIS\nPieza de Teatro Foro sobre el Alzheimer\nLa señora Carmen tiene ochenta y cuatro años y dos hijos. La señora Carmen vive con Floren\, una rumana que le cambia los pañales y la ducha; porque la señora Carmen tiene Alzheimer. Y aunque Carmencita\, su hija\, le cante las canciones de su niñez y le cuente las historias que vivió\, la señora Carmen no se acuerda de nada.\nLos problemas estallan cuando Carmencita\, cansada de ser la encargada de todo y al borde de enfermar\,  propone a su hermano llevar a su madre a una residencia…\n¿Qué hacemos con la abuela? es una pieza divertida y conmovedora\, que nos lleva a reflexionar entre todos sobre la otra cara del Alzheimer: la que afecta a las personas que están alrededor del enfermo. Permitiendo crear el Teatro Foro un debate con el público que participa como espect-actor en cada función. \nFICHA ARTÍSTICA:\nAUTORA: Lucía Miranda\nDIRECCIÓN: Lucía Miranda\nINTÉRPRETES: Lucía Miranda\, Angel Perabá\, Laura Santos y Belén de Santiago.
URL:https://leoncultural.com/evento/the-cross-border-project-hacemos-la-abuela/
LOCATION:Teatro El Albéitar\, Av de la Facultad de Veterinaria\, 25\, León\, León\, 24004\, España
CATEGORIES:Teatro
ATTACH;FMTTYPE=image/jpeg:https://leoncultural.com/wp-content/uploads/2016/05/the-cross-border-project.jpg
END:VEVENT
END:VCALENDAR