BEGIN:VCALENDAR
VERSION:2.0
PRODID:-//León Cultural - ECPv5.16.4.1//NONSGML v1.0//EN
CALSCALE:GREGORIAN
METHOD:PUBLISH
X-WR-CALNAME:León Cultural
X-ORIGINAL-URL:https://leoncultural.com
X-WR-CALDESC:Eventos para León Cultural
BEGIN:VTIMEZONE
TZID:Europe/Paris
BEGIN:DAYLIGHT
TZOFFSETFROM:+0100
TZOFFSETTO:+0200
TZNAME:CEST
DTSTART:20180325T010000
END:DAYLIGHT
BEGIN:STANDARD
TZOFFSETFROM:+0200
TZOFFSETTO:+0100
TZNAME:CET
DTSTART:20181028T010000
END:STANDARD
END:VTIMEZONE
BEGIN:VEVENT
DTSTART;TZID=Europe/Paris:20180224T220000
DTEND;TZID=Europe/Paris:20180224T235500
DTSTAMP:20260424T144133
CREATED:20180220T214723Z
LAST-MODIFIED:20180220T214723Z
UID:16876-1519509600-1519516500@leoncultural.com
SUMMARY:'The Crépitos' celebran su 25 aniversario con un concierto en el Gran Café
DESCRIPTION:‘The Crépitos’ celebran su 25 aniversario con un concierto en el Gran Café\nSábado 24 de febrero a las 22:00 horas \nVuelven THE CREPITOS para dos unicos conciertos en Madrid y León celebrando su 25 aniversario\n+ grupo invitado THEE BUTCHERS \n\n22:00 – Anticipada 10 Euros ( Elektra – Gran Café ) / Taquilla 12\n\nThe Crepitos se formaron en León a comienzos de la pasada década y durante sus poco más de dos años de actividad grabaron un par de álbumes y un buen montón de singles\, incluyendo su participación en varios recopilatorios. Entre el pop de garaje\, el power-pop más vitalista y el rock americano clásico\, The Crepitos escribieron un repertorio lleno de grandes canciones\, tan eficaces en sus momentos más vibrantes como en los más pausados e intensos.\n\nComenzaron su carrera en Febrero de 1993 teloneando a Dr Explosión en La Fundación \, pronto sacarian su primera referencia para el sello bilbaino Shangri La y empezarian a recorrer las más prestigiosas del pais en una de las\ncarreras más productivas de las bandas que han surgido en la ciudad de León . En apenas 4 años sacaron un LP \, un mini LP \, 4 singles y EPs y editaron un gran numero de canciones en discos recopilatorios . Tras casi 200 conciertos por toda la peninsula se separaron en 1996 . El sello Rock Indiana edito un recopilatorio en el 2006 que es un buen resumen de toda su discografía\n\nRock & Roll en estado puro \, con influencias de garage \, punk \, power pop \, glam \, country \, psicodelia \, pub rock \, nuevo rock americano …. derrochando clase y buenas canciones\n\n» Sus incansables directos \, capaces de tumbarte de gusto \, y sus buenisimas canciones ….Nadie como ellos ha podido presumir de enfrentarse al espiritu del rock & roll y salir airoso del envite con tanta suficiencia . Mas que una banda de garage o de power pop son el hijo que los Flamin Groovies nunca pensaron que pudieran llegar a tener » Eduardo Ranedo / Ruta 66 1994\n\nPara celebrar su 25 aniversario se acaba de editar un CD con un concierto en directo en la Plaza de San Marcelo de León en 1994
URL:https://leoncultural.com/evento/the-crepitos-celebran-su-25-aniversario-con-un-concierto-en-el-gran-cafe/
LOCATION:El Gran Café\, Calle Cervantes\, 7\, León\, León\, 24003\, España
CATEGORIES:Conciertos,Música
ATTACH;FMTTYPE=image/jpeg:https://leoncultural.com/wp-content/uploads/2018/02/The_Crepitos_gran_cafe_LEON-.jpg
END:VEVENT
END:VCALENDAR