BEGIN:VCALENDAR
VERSION:2.0
PRODID:-//León Cultural - ECPv5.16.4.1//NONSGML v1.0//EN
CALSCALE:GREGORIAN
METHOD:PUBLISH
X-WR-CALNAME:León Cultural
X-ORIGINAL-URL:https://leoncultural.com
X-WR-CALDESC:Eventos para León Cultural
BEGIN:VTIMEZONE
TZID:Europe/Paris
BEGIN:DAYLIGHT
TZOFFSETFROM:+0100
TZOFFSETTO:+0200
TZNAME:CEST
DTSTART:20180325T010000
END:DAYLIGHT
BEGIN:STANDARD
TZOFFSETFROM:+0200
TZOFFSETTO:+0100
TZNAME:CET
DTSTART:20181028T010000
END:STANDARD
END:VTIMEZONE
BEGIN:VEVENT
DTSTART;TZID=Europe/Paris:20181229T200000
DTEND;TZID=Europe/Paris:20181229T213000
DTSTAMP:20260424T120730
CREATED:20181218T055523Z
LAST-MODIFIED:20181228T082342Z
UID:24549-1546113600-1546119000@leoncultural.com
SUMMARY:Sonidos de invierno. Música en Navidad. Fundación Cerezales Antonino y Cinia
DESCRIPTION:Sonidos de invierno. Música en Navidad. Fundación Cerezales Antonino y Cinia \nVuelven los Sonidos de Invierno de la Fundación Cerezales Antonino y Cina \nEnsemble Trifolium (violín\, violín\, viola y violonchelo)\n29 Diciembre 20 h.\nIglesia Parroquial de Cerezales del Condado \nAión Dúo (clarinete y piano)\n22 Diciembre 20 h\nIglesia Parroquial de Lugán \nEnsemble Allettamento (violín y violonchelo)\n23 Diciembre 20 h.\nIglesia Parroquial de Barrio de Nuestra Señora \nTres conciertos\, repartidos por las iglesias de Lugán\, Barrio de Nuestra Señora y Cerezales de Condado\, cierran el ciclo anual de propuestas culturales y educativas en la Fundación Cerezales Antonino y Cinia (FCAYC). \nEl encargado de inaugurar Sonidos de Invierno 18-19\, el día 22 de diciembre a las 20.00 h. en Lugán\, son Aión Dúo\, compuesto por Claudia Reyes (clarinete) y Pau Fernández (piano). Estos dos jóvenes músicos\, que actualmente realizan sus estudios en la academia Sibeluis de Helsinki\, llevan desde 2017 trabajando e indagando en el repertorio escrito para clarinete y piano\, acometiendo el compromiso de aportar nuevas visiones al repertorio clásico de dicha formación\, así como mostrando interés por el más actual repertorio de nuestros días. Después de haber actuado en alguno de los escenarios más importantes del panorama nacional e internacional (Auditorio Manuel de Falla de Granada\, Musiikkitalo en Helsinki\,…) llegan a la Iglesia Parroquial de Lugán para ofrecer piezas de Schumann y Brahms\, entre otros. \nContinuará el ciclo con Ensemble Allettamento el día 23 de diciembre\, a la misma hora\, en la Iglesia Parroquial de Barrio de Nuestra Señora. Una formación compuesta por violonchelo y violín\, que explorará el repertorio de Giovanni Battista Cirri\,  Carlo Tessarini y Arcangelo Corelli. Este dúo\, formado por Mario Braña (violín) y Elsa Pidre (violonchelo)\, ganadores en 2017 del Gran Premio del Jurado en el VI Concurso Internacional de Música Antigua de Gijón\, desarrollan además otros proyectos que abarcan fundamentalmente los siglos XVII y XVIII\, adaptando la formación en función del repertorio. Pretenden con esto recuperar el repertorio menos conocido de la Península Ibérica. \nEl broche lo pondrá el cuarteto de cuerda que forman de Ensemble Trifolium\, o Carlos Gallofa (violín)\, Sergio Suárez (violín)\, Juan Mesana (viola) y Javier Aquirre (violonchelo). Este cuarteto\, formado por músicos de amplia experiencia internacional\, nace con el compromiso de investigar y difundir el repertorio barroco y clásico en instrumentos de época y siguiendo criterios historicistas. Este concierto final tendrá lugar en la Iglesia Parroquial de Cerezales del Condado\, el día 29 de diciembre a las 20:00 h. \nEl programa de actividades para estas fiestas\, se completará con un taller didáctico sobre escucha activa para niños y jóvenes\, Cuentos Sonoros de Invierno. \n 
URL:https://leoncultural.com/evento/sonidos-de-invierno-musica-en-navidad-fundacion-cerezales-antonino-y-cinia/
LOCATION:Cerezales del Condado.
CATEGORIES:Conciertos,Música
ATTACH;FMTTYPE=image/jpeg:https://leoncultural.com/wp-content/uploads/2018/12/sonidos-de-invierno-2018.jpg
END:VEVENT
END:VCALENDAR