BEGIN:VCALENDAR
VERSION:2.0
PRODID:-//León Cultural - ECPv5.16.4.1//NONSGML v1.0//EN
CALSCALE:GREGORIAN
METHOD:PUBLISH
X-WR-CALNAME:León Cultural
X-ORIGINAL-URL:https://leoncultural.com
X-WR-CALDESC:Eventos para León Cultural
BEGIN:VTIMEZONE
TZID:Europe/Paris
BEGIN:DAYLIGHT
TZOFFSETFROM:+0100
TZOFFSETTO:+0200
TZNAME:CEST
DTSTART:20250330T010000
END:DAYLIGHT
BEGIN:STANDARD
TZOFFSETFROM:+0200
TZOFFSETTO:+0100
TZNAME:CET
DTSTART:20251026T010000
END:STANDARD
END:VTIMEZONE
BEGIN:VEVENT
DTSTART;TZID=Europe/Paris:20250611T193000
DTEND;TZID=Europe/Paris:20250611T193000
DTSTAMP:20260422T111536
CREATED:20250528T100432Z
LAST-MODIFIED:20250528T102000Z
UID:56675-1749670200-1749670200@leoncultural.com
SUMMARY:SOMA\, de Emilio Díez. Presentación en el ILC
DESCRIPTION:SOMA\, de Emilio Díez.\nPresentación en el ILC\nMiércoles 11\, junio 2025\, 19:30 h\nEmilio Díez\, con ascendencia leonesa\, guionista de series de tv como «El Internado» y «La casa de papel»\, acaba de publicar su primera novela\, «Soma»\, un thriller que transcurre parcialmente en León. \nSu experiencia en la narrativa de cine y TV se traduce aquí\, a nivel literario\, en una\nprosa absorbente y un ritmo atrapante.\nSoma refleja la maestría del autor en la escritura de guiones\, creando una historia de suspenso que mantendrá al lector al borde de cada página. \nSIPNOSIS \nUna tarde cualquiera en Madrid\, un hombre se sube a una azotea y\nse lanza al vacío. Arregui\, un periodista en crisis que necesita una\ngran noticia para no ser despedido de su periódico\, presencia\nhorrorizado la escena.\nEse mismo día\, Aisha\, una joven adjunta de ginecología en el\nHospital de La Paz de Madrid\, española e hija de libaneses\, recibe\nla mejor y la peor noticia de su vida: por la mañana descubre que\nestá embarazada\, y esa misma tarde\, un inspector de mirada triste\,\nSantos\, le cuenta que sus padres han sido asesinados por su\nhermano menor de edad\, Hamid.\nEl olfato periodístico de Arregui le lleva a sospechar que varios\nsuicidios y asesinatos que nadie había relacionado hasta ahora\,\nincluido el asesinato de los padres de Hamid\, están conectados\nentre sí de una manera misteriosa.\nTodo tiene que ver con SOMA.\nPara detener SOMA y saber qué es\, Arregui y Aisha deberán\ntrabajar juntos\, pero al hacerlo se convertirán en los siguientes\nobjetivos. \n 
URL:https://leoncultural.com/evento/soma-de-emilio-diez-presentacion-en-el-ilc/
LOCATION:Instituto leonés de cultura\, C Prta de la Reina\, 1\, León\, León\, 24003\, España
CATEGORIES:Presentaciones
ATTACH;FMTTYPE=image/webp:https://leoncultural.com/wp-content/uploads/2025/05/SOMA-de-Emilio-Diez.-Presentacion-en-el-ILC.webp
END:VEVENT
END:VCALENDAR