BEGIN:VCALENDAR
VERSION:2.0
PRODID:-//León Cultural - ECPv5.16.4.1//NONSGML v1.0//EN
CALSCALE:GREGORIAN
METHOD:PUBLISH
X-WR-CALNAME:León Cultural
X-ORIGINAL-URL:https://leoncultural.com
X-WR-CALDESC:Eventos para León Cultural
BEGIN:VTIMEZONE
TZID:Europe/Paris
BEGIN:DAYLIGHT
TZOFFSETFROM:+0100
TZOFFSETTO:+0200
TZNAME:CEST
DTSTART:20260329T010000
END:DAYLIGHT
BEGIN:STANDARD
TZOFFSETFROM:+0200
TZOFFSETTO:+0100
TZNAME:CET
DTSTART:20261025T010000
END:STANDARD
END:VTIMEZONE
BEGIN:VEVENT
DTSTART;TZID=Europe/Paris:20260425T213000
DTEND;TZID=Europe/Paris:20260425T230000
DTSTAMP:20260424T173750
CREATED:20260421T174231Z
LAST-MODIFIED:20260421T174231Z
UID:59110-1777152600-1777158000@leoncultural.com
SUMMARY:SIX TO FIX + MÖSZ. Sala Black Bourbon
DESCRIPTION:SIX TO FIX + MÖSZ.\nSala Black Bourbon\nSábado 25 de abril 2026\, 21:30 h\n✅ Apertura: 21:00h \n🎸 Inicio: 21:30h \n🎟️ Entrada única: 10€ \n🎶 Estilo: Pop-Rock Indie · Rock Alternativo \n🗺️ Origen: Valencia · Ponferrada (León) \nSIX TO FIX – INDIE ROCK DE PROYECCIÓN INTERNACIONAL \nCon una dilatada trayectoria\, los valencianos Six to Fix aterrizan en León para demostrar por qué su propuesta ha traspasado fronteras. Tras lograr hitos como firmar con Mediaset o grabar bajo la producción de Julian Emery (Nothing but Thieves) y Adam Noble (Placebo\, U2)\, la banda se alzó ganadora del prestigioso *International Songwriting Competition* en 2020 entre 180.000 aspirantes. \nAhora llegan presentando su nuevo trabajo\, y el primero íntegramente en castellano\, *La superficie* (2025)\, del que ya conocemos su pegadizo single «No me creo nada». Sus conciertos son de alta tensión: combinan momentos íntimos con temazos enérgicos llenos de influencias funk y electrónicas. ¡Un directo espectacular y magnético diseñado para hacer disfrutar a todo tipo de público! ⚡🎵 \nMÖSZ – ENERGÍA Y EMOCIÓN DESDE EL BIERZO \nDesde Ponferrada y formados en 2019\, Mösz se ha consolidado como una de las formaciones emergentes más representativas de la escena berciana. El trío (integrado por Samuel Puche\, Dante Calvo y Héctor González) apuesta por un rock alternativo que combina las raíces del rock español con atmósferas mucho más actuales. \nDestacan por unas letras honestas\, cercanas y con una profunda carga emocional que exploran vivencias y conflictos internos\, conectando de forma directa con el oyente. Una propuesta que equilibra a la perfección fuerza y sensibilidad\, llevada al escenario con actuaciones muy intensas que consolidan un vínculo único con el público. 🎸🔥
URL:https://leoncultural.com/evento/six-to-fix-mosz-sala-black-bourbon/
LOCATION:Black Bourbon\, Puerta del sol 8\, León\, León\, 24003\, Spain
CATEGORIES:Conciertos,Música
ATTACH;FMTTYPE=image/webp:https://leoncultural.com/wp-content/uploads/2026/04/SIX-TO-FIX-MOSZ.-0ASala-Black-Bourbon.webp
END:VEVENT
END:VCALENDAR