BEGIN:VCALENDAR
VERSION:2.0
PRODID:-//León Cultural - ECPv5.16.4.1//NONSGML v1.0//EN
CALSCALE:GREGORIAN
METHOD:PUBLISH
X-WR-CALNAME:León Cultural
X-ORIGINAL-URL:https://leoncultural.com
X-WR-CALDESC:Eventos para León Cultural
BEGIN:VTIMEZONE
TZID:Europe/Paris
BEGIN:DAYLIGHT
TZOFFSETFROM:+0100
TZOFFSETTO:+0200
TZNAME:CEST
DTSTART:20210328T010000
END:DAYLIGHT
BEGIN:STANDARD
TZOFFSETFROM:+0200
TZOFFSETTO:+0100
TZNAME:CET
DTSTART:20211031T010000
END:STANDARD
END:VTIMEZONE
BEGIN:VEVENT
DTSTART;TZID=Europe/Paris:20211127T200000
DTEND;TZID=Europe/Paris:20211127T213000
DTSTAMP:20260423T105456
CREATED:20211117T054726Z
LAST-MODIFIED:20211117T054747Z
UID:38840-1638043200-1638048600@leoncultural.com
SUMMARY:Salvador Amor en concierto. El Candil
DESCRIPTION:Salvador Amor en concierto.\nEl Candil\n27 de noviembre\, 20 h\nPara finalizar el mes\, El Candil trae de nuevo a la ciudad a Salvador Amor\, el\nsábado 27 a partir de las 20:00h. El cantautor madrileño\, con ascendencia\nargentina –hijo del reconocido Rafael Amor- volverá a llenar el espacio con sus\nletras y composiciones de lucha en una velada que estará acompañada\, además\,\npor la tradición otoñal del Magosto leonés en el Candil.
URL:https://leoncultural.com/evento/salvador-amor-en-concierto-el-candil/
LOCATION:C.O.P El Candil
CATEGORIES:Conciertos,Música
ATTACH;FMTTYPE=image/jpeg:https://leoncultural.com/wp-content/uploads/2021/11/Salvador-Amor-El-Candil.jpg
END:VEVENT
END:VCALENDAR