BEGIN:VCALENDAR
VERSION:2.0
PRODID:-//León Cultural - ECPv5.16.4.1//NONSGML v1.0//EN
CALSCALE:GREGORIAN
METHOD:PUBLISH
X-WR-CALNAME:León Cultural
X-ORIGINAL-URL:https://leoncultural.com
X-WR-CALDESC:Eventos para León Cultural
BEGIN:VTIMEZONE
TZID:Europe/Paris
BEGIN:DAYLIGHT
TZOFFSETFROM:+0100
TZOFFSETTO:+0200
TZNAME:CEST
DTSTART:20160327T010000
END:DAYLIGHT
BEGIN:STANDARD
TZOFFSETFROM:+0200
TZOFFSETTO:+0100
TZNAME:CET
DTSTART:20161030T010000
END:STANDARD
END:VTIMEZONE
BEGIN:VEVENT
DTSTART;TZID=Europe/Paris:20161115T201500
DTEND;TZID=Europe/Paris:20161115T211500
DTSTAMP:20260422T123809
CREATED:20161115T064533Z
LAST-MODIFIED:20161115T064533Z
UID:6011-1479240900-1479244500@leoncultural.com
SUMMARY:Sabores judíos en la cocina del Reino de León
DESCRIPTION:El cocinero Toni Piña\, gran maestro de la cocina mallorquina\, ofrece hoy a las 20:15 horas en la Fundación Sierra Pambley\, una conferencia dentro de Las IV Jornadas ‘León Sefardí’\, organizadas por la asociación Sofcaple.\nLa ponencia será sobre «Sabores judíos en la cocina del Reino de León»\, con la que se cierra este cuarto ciclo. \n\n 
URL:https://leoncultural.com/evento/sabores-judios-la-cocina-del-reino-leon/
LOCATION:Fundación Sierra Pambley\, Calle Sierra Pambley\, 2\,\, León\, León\, 24003 \, España
CATEGORIES:Gastronomía,Ponencias
ATTACH;FMTTYPE=image/jpeg:https://leoncultural.com/wp-content/uploads/2016/11/TONY-PINYA.jpg
END:VEVENT
END:VCALENDAR