BEGIN:VCALENDAR
VERSION:2.0
PRODID:-//León Cultural - ECPv5.16.4.1//NONSGML v1.0//EN
CALSCALE:GREGORIAN
METHOD:PUBLISH
X-WR-CALNAME:León Cultural
X-ORIGINAL-URL:https://leoncultural.com
X-WR-CALDESC:Eventos para León Cultural
BEGIN:VTIMEZONE
TZID:Europe/Paris
BEGIN:DAYLIGHT
TZOFFSETFROM:+0100
TZOFFSETTO:+0200
TZNAME:CEST
DTSTART:20240331T010000
END:DAYLIGHT
BEGIN:STANDARD
TZOFFSETFROM:+0200
TZOFFSETTO:+0100
TZNAME:CET
DTSTART:20241027T010000
END:STANDARD
END:VTIMEZONE
BEGIN:VEVENT
DTSTART;TZID=Europe/Paris:20241018T210000
DTEND;TZID=Europe/Paris:20241018T223000
DTSTAMP:20260420T115211
CREATED:20241014T181643Z
LAST-MODIFIED:20241014T181643Z
UID:53924-1729285200-1729290600@leoncultural.com
SUMMARY:Rebeliom do inframundo. Black Bourbon
DESCRIPTION:Rebeliom do inframundo.\nBlack Bourbon\nViernes 18\, octubre 2024\, 21 h\nEntradas<——–\nTaquilla 12€ \nIndiscutiblemente\, REBELIOM DO INFRAMUNDO\, es a día de hoy el máximo exponente como grupo de rap gallego a nivel estatal; el grupo puede presumir de un directo que nunca ha dejado indiferente a ninguna audiencia\, donde las barras bien calculadas y una selección de beats donde el hiphop\, la electrónica\, el folk tradicional & el punk se pelean en una salvaje batalla. \nLos de las Rías Baixas son un equipo perfectamente empastado\, formado por Nervo\, Frank & Malvares de Moscoso al cargo del trabajo vocal\, cuenta también con DJ.Pol a los platos y el productor Mowmentss sobre los efx del directo\, formación a la que en 2023 se incorpora Alberto Busto (Arrhythmia) a la guitarra eléctrica. \nA comienzos de 2023 presentan “Amor ou Barbárie”\, una bomba musical sin parangón\, que muchos asumen\, probablemente\, como el mejor disco de rap jamás editado en Galicia. Fieles a su esencia\, pero explorando ritmos nuevos y sonidos que fluyen sobre infinitos colores\, Rebeliom do Inframundo vuelve a la carretera a finales de 2024 para despedir su trabajo en una gira de salas estatal.
URL:https://leoncultural.com/evento/rebeliom-do-inframundo-black-bourbon/
LOCATION:Black Bourbon\, Puerta del sol 8\, León\, León\, 24003\, Spain
CATEGORIES:Conciertos,Música
ATTACH;FMTTYPE=image/jpeg:https://leoncultural.com/wp-content/uploads/2024/10/2024.10.18-Rebelion-do-inframundo_reels.jpg
END:VEVENT
END:VCALENDAR