BEGIN:VCALENDAR
VERSION:2.0
PRODID:-//León Cultural - ECPv5.16.4.1//NONSGML v1.0//EN
CALSCALE:GREGORIAN
METHOD:PUBLISH
X-WR-CALNAME:León Cultural
X-ORIGINAL-URL:https://leoncultural.com
X-WR-CALDESC:Eventos para León Cultural
BEGIN:VTIMEZONE
TZID:Europe/Paris
BEGIN:DAYLIGHT
TZOFFSETFROM:+0100
TZOFFSETTO:+0200
TZNAME:CEST
DTSTART:20230326T010000
END:DAYLIGHT
BEGIN:STANDARD
TZOFFSETFROM:+0200
TZOFFSETTO:+0100
TZNAME:CET
DTSTART:20231029T010000
END:STANDARD
END:VTIMEZONE
BEGIN:VEVENT
DTSTART;TZID=Europe/Paris:20230514T080000
DTEND;TZID=Europe/Paris:20230514T170000
DTSTAMP:20260421T104547
CREATED:20230502T073756Z
LAST-MODIFIED:20230514T095725Z
UID:46629-1684051200-1684083600@leoncultural.com
SUMMARY:Programa: 45 Feria del libro de León 2023
DESCRIPTION:Programa: 45 Feria del libro de León 2023\nDel 4 al 14 de mayo de 2023\n\n\n\n\nJUEVES 4 \n19:00h Pregón inaugural a cargo de Ángeles Caso y David Fernández Sifres. Salón de Plenos del Ayto. Plza. San Marcelo. A continuación visita de las Autoridades al recinto ferial. \nVIERNES 5 \n18:30h Masticadores León realiza el recital poético Los mundos de Manuela López García\, la Sinsombrero leonesa. Salón de actos del Palacio Conde Luna. \n19:00h Gregoria Cavero Rodríguez presenta El esplendor del Císter en León (Siglos XII-XII). Salón de actos del Ayto. C/ Alfonso V. \n20:00h Jorge Molist presenta su nuevo libro El Latido del mar. Salón de actos del Ayto. C/ Alfonso V. \nSÁBADO 6 \n12:30h Nuria Viuda presenta Crónica de los días que pasan. Salón de actos del Ayto. C/ Alfonso V. \n13:00h Charla Los ensayos de Ursa Minor con Guillermo Lorenzo y Javier García Rodríguez. Salón de actos del Ayto. C/Alfonso V. \n18:00h Margarita Cueto y Nuria Sánchez firmarán ¡Mu- jeres que cuentan!. Caseta de firmas del recinto ferial. Avda. Ordoño II. \n18:00h Encuentro con José María Merino: la trilogía de El cuaderno de hojas blancas. José María Merino\, María del Camino Ochoa Fuertes. Salón de los Reyes del Ayto. Plza. San Marcelo. \n18:00h Fernando J. Muñez\, presenta Antes se secará la tierra. Salón de actos del Ayto. C/ Alfonso V. \n18:00h Poesía con Carlos Asensio\, que presenta Astroblema. Palacio Conde Luna. \n\n\n\n\n19:00h Andrea Longarela encuentro con sus lectores. Salón de actos del Ayto de León C/ Alfonso V. \n20:00h Luis Zueco presenta El tablero de la reina. Salón de actos del Ayto C/ Alfonso V. \nDOMINGO 7 \n12:30h Aniceto Iglesias presenta Rutas de la provincia de León. Salón de actos del Ayto. C/ Alfonso V. \n13:00h Arantza Portabales presenta su serie protagonizada por los inspectores Abad y Barroso. Salón de actos del Ayto. C/ Alfonso V. \n18:00h Miguel Ángel Mendoza presenta Deslealtades y traiciones en el Reino de León. Salón de actos del Ayto. C/ Alfonso V. \n19:00h MESA REDONDA\, Cómo afectan los grandes cambios a la sociedad y cómo reflejarlo en una novela con Santiago Blanco y Luis M. Alonso. Salón de actos del Ayto. C/ Alfonso V. \n19:30h Enrique Martínez Lombó presenta INCIPIT. El origen de los museos en Castilla y León. Salón de los Reyes del Ayto de León. Plza. San Marcelo. \n20:00h Paloma Orozco presenta ‘La hija del loto’. Salón de actos del Ayto. C/ Alfonso V. \nLUNES 8 \n18:00h Manuel Martínez firmará ejemplares de su último libro\, El gran festín. Caseta de firmas del recinto ferial Avda. Ordoño II. \n18:00h María Reig presenta Los mil nombres de la libertad. Salón de actos del Ayto. C/ Alfonso V. \n18:00h Charla La España del 1450 al 1600\, con Antonio Martínez Llamas y Teresa García Montes. Salón de los Reyes del Ayto de León. Plza. San Marcelo. \n\n\n\n\n19:00h Cuentos del gallo de oro un León de leyendas\, José Ma Merino\, Juan Pedro Aparicio y Toño Benavides charlarán en El cajón del Arte. C/ Serranos\, 8. \n19:00h Presentación de Cuentos Bilingües Leoneses II de la mano de su editor y sus invitados. Salón de actos del Ayto. C/ Alfonso V. \n20:00h Laia Redondo García presenta Como Laia Lové. Salón de actos del Ayto de León C/ Alfonso V. \nMARTES 9 \n18:00h Carlos Taranilla de la Varga firmará Iconografía del románico y la colección Grandes Museos (El Prado\, El Lovre y El Museo de Orsay). Caseta de firmas del recinto ferial Avda. Ordoño II. \n18:00h Mesa redonda: las distintas facetas de la experiencia literaria. Masticadores de León. Salón de actos del Palacio Conde Luna. \n20:00h Jesús García “el Beatle”\, presenta Medio siglo de música moderna en León\, 1950-2000. Salón de actos del Ayto. C/ Alfonso V. \nMIÉRCOLES 10 \n18:00h Eduardo Aguirre Romero firmará Entrevista con Cervantes. Caseta de firmas del recinto ferial Avda. Ordoño II. \n18:00h Hermenegildo Lopez González presenta Érase una vez un Reino… Señorío de mujeres. Salón de actos del Ayto. de León. C/ Alfonso V. \n19:00h Remedios Arias López presenta su libro La alquimia del amor. Entre fogones. Salón de actos del Ayto. C/ Alfonso V. \n20:00h Ben Clark presenta Demonios. Salón de actos del Ayto. C/ Alfonso V. Dentro del ciclo Letras en la buhardilla de Bibliotecas Municipales. \n\n\n\n\nJUEVES 11 \n18:00h Beatriz Abad Toral firmará Secretos del desván. Caseta de firmas del recinto ferial. Avda. Ordoño II. \n18:00h Evento Fundación Monteleón: Comprometidos con la música\, la literatura y la historia. Salón de los Reyes del Ayto. Plza. San Marcelo. \n19:00h José Luis Díaz Caballero presenta Cien cruces arrastradas. Salón de actos del Ayto. C/ Alfonso V. \n20:00h Isabel Robles presenta Las tinieblas de Roma. Salón de actos de Ayto. C/ Alfonso V \nVIERNES 12 \n18:00h Emilio Gancedo firmará Barrio Húmedo. Caseta de firmas del recinto ferial. Avda. Ordoño II. \n18:00h Poesía en femenino\, Lidia Fos Mi tierra\, mi piel\, Andrea García Depués de la luna sales tú y Rosa Valbuena Cribando piedras. Palacio Conde Luna. \n18:00h Literatura de viajes de Emilia Pardo Bazán: Por la España pintoresca Alejandro Valderas Alonso\, Joaquín Alegre. Salón de actos del Ayto. C/ Alfonso V. \n19:00h MESA REDONDA\, La búsqueda de respuestas y la introspección del autor/personaje en una novela de fantasía con Cristian Marina\, Alba Valero y Ángel G. Riol. Salón de los Reyes del Ayto. Plza. San Marcelo. \n19:00h Charla con Toño Benavides La forma de la palabra: Breve historia del caligrama. Salón de actos del ILC. C/ Santa Nonia\, 3. \n20:00h Julio Ceballos presenta su libro Observar el arroz crecer. Salón de actos del Ayto. C/ Alfonso V. \n\n\n\n\n20:00h Pereira cuenta… Intervienen: Antonio Gamoneda\, Juan Carlos Mestre\, Cuco Pérez y Joaquín Otero Salón de los Reyes del Ayto. Plza. San Marcelo. \nSÁBADO 13 \n12:30h Tono Sahagún presenta Refilachos pachoucos en lliunés. Salón de actos del Ayto. C/ Alfonso V. \n13:00h Víctor Coyote presenta Entresijos. Barrios\, estampitas y persons de Madrid. Salón de actos del Ayto. C/ Alfonso V. \n18:00 Rosa María Reis\, firmará Qué hacemos con el tiempo que nos queda. Caseta de firmas del re- cinto ferial Avda. Ordoño II. \n18:00 Carolina Sarmiento presenta Vrësno. Salón de ac- tos del Ayto. C/ Alfonso V. \n19:00 Evento homenaje Centenario Cultural y Deportiva Leonesa. Salón de los Reyes del Ayto. Plza. San Marcelo. \n20:00 Nieves Muñoz presenta su libro Las damas de la telaraña. Salón de Actos del Ayto. C/ Alfonso V. \n20:30 Asociación cultural Promusicantes organiza y presenta Mecenas Legionensis\, filandón con música en directo al que asistirán premiados y participan- tes en el recopilatorio fruto del primer certamen literario del mismo nombre. Recinto ferial. \nDOMINGO 14 \n12:30h Escribir en femenino\, Sofía Sanz Aquelarre Omega y Ana Santa María Filo. Hablarán de su trabajo y trayectoria. Salón de actos del Ayto. C/ Alfonso V. \n14:30h CLAUSURA DE LA FERIA. \n\n\n\n\nLEÓN EN NEGRO: CRIMEN Y MISTERIO \n\n\n\n\n10\, 11\, 12 DE MAYO\nLUGAR: SALÓN DE RENTA 4\, \nC/ ORDOÑO II\, 35 \nMIÉRCOLES\, 10\n18:30 ISABEL PEDRERO \n999 Pedazos \n19:15 ALEJANDRO M. GALLO\nLa matanza de Atocha\, 1977: caso abierto \n20:00 VICTOR DEL ÁRBOL Nadie en esta tierra \nJUEVES\, 11\n18:30 PACO SANTOS \nTrabalenguas para mudos \n19:15 ANA JULIA MARTÍNEZ Turquesas de fuego \n20:00 ROSA RIBAS Nuestros muertos \nVIERNES\, 12\n18:30 ANA MARÍA CAMPELO \nCuando el mal acecha \n19:15 ROSA VALLE Sirenas a contraluz \n20:00 JESÚS LOCAMPOS\nUn asunto muy delicado \n\n\n\n\nPROGRAMA INFANTIL  \nJUEVES 4 \n11:30h La bruja Burbuja y el karma del arte. Susana Fernández Fernández. Salón de actos del Ayto. C/ Alfonso V. \nVIERNES 5 \n10:00h Representación teatral (primer pase). Tuyo Cid. Malaje Solo. Salón de actos del Ayto. C/ Alfonso V. \n12:30h Representación teatral (segundo pase). Tuyo Cid. Malaje Solo. Salón de actos del Ayto. C/ Alfonso V. \n18:00h Presentación y charla del libro. ¡Qué vienen los zombis! David Fernández Sifres. Salón de actos del Ayto. C/ Alfonso V. \nFirma: Caseta de firmas del recinto ferial Avda. Ordoño II. \n18:00h Susana Fernández firmará La bruja Burbuja y el Karma del arte. \nSÁBADO 6 \n12:30h Cuentacuentos ¿Cocinamos un cuento?\, con Leticia Gancedo. Recinto ferial. \nFirma: Caseta de firmas del recinto ferial Avda. Ordoño II. \n18:00h Cuentacuentos Tarde de cuento con Pilar Jamón y Queso de Pilar Serrano. Recinto ferial. Firma: Caseta de firmas del recinto ferial Avda. Ordoño II. \nDOMINGO 7 \n12:30h Cuentacuentos El abrigo de los sentidos\, con Asunción Carracedo. Recinto ferial. \nFirma: Caseta de firmas del recinto ferial Avda. Ordoño II. \n\n\n\n\n18:00h Cuentacuentos Los cuentos de Nicoló\, con David Hernández Sevillano. Recinto ferial. \nFirma: Caseta de firmas del recinto ferial Avda. Ordoño II. \nLUNES 8 \n11:30h Cuentacuentos Kiwi\, con Francisco José. Salón de actos del Ayto. C/ Alfonso V. \n18:00h Cuentacuentos Cuentos\, con Gracia Iglesias. Recinto ferial. \nFirma: Caseta de firmas del recinto ferial Avda. Ordoño II. \nMARTES 9 \n11:30 h Cuentacuentos Aventuras con el hombrecillo de papel\, con Mar Bonaque. Salón de actos del Ayto. C/ Alfonso V. \n18:00 h TALLER* Teófilo y las bestias de la catedral\, con Paz Brasas Martínez. Hall Salón de actos Alfonso V. \nFirma: Caseta de firmas del recinto ferial Avda. Ordoño II. \n\n\n\n\nInscripciones en librerosleon@gmail.com nos dejas tus datos: nombre\, edad\, teléfono y en el asunto Taller Teófilo. \n\n\n\n\n18:00 h Biblioteca Pública de León presenta Cantamos\, con Luis Vallecillo. Recinto ferial. \nMIÉRCOLES 10 \n11:30 h Cuentacuentos Gloria Fuertes entre globos y cometas\, con Ángeles Rodríguez. Salón de ac- tos del Ayto. C/ Alfonso V. \n18:00 h Cuentacuentos ¿Por qué los pájaros no tienen rey?\, con David Acera. Recinto ferial. \nFasiorcmiacaió:n Caseta de firmas del recinto ferial. Av Ordoño II \n\n\n\n\nJUEVES 11 \n10:00h Primer pase: Pomporerá: Cuentecillos\, canciones y retahíla acompañadas\, con música de acordeón Roberto Mezquita. Salón de actos del Ayto. C/ Alfonso V. \n12:30h Segundo pase: Pomporerá: Cuentecillos\, canciones y retahíla acompañadas\, con música de acordeón Roberto Mezquita. Salón de actos del Ayto. C/ Alfonso V. \n17:00h TALLER*\, Tres patas y pico\, guirnalda humana\, con Julia Perez Villegas y Silvina Eduardo. Hall Salón de actos Alfonso V. \n*Inscripciones en librerosleon@gmail.com nos dejas tus datos: nombre\, edad\, teléfono y en el asunto Taller Tres patas y pico. \n18:00h Taller de Cómic* Olivia Wolf\, con José Frago- so. Hall Salón de actos Alfonso V . \nFirma: Caseta de firmas del recinto ferial Avda. Ordoño II. \n*Inscripciones en librerosleon@gmail.com nos dejas tus datos: nombre\, edad\, teléfono y en el asunto Taller Olivia. \n18:30h Cuentacuentos Un paseo por el mundo\, con Julia Perez Villegas y Silvina Eduardo. Recinto ferial. \nFirma: Caseta de firmas del recinto ferial Avda. Ordoño II. \n\n\n\n\nVIERNES 12 \n11:30h  Cuentacuentos Recordando el camino olvidado (Camino de Santiago)\, con Ana María Rodríguez. Salón de actos del Ayto. C/ Alfonso V. \n18:00h Cuentacuentos Cuentos por el camino\, con Cristina Oleby. Recinto ferial. \nFirma: Caseta de firmas del recinto ferial Avda. Ordoño II. \nSÁBADO 13 \n12:30h Cuentacuentos Déjate llevar por la imagina- ción\, con Pilar López Ávila. Recinto ferial. \n18:00h Cuentacuentos Cuentos de mi coco\, con Emma S. Varela. Recinto ferial. \n19:30h Cuentacuentos Cántame un cuento: Afinando el corazón\, con Noelia Contrisciani de la es- cuela de música Ars Nova. Recinto ferial. \nLas autoras firmarán: Caseta de firmas del recinto ferial Avda. Ordoño II. \nDOMINGO 14 \n12:30 h Cuentacuentos Cuentos de miedo que dan risa\, con Rafa Ordóñez. Recinto ferial. \nFirma: Caseta de firmas del recinto ferial Avda. Ordoño II. \n\n\n\n\n\n\n\n\n\n\n\n\n\n\n\n\n 
URL:https://leoncultural.com/evento/programa-45-feria-del-libro-de-leon-2023/
LOCATION:LEÓN\, LEON\, 24007\, España
CATEGORIES:Ferias,Miscelanea
ATTACH;FMTTYPE=image/jpeg:https://leoncultural.com/wp-content/uploads/2023/05/45-FERIA-DEL-LIBRO-DE-LEON-2023.jpg
END:VEVENT
END:VCALENDAR